BEGIN:VCALENDAR
VERSION:2.0
PRODID:-//Society of British &amp; International Interior Design - ECPv6.9.0//NONSGML v1.0//EN
CALSCALE:GREGORIAN
METHOD:PUBLISH
X-ORIGINAL-URL:https://www.sbid.org
X-WR-CALDESC:Events for Society of British &amp; International Interior Design
REFRESH-INTERVAL;VALUE=DURATION:PT1H
X-Robots-Tag:noindex
X-PUBLISHED-TTL:PT1H
BEGIN:VTIMEZONE
TZID:Europe/London
BEGIN:DAYLIGHT
TZOFFSETFROM:+0000
TZOFFSETTO:+0100
TZNAME:BST
DTSTART:20220327T010000
END:DAYLIGHT
BEGIN:STANDARD
TZOFFSETFROM:+0100
TZOFFSETTO:+0000
TZNAME:GMT
DTSTART:20221030T010000
END:STANDARD
END:VTIMEZONE
BEGIN:VEVENT
DTSTART;TZID=Europe/London:20221108T180000
DTEND;TZID=Europe/London:20221108T210000
DTSTAMP:20260420T051149
CREATED:20221103T094112Z
LAST-MODIFIED:20221103T094246Z
UID:67697-1667930400-1667941200@www.sbid.org
SUMMARY:Talk at VitrA London with Sanjit Bahra from Design Plus Light
DESCRIPTION:How does lighting design define the retail experience in an emerging world?\nHear from leading lighting designer\, Sanjit Bahra from Design Plus Light\, as he explores how lighting is instrumental in defining the new retail experience. \nThe world of retail was significantly changed as a result of the pandemic\, pushing it further into the online market. For physical retail spaces to compete successfully\, the focus needs to be on the shopping experience\, often more than the actual commodity. We live in very tumultuous times\, where people are very anxious about the space they are in and people around them. The new retail environment needs to make people feel calm and safe. People don’t walk into spaces and make intellectual judgements; they just make emotional snap-decisions. \nLighting is key in determining the human\, psychological response to a space – it is an important aspect in the ‘commerce’ of the retail experience. \nEvent Programme: \n– Arrival: 6pm \n– Talk starts: 6:30pm \n– Q&A: 7:15pm \n– Drinks & canapés: 7:30 – 8:30pm  \nRSVP to attend
URL:https://www.sbid.org/event/how-does-lighting-design-define-the-retail-experience-in-an-emerging-world-talk-with-sanjit-bahra-at-vitra/
LOCATION:VitrA London\, 64 Turnmill St\, London\, EC1M 5RR\, United Kingdom
CATEGORIES:Interior Design,Lighting
ATTACH;FMTTYPE=image/jpeg:https://www.sbid.org/wp-content/uploads/2022/11/Sanjit-Bahra.jpg
END:VEVENT
BEGIN:VEVENT
DTSTART;TZID=Europe/London:20221019T180000
DTEND;TZID=Europe/London:20221019T210000
DTSTAMP:20260420T051149
CREATED:20221007T135728Z
LAST-MODIFIED:20221007T142035Z
UID:67309-1666202400-1666213200@www.sbid.org
SUMMARY:Panel Discussion with VitrA: Colour + Space
DESCRIPTION:VitrA London invites you to join a panel of industry experts to explore the relationship between colour and space – a discussion ranging from homes to hospitality environments and beyond. \nIs colour best shouted loud or whispered quietly? Is it all about fashion? And what do colour decisions communicate about people and values? \nWednesday 19 October 2022 \n18:00 Welcome drinks \n18:30 Panel discussion \n19.00 Q&A \n19:30 Drinks reception (until 21:00) \nRSVP to attend
URL:https://www.sbid.org/event/panel-discussion-colour-space/
LOCATION:VitrA London\, 64 Turnmill St\, London\, EC1M 5RR\, United Kingdom
CATEGORIES:Interior Design
ATTACH;FMTTYPE=image/jpeg:https://www.sbid.org/wp-content/uploads/2022/10/VitrA-Plural-big.jpg
END:VEVENT
BEGIN:VEVENT
DTSTART;TZID=Europe/London:20220920T100000
DTEND;TZID=Europe/London:20220920T150000
DTSTAMP:20260420T051149
CREATED:20220901T114323Z
LAST-MODIFIED:20220908T115611Z
UID:66650-1663668000-1663686000@www.sbid.org
SUMMARY:Virtual Reality Experience Sessions with VitrA
DESCRIPTION:The VitrA London showroom will run a series of free virtual reality (VR) experience sessions. VitrA’s Virtual Worlds software transfers bathroom designs into 4-D\, enabling individuals to experience them on a whole new level. At each session\, the user will be given a VR headset to explore a fully immersive virtual bathroom space\, including turning on a virtual tap and interacting with the latest bathroom collections from VitrA. \nWhat’s more\, to coincide with the brand’s colour theme\, selected settings on Virtual Worlds have been created to provide inspiration for how to incorporate colour within the bathroom. \nRegister to attend
URL:https://www.sbid.org/event/virtual-reality-cpd-with-vitra/
LOCATION:VitrA London\, 64 Turnmill St\, London\, EC1M 5RR\, United Kingdom
CATEGORIES:CPD Events,Interior Design,KBB
ATTACH;FMTTYPE=image/jpeg:https://www.sbid.org/wp-content/uploads/2022/09/ggardner-9668.jpg
END:VEVENT
BEGIN:VEVENT
DTSTART;VALUE=DATE:20220920
DTEND;VALUE=DATE:20220924
DTSTAMP:20260420T051149
CREATED:20220901T125220Z
LAST-MODIFIED:20220914T102021Z
UID:66607-1663632000-1663977599@www.sbid.org
SUMMARY:RGB Colour Experience & Evening Drinks with VitrA
DESCRIPTION:As part of the London Design Festival and Clerkenwell Design Trail 2022\, VitrA London will host an immersive colour experience using artwork by Milan-based art and design duo\, Carnovsky. The new collaboration continues the brand’s 2022 theme of colour\, which launched globally this year. \nOn show in the VitrA Clerkenwell showroom from 20 – 23 September\, the unique artwork by Francesco Rugi and Silvia Quintanilla – professionally known as Carnovsky – experiments with the interaction between colour in print and light form. \nOn first reflection\, Carnovsky’s artwork – named RGB – is a mix of lines\, shapes and colours intertwined; yet when you superimpose red\, green and blue filters over the top\, the different layers within the art are revealed. According to Carnovsky\, RGB is about “the exploration of the surface’s deepness”\, creating “surfaces that mutate and interact with different chromatic stimuli”. \nWhat viewers experience is unexpected and disorienting\, yet mesmerising. “The idea behind RGB is that there are many different levels of meaning in things\,” says Carnovsky. “What you see for the first time may hide other meanings\, other worlds\, and what is supposed to be flat may not be.” \nRegister to attend \nTo round off Clerkenwell Design Trail 2022\, VitrA London will host an evening of drinks\, nibbles and conversations for the design industry – including architects\, designers and specifiers – on Wednesday 21 September. Free to attend\, contact to RSVP.
URL:https://www.sbid.org/event/colour-experience-with-vitra/
LOCATION:VitrA London\, 64 Turnmill St\, London\, EC1M 5RR\, United Kingdom
CATEGORIES:Design Industry
ATTACH;FMTTYPE=image/jpeg:https://www.sbid.org/wp-content/uploads/2022/09/Web-general-low-res.jpg
END:VEVENT
BEGIN:VEVENT
DTSTART;TZID=Europe/London:20220526T180000
DTEND;TZID=Europe/London:20220526T213000
DTSTAMP:20260420T051149
CREATED:20220506T103812Z
LAST-MODIFIED:20220506T133712Z
UID:62303-1653588000-1653600600@www.sbid.org
SUMMARY:Clerkenwell Design Week: Evening Drinks with VitrA
DESCRIPTION:VitrA is hosting an evening of drinks\, nibbles and conversations on Thursday 26th May to round off the 11th edition of Clerkenwell Design Week. \nChat with new and old friends and experience the award-winning VitrA London space. We look forward to seeing you there! \nRegister to attend
URL:https://www.sbid.org/event/clerkenwell-design-week-evening-drinks-with-vitra/
LOCATION:VitrA London\, 64 Turnmill St\, London\, EC1M 5RR\, United Kingdom
CATEGORIES:Design Industry,Interior Design
ATTACH;FMTTYPE=image/jpeg:https://www.sbid.org/wp-content/uploads/2022/05/CDW-Evening-Drinks-Image.jpeg
END:VEVENT
BEGIN:VEVENT
DTSTART;TZID=Europe/London:20220525T130000
DTEND;TZID=Europe/London:20220525T140000
DTSTAMP:20260420T051149
CREATED:20220506T104920Z
LAST-MODIFIED:20220510T181320Z
UID:62291-1653483600-1653487200@www.sbid.org
SUMMARY:Accredited CPD: Bathroom Sanitaryware
DESCRIPTION:During Clerkenwell Design Week VitrA will be hosting a Bathroom Sanitaryware CPD at VitrA London. The purpose of this CPD seminar is to help professionals involved in designing and specifying bathrooms on important areas of consideration. \nIt will help you to understand following topics: \n\nThe material and production process for ceramic sanitaryware\nRelevant industry standards and regulations\nInnovations and modern technologies which can assist with meeting clients’ requirements\nEnvironmental sustainability and improving the sustainable rating of a building project\n\nRegister to attend
URL:https://www.sbid.org/event/accredited-cpd-bathroom-sanitaryware-cdw/
LOCATION:VitrA London\, 64 Turnmill St\, London\, EC1M 5RR\, United Kingdom
CATEGORIES:Design Industry,Interior Design
ATTACH;FMTTYPE=image/jpeg:https://www.sbid.org/wp-content/uploads/2022/05/CPD-Promotional-Image_low-res.jpg
END:VEVENT
BEGIN:VEVENT
DTSTART;TZID=Europe/London:20220525T100000
DTEND;TZID=Europe/London:20220525T170000
DTSTAMP:20260420T051149
CREATED:20220506T103904Z
LAST-MODIFIED:20220506T133817Z
UID:62300-1653472800-1653498000@www.sbid.org
SUMMARY:Virtual Reality Bathroom Experience with VitrA
DESCRIPTION:During Clerkenwell Design Week\, VitrA will be joined by the team at Virtual Worlds to host virtual reality experience sessions at VitrA London. \nThe Virtual Worlds software transfers bathroom designs into 4D\, allowing you to experience them on a whole new level. During the drop-in sessions you’ll be shown how to use our virtual reality headset to explore a fully immersive virtual bathroom space\, including turning on a virtual tap and interacting with our bathroom furniture! \nThe theme for VitrA London this year is COLOUR\, so they’ve set up some bathroom designs on Virtual Worlds which provide inspiration for how to incorporate colour within the bathroom. \nRegister to attend
URL:https://www.sbid.org/event/virtual-reality-bathroom-experience-with-vitra-cdw/
LOCATION:VitrA London\, 64 Turnmill St\, London\, EC1M 5RR\, United Kingdom
CATEGORIES:Design Industry,Interior Design
ATTACH;FMTTYPE=image/jpeg:https://www.sbid.org/wp-content/uploads/2022/05/CDW-Virtual-Reality-Image_low-res.jpg
END:VEVENT
END:VCALENDAR