BEGIN:VCALENDAR
VERSION:2.0
PRODID:-//Society of British &amp; International Interior Design - ECPv6.9.0//NONSGML v1.0//EN
CALSCALE:GREGORIAN
METHOD:PUBLISH
X-ORIGINAL-URL:https://www.sbid.org
X-WR-CALDESC:Events for Society of British &amp; International Interior Design
REFRESH-INTERVAL;VALUE=DURATION:PT1H
X-Robots-Tag:noindex
X-PUBLISHED-TTL:PT1H
BEGIN:VTIMEZONE
TZID:Europe/London
BEGIN:DAYLIGHT
TZOFFSETFROM:+0000
TZOFFSETTO:+0100
TZNAME:BST
DTSTART:20220327T010000
END:DAYLIGHT
BEGIN:STANDARD
TZOFFSETFROM:+0100
TZOFFSETTO:+0000
TZNAME:GMT
DTSTART:20221030T010000
END:STANDARD
BEGIN:DAYLIGHT
TZOFFSETFROM:+0000
TZOFFSETTO:+0100
TZNAME:BST
DTSTART:20230326T010000
END:DAYLIGHT
BEGIN:STANDARD
TZOFFSETFROM:+0100
TZOFFSETTO:+0000
TZNAME:GMT
DTSTART:20231029T010000
END:STANDARD
BEGIN:DAYLIGHT
TZOFFSETFROM:+0000
TZOFFSETTO:+0100
TZNAME:BST
DTSTART:20240331T010000
END:DAYLIGHT
BEGIN:STANDARD
TZOFFSETFROM:+0100
TZOFFSETTO:+0000
TZNAME:GMT
DTSTART:20241027T010000
END:STANDARD
END:VTIMEZONE
BEGIN:VEVENT
DTSTART;VALUE=DATE:20240320
DTEND;VALUE=DATE:20240322
DTSTAMP:20260419T235626
CREATED:20240201T111859Z
LAST-MODIFIED:20240311T171727Z
UID:77468-1710892800-1711065599@www.sbid.org
SUMMARY:Architect@Work London
DESCRIPTION:Attend this exclusive trade event for Architects and Interior Designers!\nOn 20th and 21st March\, Architect@Work London will open its doors at the Truman Brewery. The invite-only trade event is ready to welcome the London based Architecture & Design community on both days. Discover over 200 carefully selected product innovations brought to you by a selection of high-end brands. \nSBID Members earn 2 x CPD points for attending! \nRegister to attend
URL:https://www.sbid.org/event/architectwork-london/
LOCATION:The Truman Brewery\, 91 Brick Lane\, London\, E1 6QL\, United Kingdom
CATEGORIES:Architecture,CPD Events,Interior Design
ATTACH;FMTTYPE=image/jpeg:https://www.sbid.org/wp-content/uploads/2024/02/a@w.jpg
END:VEVENT
BEGIN:VEVENT
DTSTART;VALUE=DATE:20230921
DTEND;VALUE=DATE:20230925
DTSTAMP:20260419T235626
CREATED:20230131T145936Z
LAST-MODIFIED:20230831T115546Z
UID:69046-1695254400-1695599999@www.sbid.org
SUMMARY:London Design Fair 2023
DESCRIPTION:The best in global design\, showcased in the creative heart of London\nLondon Design Festival’s leading exhibition\, London Design Fair (formerly known as Tent London) is a four-day event which brings together designers\, retail buyers\, interior designers\, architects\, and specifiers\, as well as design enthusiasts. Returning to the Truman Brewery on 21-24 September 2023\, the Fair provides an inspirational destination for established brands\, independent designers\, and international showcases. \nAn essential event for the design industry\, the 2023 edition will bring together 200 exhibitors from across the world and will feature a LDNdesign Talks Theatre\, offering four days of talks and workshops from an inspiring line-up of industry figures and designers. The programme will feature sessions curated by partners including Architonic\, Darc Magazine\, TrendBible\, Mix Interiors\, Design Council\, as well as exclusive designer talks and interactive workshops. \nSBID Members receive exclusive access to the VIP Drinks Reception! Email pr@sbid.org to redeem!\nNon-members\, click here to register now.
URL:https://www.sbid.org/event/london-design-fair-2023/
LOCATION:The Truman Brewery\, 91 Brick Lane\, London\, E1 6QL\, United Kingdom
CATEGORIES:CPD Events,Interior Design
ATTACH;FMTTYPE=image/jpeg:https://www.sbid.org/wp-content/uploads/2023/01/48909527716_f7dc424d70_k.jpg
END:VEVENT
BEGIN:VEVENT
DTSTART;VALUE=DATE:20230322
DTEND;VALUE=DATE:20230324
DTSTAMP:20260419T235626
CREATED:20230131T152731Z
LAST-MODIFIED:20230308T094134Z
UID:69085-1679443200-1679615999@www.sbid.org
SUMMARY:Architect@Work 2023 London
DESCRIPTION:ARCHITECT@WORK London is all set to return to the Truman Brewery\, right at the beating heart of the Architecture & Design Community. With over 200 carefully selected product innovations on display\, the 2023 edition is packed with inspiration. \nDuring this annual appointment\, the talks programme will focus on a very hot topic: Energy & Ecosystems. With trend-setting sessions on how architecture and interior design can actively contribute to energy saving in a creative way. \nSBID Members earn 2 x CPD Points for attending!\nRegister to attend
URL:https://www.sbid.org/event/architectwork-2023-london/
LOCATION:The Truman Brewery\, 91 Brick Lane\, London\, E1 6QL\, United Kingdom
CATEGORIES:Architecture,CPD Events,Interior Design
ATTACH;FMTTYPE=image/jpeg:https://www.sbid.org/wp-content/uploads/2023/01/4-6.jpg
END:VEVENT
BEGIN:VEVENT
DTSTART;TZID=Europe/London:20220413T130000
DTEND;TZID=Europe/London:20220414T200000
DTSTAMP:20260419T235626
CREATED:20220408T022323Z
LAST-MODIFIED:20220411T040514Z
UID:61518-1649854800-1649966400@www.sbid.org
SUMMARY:Architect@Work 2022 London
DESCRIPTION:Exclusive trade event for architects and interior designers\nARCHITECT@WORK reaches higher than ever before with lofty ambitions to explore air and architecture when it returns to its physical format at London’s Truman Brewery for its 2022 edition. \nVisitors are invited to attend and meet industry experts showing their innovations to the architecture and specifier markets\, as well as partaking in the stellar line-up of talks for which the show is known. This unique two-day trade event focuses on architectural innovation. It includes free admission for trade visitors and complimentary catering throughout. \nThe event presents over 200 product innovations\, selected by a judging panel of architects and interior designers\, showcased in a unique lay-out. Some of the interesting features include a top-notch seminar programme\, inspiring materials curation and a RIBA pop-up bookshop.  \nRegister for free
URL:https://www.sbid.org/event/architect-at-work-2022-london/
LOCATION:The Truman Brewery\, 91 Brick Lane\, London\, E1 6QL\, United Kingdom
CATEGORIES:Architecture,Business,Design Industry
ATTACH;FMTTYPE=image/jpeg:https://www.sbid.org/wp-content/uploads/2022/04/3-2-2020_11_46_10_architect-work-london-2020-hr0103.jpg
END:VEVENT
END:VCALENDAR