BEGIN:VCALENDAR
VERSION:2.0
PRODID:-//Society of British &amp; International Interior Design - ECPv6.9.0//NONSGML v1.0//EN
CALSCALE:GREGORIAN
METHOD:PUBLISH
X-WR-CALNAME:Society of British &amp; International Interior Design
X-ORIGINAL-URL:https://www.sbid.org
X-WR-CALDESC:Events for Society of British &amp; International Interior Design
REFRESH-INTERVAL;VALUE=DURATION:PT1H
X-Robots-Tag:noindex
X-PUBLISHED-TTL:PT1H
BEGIN:VTIMEZONE
TZID:Europe/London
BEGIN:DAYLIGHT
TZOFFSETFROM:+0000
TZOFFSETTO:+0100
TZNAME:BST
DTSTART:20190331T010000
END:DAYLIGHT
BEGIN:STANDARD
TZOFFSETFROM:+0100
TZOFFSETTO:+0000
TZNAME:GMT
DTSTART:20191027T010000
END:STANDARD
BEGIN:DAYLIGHT
TZOFFSETFROM:+0000
TZOFFSETTO:+0100
TZNAME:BST
DTSTART:20200329T010000
END:DAYLIGHT
BEGIN:STANDARD
TZOFFSETFROM:+0100
TZOFFSETTO:+0000
TZNAME:GMT
DTSTART:20201025T010000
END:STANDARD
END:VTIMEZONE
BEGIN:VEVENT
DTSTART;VALUE=DATE:20200312
DTEND;VALUE=DATE:20200316
DTSTAMP:20260422T215028
CREATED:20191128T152202Z
LAST-MODIFIED:20191128T152202Z
UID:44354-1583971200-1584316799@www.sbid.org
SUMMARY:Design Shanghai 2020
DESCRIPTION:Design Shanghai is one of the world’s most prestigious international design events and Asia’s premier design event. Constantly breaking new ground\, it has set a precedent in China’s ever-growing design community. Showcasing the best design brands and galleries from across the globe\, Design Shanghai provides a unique and exciting platform to network and establish long-term business relations with Asia’s top architects\, interior designers\, property developers\, retailers and private buyers. \n 
URL:https://www.sbid.org/event/design-shanghai-2020/
LOCATION:Shanghai Exhibiton Centre\, Nanjing W Rd\, NanJing XiLu\, Jingan Qu\, Shanghai Shi\, China\, 200000\, Shanghai\, 200000\, China
CATEGORIES:Design Industry,Interior Design
ATTACH;FMTTYPE=image/jpeg:https://www.sbid.org/wp-content/uploads/2018/12/Design-Shanghai-2019-images.jpg
GEO:31.2281258;121.4564865
X-APPLE-STRUCTURED-LOCATION;VALUE=URI;X-ADDRESS=Shanghai Exhibiton Centre Nanjing W Rd NanJing XiLu Jingan Qu Shanghai Shi China 200000 Shanghai 200000 China;X-APPLE-RADIUS=500;X-TITLE=Nanjing W Rd\, NanJing XiLu\, Jingan Qu\, Shanghai Shi\, China\, 200000:geo:121.4564865,31.2281258
END:VEVENT
BEGIN:VEVENT
DTSTART;VALUE=DATE:20190306
DTEND;VALUE=DATE:20190310
DTSTAMP:20260422T215028
CREATED:20181217T174841Z
LAST-MODIFIED:20181221T153724Z
UID:37246-1551830400-1552175999@www.sbid.org
SUMMARY:Design Shanghai 2019
DESCRIPTION:Design Shanghai is one of the world’s most prestigious international design events and Asia’s premier design event. Constantly breaking new ground\, it has set a precedent in China’s ever-growing design community. Showcasing the best design brands and galleries from across the globe\, Design Shanghai provides a unique and exciting platform to network and establish long-term business relations with Asia’s top architects\, interior designers\, property developers\, retailers and private buyers. \nDesign Shanghai will be returning to the stunning Shanghai Exhibition Centre from 6-9 March 2019\, celebrating its 6th anniversary with exciting new content. Set across five remarkable design halls\, Design Shanghai 2019 is set to be the biggest and best yet.
URL:https://www.sbid.org/event/37246/
LOCATION:Shanghai Exhibiton Centre\, Nanjing W Rd\, NanJing XiLu\, Jingan Qu\, Shanghai Shi\, China\, 200000\, Shanghai\, 200000\, China
CATEGORIES:Design Industry,Interior Design
ATTACH;FMTTYPE=image/jpeg:https://www.sbid.org/wp-content/uploads/2018/12/Design-Shanghai-2019-images.jpg
GEO:31.2281258;121.4564865
X-APPLE-STRUCTURED-LOCATION;VALUE=URI;X-ADDRESS=Shanghai Exhibiton Centre Nanjing W Rd NanJing XiLu Jingan Qu Shanghai Shi China 200000 Shanghai 200000 China;X-APPLE-RADIUS=500;X-TITLE=Nanjing W Rd\, NanJing XiLu\, Jingan Qu\, Shanghai Shi\, China\, 200000:geo:121.4564865,31.2281258
END:VEVENT
END:VCALENDAR