BEGIN:VCALENDAR
VERSION:2.0
PRODID:-//Society of British &amp; International Interior Design - ECPv6.9.0//NONSGML v1.0//EN
CALSCALE:GREGORIAN
METHOD:PUBLISH
X-ORIGINAL-URL:https://www.sbid.org
X-WR-CALDESC:Events for Society of British &amp; International Interior Design
REFRESH-INTERVAL;VALUE=DURATION:PT1H
X-Robots-Tag:noindex
X-PUBLISHED-TTL:PT1H
BEGIN:VTIMEZONE
TZID:Europe/London
BEGIN:DAYLIGHT
TZOFFSETFROM:+0000
TZOFFSETTO:+0100
TZNAME:BST
DTSTART:20230326T010000
END:DAYLIGHT
BEGIN:STANDARD
TZOFFSETFROM:+0100
TZOFFSETTO:+0000
TZNAME:GMT
DTSTART:20231029T010000
END:STANDARD
END:VTIMEZONE
BEGIN:VEVENT
DTSTART;VALUE=DATE:20231004
DTEND;VALUE=DATE:20231006
DTSTAMP:20260420T091025
CREATED:20230929T115050Z
LAST-MODIFIED:20231001T171520Z
UID:74638-1696377600-1696550399@www.sbid.org
SUMMARY:Kitchen design inspirations with CookingRAK for CDT
DESCRIPTION:Join RAK Ceramics during the Clerkenwell Design Trail this October!\nThose taking part in the Clerkenwell Design Trail from 4th to 5th October can see the one-of-a-kind hidden induction cooking system\, CookingRAK\, in action at the RAK Ceramics Design Hub at 100 St John Street. \nA kitchen worksurface that doubles as a cooking area\, seamlessly\, CookingRAK features an induction hob is concealed in an ultra-durable porcelain surface\, taking the kitchen from meal preparation to social space effortlessly. Also on display at the Design Hub for the duration of the Clerkenwell Design Trail are the latest RAK Ceramics surfaces\, brassware and sanitaryware. \nDrop in for inspiration and refreshments at 100 St John Street\, EC1M 4EH. \nSBID Members receive 2 x CPD points for attending! \nRegister to attend
URL:https://www.sbid.org/event/kitchen-design-inspirations-with-cookingrak-for-cdt/
LOCATION:RAK Ceramics Design Hub\, 100 St John Street\, London\, EC1M 4EH\, United Kingdom
CATEGORIES:CPD Events,KBB
ATTACH;FMTTYPE=image/jpeg:https://www.sbid.org/wp-content/uploads/2023/09/RAK-Ceramics-event-Landscape.jpg
END:VEVENT
END:VCALENDAR