BEGIN:VCALENDAR
VERSION:2.0
PRODID:-//Society of British &amp; International Interior Design - ECPv6.9.0//NONSGML v1.0//EN
CALSCALE:GREGORIAN
METHOD:PUBLISH
X-ORIGINAL-URL:https://www.sbid.org
X-WR-CALDESC:Events for Society of British &amp; International Interior Design
REFRESH-INTERVAL;VALUE=DURATION:PT1H
X-Robots-Tag:noindex
X-PUBLISHED-TTL:PT1H
BEGIN:VTIMEZONE
TZID:Europe/London
BEGIN:DAYLIGHT
TZOFFSETFROM:+0000
TZOFFSETTO:+0100
TZNAME:BST
DTSTART:20210328T010000
END:DAYLIGHT
BEGIN:STANDARD
TZOFFSETFROM:+0100
TZOFFSETTO:+0000
TZNAME:GMT
DTSTART:20211031T010000
END:STANDARD
BEGIN:DAYLIGHT
TZOFFSETFROM:+0000
TZOFFSETTO:+0100
TZNAME:BST
DTSTART:20220327T010000
END:DAYLIGHT
BEGIN:STANDARD
TZOFFSETFROM:+0100
TZOFFSETTO:+0000
TZNAME:GMT
DTSTART:20221030T010000
END:STANDARD
BEGIN:DAYLIGHT
TZOFFSETFROM:+0000
TZOFFSETTO:+0100
TZNAME:BST
DTSTART:20230326T010000
END:DAYLIGHT
BEGIN:STANDARD
TZOFFSETFROM:+0100
TZOFFSETTO:+0000
TZNAME:GMT
DTSTART:20231029T010000
END:STANDARD
END:VTIMEZONE
BEGIN:VEVENT
DTSTART;TZID=Europe/London:20231110T090000
DTEND;TZID=Europe/London:20231110T170000
DTSTAMP:20260423T071954
CREATED:20230320T180750Z
LAST-MODIFIED:20230809T084942Z
UID:70199-1699606800-1699635600@www.sbid.org
SUMMARY:SBID Meet the Buyer 2023 - Residential
DESCRIPTION:Meet and engage with the professional interior design industry \nSBID Meet the Buyer is a premium\, trade-only networking event specifically designed for the interior design industry and carefully curated to bring together high profile Interior Designers\, Architects and Specifiers with the most creative\, advanced and design-led product suppliers. \nShowcase your brand\, discuss upcoming projects and exhibit your products and solutions directly to esteemed industry buyers and decision-makers. The exclusive one-day event provides an dynamic and lucrative business environment with 20 face-to-face meetings scheduled to create\, encourage and facilitate introductions that build key relationships within the interior design profession. \nEnquire to book a place
URL:https://www.sbid.org/event/sbid-meet-the-buyer-event-2023-resi/
LOCATION:Nobu Hotel Portman Square\, 22 Portman Square\, Marylebone\, London\, W1H 7BG
CATEGORIES:Business,Interior Design
ATTACH;FMTTYPE=image/jpeg:https://www.sbid.org/wp-content/uploads/2020/12/Meet_the_Buyer_2019_070-copy.jpg
GEO:51.5161336;-0.1579796
X-APPLE-STRUCTURED-LOCATION;VALUE=URI;X-ADDRESS=Nobu Hotel Portman Square 22 Portman Square Marylebone London W1H 7BG;X-APPLE-RADIUS=500;X-TITLE=22 Portman Square\, Marylebone:geo:-0.1579796,51.5161336
END:VEVENT
BEGIN:VEVENT
DTSTART;TZID=Europe/London:20221104T090000
DTEND;TZID=Europe/London:20221104T170000
DTSTAMP:20260423T071954
CREATED:20220322T190400Z
LAST-MODIFIED:20220401T082832Z
UID:61452-1667552400-1667581200@www.sbid.org
SUMMARY:SBID Meet the Buyer 2022
DESCRIPTION:Meet and engage with the professional interior design industry \nThe SBID Meet the Buyer is an interior design networking event curated to bring together world class Interior Designers\, Architects and Specifiers with the most creative\, advanced and design-led products from around the world. Inivting SBID’s extensive network of industry professionals\, the esclusive one day annual event provides a dynamic and lucrative business environment carefully tailored to create\, encourage and facilitate synergies that build key relationships within the interior design profession. Alongside dedicated\, face-to-face meetings with interior designers and decision-makers\, the event also features a series of topical industry-specific seminars to attend throughout the day. \nSBID Members earn 10 x CPD Points for attending. \nRegister now
URL:https://www.sbid.org/event/sbid-meet-the-buyer-event/
LOCATION:Nobu Hotel Portman Square\, 22 Portman Square\, Marylebone\, London\, W1H 7BG
CATEGORIES:Business,Interior Design
ATTACH;FMTTYPE=image/jpeg:https://www.sbid.org/wp-content/uploads/2020/02/Meet_the_Buyer_2019_105-e1580824782357.jpg
GEO:51.5161336;-0.1579796
X-APPLE-STRUCTURED-LOCATION;VALUE=URI;X-ADDRESS=Nobu Hotel Portman Square 22 Portman Square Marylebone London W1H 7BG;X-APPLE-RADIUS=500;X-TITLE=22 Portman Square\, Marylebone:geo:-0.1579796,51.5161336
END:VEVENT
BEGIN:VEVENT
DTSTART;TZID=Europe/London:20211022T120000
DTEND;TZID=Europe/London:20211022T170000
DTSTAMP:20260423T071954
CREATED:20190311T120805Z
LAST-MODIFIED:20210917T082358Z
UID:38073-1634904000-1634922000@www.sbid.org
SUMMARY:SBID International Design Awards 2021
DESCRIPTION:The SBID International Design Awards has been firmly established as one of the most prestigious recognitions of design excellence in the interior design industry. Championing the exceptional interior designs\, fit-out works and innovative interior products that the industry has to offer\, the awards serve to recognise\, reward and celebrate design talent from a broad range of categories. The SBID Awards culminates in a dazzling ceremony\, brimming with the industry’s most outstanding design professionals in October to announce the prestigious SBID Awards winners. \nSBID Members receive exclusive entry benefits into the annual SBID Awards. \nClick here to find out more \n 
URL:https://www.sbid.org/event/sbid-international-design-awards-2021/
LOCATION:Nobu Hotel Portman Square\, 22 Portman Square\, Marylebone\, London\, W1H 7BG
CATEGORIES:Design Industry,Interior Design
ATTACH;FMTTYPE=image/jpeg:https://www.sbid.org/wp-content/uploads/2019/03/Awards_2019_047-e1607608782365.jpg
GEO:51.5161336;-0.1579796
X-APPLE-STRUCTURED-LOCATION;VALUE=URI;X-ADDRESS=Nobu Hotel Portman Square 22 Portman Square Marylebone London W1H 7BG;X-APPLE-RADIUS=500;X-TITLE=22 Portman Square\, Marylebone:geo:-0.1579796,51.5161336
END:VEVENT
BEGIN:VEVENT
DTSTART;TZID=Europe/London:20211020T090000
DTEND;TZID=Europe/London:20211020T170000
DTSTAMP:20260423T071954
CREATED:20201210T134328Z
LAST-MODIFIED:20210917T082305Z
UID:51556-1634720400-1634749200@www.sbid.org
SUMMARY:SBID Meet the Buyer 2021
DESCRIPTION:Meet and engage with the professional interior design industry \nThe SBID Meet the Buyer is an interior design networking event curated to bring together world class Interior Designers\, Architects and Specifiers with the most creative\, advanced and design-led products from around the world. Inivting SBID’s extensive network of industry professionals\, the esclusive one day annual event provides a dynamic and lucrative business environment carefully tailored to create\, encourage and facilitate synergies that build key relationships within the interior design profession. Alongside dedicated\, face-to-face meetings with interior designers and decision-makers\, the event also features a series of topical industry-specific seminars to attend throughout the day. \nSBID Members earn 10 x CPD Points for attending. \nRegister now
URL:https://www.sbid.org/event/sbid-meet-buyer-event-international/
LOCATION:Nobu Hotel Portman Square\, 22 Portman Square\, Marylebone\, London\, W1H 7BG
CATEGORIES:Interior Design
ATTACH;FMTTYPE=image/jpeg:https://www.sbid.org/wp-content/uploads/2020/12/Meet_the_Buyer_2019_070-copy.jpg
GEO:51.5161336;-0.1579796
X-APPLE-STRUCTURED-LOCATION;VALUE=URI;X-ADDRESS=Nobu Hotel Portman Square 22 Portman Square Marylebone London W1H 7BG;X-APPLE-RADIUS=500;X-TITLE=22 Portman Square\, Marylebone:geo:-0.1579796,51.5161336
END:VEVENT
END:VCALENDAR