BEGIN:VCALENDAR
VERSION:2.0
PRODID:-//Society of British &amp; International Interior Design - ECPv6.9.0//NONSGML v1.0//EN
CALSCALE:GREGORIAN
METHOD:PUBLISH
X-ORIGINAL-URL:https://www.sbid.org
X-WR-CALDESC:Events for Society of British &amp; International Interior Design
REFRESH-INTERVAL;VALUE=DURATION:PT1H
X-Robots-Tag:noindex
X-PUBLISHED-TTL:PT1H
BEGIN:VTIMEZONE
TZID:Europe/London
BEGIN:DAYLIGHT
TZOFFSETFROM:+0000
TZOFFSETTO:+0100
TZNAME:BST
DTSTART:20220327T010000
END:DAYLIGHT
BEGIN:STANDARD
TZOFFSETFROM:+0100
TZOFFSETTO:+0000
TZNAME:GMT
DTSTART:20221030T010000
END:STANDARD
END:VTIMEZONE
BEGIN:VEVENT
DTSTART;VALUE=DATE:20220921
DTEND;VALUE=DATE:20220925
DTSTAMP:20260420T051323
CREATED:20220504T170805Z
LAST-MODIFIED:20220610T153325Z
UID:62123-1663718400-1664063999@www.sbid.org
SUMMARY:Design London 2022
DESCRIPTION:As the largest destination for contemporary design at this year’s London Design Festival\, Design London’s inaugural event featured a highly curated selection of ​influential furniture\, lighting and contract interiors brands as well as delectable street food vendors and high-end collaborations alongside a comprehensive and diverse talks programme. The show welcomed more than 12\,000 visitors in 2021\, connecting architects\, interior designers\, specifiers and more with some of the world’s leading brands. \nHaving cemented itself as an essential platform for sourcing the latest and most innovative design pieces during London Design Festival\, Design London returns from 21-24 September 2022 in one of London’s most exciting and rapidly expanding neighbourhoods\, fuelled by creativity.  \nRegister to attend
URL:https://www.sbid.org/event/design-london/
LOCATION:Magazine London\, 11 Ordnance Cres\, London\, SE10 0JH\, United Kingdom
CATEGORIES:Design Industry,Interior Design
ATTACH;FMTTYPE=image/jpeg:https://www.sbid.org/wp-content/uploads/2022/04/Picture1-1.jpg
END:VEVENT
END:VCALENDAR