BEGIN:VCALENDAR
VERSION:2.0
PRODID:-//Society of British &amp; International Interior Design - ECPv6.9.0//NONSGML v1.0//EN
CALSCALE:GREGORIAN
METHOD:PUBLISH
X-ORIGINAL-URL:https://www.sbid.org
X-WR-CALDESC:Events for Society of British &amp; International Interior Design
REFRESH-INTERVAL;VALUE=DURATION:PT1H
X-Robots-Tag:noindex
X-PUBLISHED-TTL:PT1H
BEGIN:VTIMEZONE
TZID:Europe/London
BEGIN:DAYLIGHT
TZOFFSETFROM:+0000
TZOFFSETTO:+0100
TZNAME:BST
DTSTART:20230326T010000
END:DAYLIGHT
BEGIN:STANDARD
TZOFFSETFROM:+0100
TZOFFSETTO:+0000
TZNAME:GMT
DTSTART:20231029T010000
END:STANDARD
END:VTIMEZONE
BEGIN:VEVENT
DTSTART;TZID=Europe/London:20231012T123000
DTEND;TZID=Europe/London:20231012T140000
DTSTAMP:20260420T055604
CREATED:20231011T090011Z
LAST-MODIFIED:20231011T120547Z
UID:74969-1697113800-1697119200@www.sbid.org
SUMMARY:CPD Lunch & Learn: Material Sourcing & Management
DESCRIPTION:Discover the power of the most comprehensive platform for material searching and sample ordering\, all conveniently delivered to your doorstep in one package.\nZetta Scope Interiors invites you to a Lunch & Learn event with guest speaker\, Hani Hatami\, from Material Bank. Hani Hatami\, a renowned expert in materials and design\, will share valuable insights and expertise. \nAt this event you can stay informed about the latest trends in the world of materials\, finishes\, and design. Enjoy a light lunch and great coffee while connecting with industry professionals. The event will be held at London Chamber of Commerce and Industry\, where you will be able to visit the office and have broader networking opportunities. \nDon’t miss this exclusive opportunity to enhance your knowledge\, network with peers\, and elevate your understanding of the materials landscape in London. \nSBID Members receive 4 x CPD Points for attending!\nSpace is limited\, so be sure to secure your spot early. \nRegister to attend
URL:https://www.sbid.org/event/cpd-lunch-learn-material-sourcing-management/
LOCATION:London Chamber Of Commerce and Industry\, 33 Queen Street Place\, London\, EC4R 1AP\, United Kingdom
CATEGORIES:Interior Design
ATTACH;FMTTYPE=image/jpeg:https://www.sbid.org/wp-content/uploads/2023/10/https___cdn.evbuc_.com_images_606650959_291507286440_1_original.jpg
END:VEVENT
END:VCALENDAR