BEGIN:VCALENDAR
VERSION:2.0
PRODID:-//Society of British &amp; International Interior Design - ECPv6.9.0//NONSGML v1.0//EN
CALSCALE:GREGORIAN
METHOD:PUBLISH
X-WR-CALNAME:Society of British &amp; International Interior Design
X-ORIGINAL-URL:https://www.sbid.org
X-WR-CALDESC:Events for Society of British &amp; International Interior Design
REFRESH-INTERVAL;VALUE=DURATION:PT1H
X-Robots-Tag:noindex
X-PUBLISHED-TTL:PT1H
BEGIN:VTIMEZONE
TZID:Europe/London
BEGIN:DAYLIGHT
TZOFFSETFROM:+0000
TZOFFSETTO:+0100
TZNAME:BST
DTSTART:20220327T010000
END:DAYLIGHT
BEGIN:STANDARD
TZOFFSETFROM:+0100
TZOFFSETTO:+0000
TZNAME:GMT
DTSTART:20221030T010000
END:STANDARD
END:VTIMEZONE
BEGIN:VEVENT
DTSTART;TZID=Europe/London:20221012T093000
DTEND;TZID=Europe/London:20221012T130000
DTSTAMP:20260419T151954
CREATED:20220930T151742Z
LAST-MODIFIED:20220930T155315Z
UID:67160-1665567000-1665579600@www.sbid.org
SUMMARY:CPD Event: Mental Health Seminar by Croner
DESCRIPTION:50% of all work-related ill health in 2020/21 was work-related stress\, depression\, or anxiety. \nPacked with hints\, tips and guidance from HR experts\, this free event guarantees to equip you with essential inside knowledge in just a few short hours. Knowledge that could make a real difference to your company’s wellbeing and performance. \nLearning to adapt is key to business success\, so make sure you get it right first time. \nJoin the seminar to find out: \n– What is Mental Health? \n– Protecting the mental health of your staff \n– Signs of poor mental health \n– Managing Staff with Mental Health Issues \n– Managing Absence \n– Mental Health First Aiders \nIt’s completely free for business owners and directors and there’s no obligation to you or your business. \nPlaces are limited to 2 places per company\, registrations required. \nRegister to attend
URL:https://www.sbid.org/event/cpd-event-mental-health-seminar-by-croner/
LOCATION:London Bridge Hotel\, London Bridge Street\, London\, SE1 9SG\, United Kingdom
CATEGORIES:Business
ATTACH;FMTTYPE=image/jpeg:https://www.sbid.org/wp-content/uploads/2022/09/2-8.jpg
END:VEVENT
END:VCALENDAR