BEGIN:VCALENDAR
VERSION:2.0
PRODID:-//Society of British &amp; International Interior Design - ECPv6.9.0//NONSGML v1.0//EN
CALSCALE:GREGORIAN
METHOD:PUBLISH
X-ORIGINAL-URL:https://www.sbid.org
X-WR-CALDESC:Events for Society of British &amp; International Interior Design
REFRESH-INTERVAL;VALUE=DURATION:PT1H
X-Robots-Tag:noindex
X-PUBLISHED-TTL:PT1H
BEGIN:VTIMEZONE
TZID:Europe/London
BEGIN:DAYLIGHT
TZOFFSETFROM:+0000
TZOFFSETTO:+0100
TZNAME:BST
DTSTART:20230326T010000
END:DAYLIGHT
BEGIN:STANDARD
TZOFFSETFROM:+0100
TZOFFSETTO:+0000
TZNAME:GMT
DTSTART:20231029T010000
END:STANDARD
BEGIN:DAYLIGHT
TZOFFSETFROM:+0000
TZOFFSETTO:+0100
TZNAME:BST
DTSTART:20240331T010000
END:DAYLIGHT
BEGIN:STANDARD
TZOFFSETFROM:+0100
TZOFFSETTO:+0000
TZNAME:GMT
DTSTART:20241027T010000
END:STANDARD
END:VTIMEZONE
BEGIN:VEVENT
DTSTART;TZID=Europe/London:20240116T150000
DTEND;TZID=Europe/London:20240116T200000
DTSTAMP:20260420T015422
CREATED:20240110T171502Z
LAST-MODIFIED:20240111T122847Z
UID:76965-1705417200-1705435200@www.sbid.org
SUMMARY:Modern Woman Property and Construction
DESCRIPTION:The network to empower and enrich your career\, life and business!\nA dynamic afternoon filled with enlightening and engaging panel discussions focusing on key industry trends as well as uplifting conversations to support women in the workplace alongside networking\, a delicious sit-down dinner and drinks. \nOne of the most prominent ambassadors for the interior design industry and founder of the Society of British & International Interior Design\, Vanessa Brady OBE\, will also be featuring as a speaker at this year’s Property and Construction event. \nRegister to attend
URL:https://www.sbid.org/event/modern-woman-property-and-construction/
LOCATION:Home Grown London\, 44 Great Cumberland Place\, London\, W1H 7BS\, United Kingdom
CATEGORIES:CPD Events,Interior Design
ATTACH;FMTTYPE=image/jpeg:https://www.sbid.org/wp-content/uploads/2024/01/mw-property-event-january-2024-instagram-post-FINAL-e1704906858953.jpg
END:VEVENT
BEGIN:VEVENT
DTSTART;TZID=Europe/London:20230118T160000
DTEND;TZID=Europe/London:20230118T210000
DTSTAMP:20260420T015422
CREATED:20221221T110117Z
LAST-MODIFIED:20221223T105409Z
UID:68688-1674057600-1674075600@www.sbid.org
SUMMARY:Modern Woman Property & Construction Event
DESCRIPTION:Step into the new year with Modern Woman’s renowned Property and Construction event – an action packed afternoon with informative and captivating panel discussions\, addressing the upcoming topics of property and construction in 2023. \nThey’ll also be hosting a delicious supper club with inspiring special guest speakers\, alongside valuable networking opportunities to meet like-minded professionals (including SBID CEO\, Vanessa Brady OBE) and create relationships to grow personally and professionally. \n  \nAgenda for the event: \n– 4pm – 4:30pm Guests arrive / networking \n4:30pm – 6:15pm: Panel Discussions as follows:\n– 4:30pm – 5:15pm:  Panel 1: Commercial real estate: What is the future of the high street & the hospitality sector? Office Design for 2023\, how diversity and inclusion can be taught within our education system. \n– 5:30pm – 6:15pm: Panel 2: Residential property & sustainability: Reaching Carbon net zero (challenges around this and how the market can overcome them)\, outlook on the resi market and what leadership looks like in the C-suite for 2023. \n6:30pm – 9pm Dinner\, Guest Speaker & Networking as follows:\n– 6:30pm – 7pm: Supper guests arrive\, networking & drink on arrival \n– 7:15pm – 8pm: Delicious sit down supper alongside networking \n– 8pm – 8:45pm: Inspiring special guest speaker \n– 8:45pm – 9pm: networking & close \nRegister to attend
URL:https://www.sbid.org/event/modern-woman-property-construction-event/
LOCATION:Home Grown London\, 44 Great Cumberland Place\, London\, W1H 7BS\, United Kingdom
CATEGORIES:Business,Design Industry
ATTACH;FMTTYPE=image/jpeg:https://www.sbid.org/wp-content/uploads/2022/12/mw-property-event-january-2023-instagram-post-v3-768x768.jpg
END:VEVENT
END:VCALENDAR