BEGIN:VCALENDAR
VERSION:2.0
PRODID:-//Society of British &amp; International Interior Design - ECPv6.9.0//NONSGML v1.0//EN
CALSCALE:GREGORIAN
METHOD:PUBLISH
X-WR-CALNAME:Society of British &amp; International Interior Design
X-ORIGINAL-URL:https://www.sbid.org
X-WR-CALDESC:Events for Society of British &amp; International Interior Design
REFRESH-INTERVAL;VALUE=DURATION:PT1H
X-Robots-Tag:noindex
X-PUBLISHED-TTL:PT1H
BEGIN:VTIMEZONE
TZID:Europe/London
BEGIN:DAYLIGHT
TZOFFSETFROM:+0000
TZOFFSETTO:+0100
TZNAME:BST
DTSTART:20240331T010000
END:DAYLIGHT
BEGIN:STANDARD
TZOFFSETFROM:+0100
TZOFFSETTO:+0000
TZNAME:GMT
DTSTART:20241027T010000
END:STANDARD
END:VTIMEZONE
BEGIN:VEVENT
DTSTART;TZID=Europe/London:20240515T100000
DTEND;TZID=Europe/London:20240515T170000
DTSTAMP:20260420T030135
CREATED:20240507T091928Z
LAST-MODIFIED:20240510T095727Z
UID:79122-1715767200-1715792400@www.sbid.org
SUMMARY:French Craft Collective
DESCRIPTION:Back for its 15th anniversary edition\, French Craft Collective is an exclusive one-day event dedicated to high-end design\, curated by Business France.\nIt gives British specifiers and journalists the opportunity to discover a hand-picked selection of French craftspeople renowned for their know-how\, techniques and unique expertise. These makers are highly specialised in private residential and commercial design projects. \nSeveral world-class\, highly-skilled French artisans come together in London to showcase a glimpse of their creations\, bringing selected pieces for the trade to see. Proceedings centre around ‘Rendez-vous with the Makers’ sessions\, where specifiers can meet the artisans\, discover their crafts and discuss ideas for collaboration. \nIn addition\, a thought-provoking panel discussion featuring leading names from the design industry takes place during the day. \nA space for learning\, networking\, sharing ideas and discovering opportunities for future collaborations on design projects\, the event showcases the skills of exceptional makers working in France. \nPlease note: Event attendance is strictly by RSVP and subject to approval by Business France. \nSBID Members earn 2 x CPD Points for attending! \n+ receive exclusive access to an invitation-only panel discussion (subject to availability). Email pr@sbid.org to redeem! \nRSVP to attend
URL:https://www.sbid.org/event/french-craft-collective/
LOCATION:French Residence\, 11 Kensington Palace Gardens\, London\, W8 4QP\, United Kingdom
CATEGORIES:CPD Events,Interior Design
ATTACH;FMTTYPE=image/jpeg:https://www.sbid.org/wp-content/uploads/2024/05/french-craft-collective.jpg
END:VEVENT
END:VCALENDAR