BEGIN:VCALENDAR
VERSION:2.0
PRODID:-//Society of British &amp; International Interior Design - ECPv6.9.0//NONSGML v1.0//EN
CALSCALE:GREGORIAN
METHOD:PUBLISH
X-ORIGINAL-URL:https://www.sbid.org
X-WR-CALDESC:Events for Society of British &amp; International Interior Design
REFRESH-INTERVAL;VALUE=DURATION:PT1H
X-Robots-Tag:noindex
X-PUBLISHED-TTL:PT1H
BEGIN:VTIMEZONE
TZID:Europe/London
BEGIN:DAYLIGHT
TZOFFSETFROM:+0000
TZOFFSETTO:+0100
TZNAME:BST
DTSTART:20190331T010000
END:DAYLIGHT
BEGIN:STANDARD
TZOFFSETFROM:+0100
TZOFFSETTO:+0000
TZNAME:GMT
DTSTART:20191027T010000
END:STANDARD
BEGIN:DAYLIGHT
TZOFFSETFROM:+0000
TZOFFSETTO:+0100
TZNAME:BST
DTSTART:20200329T010000
END:DAYLIGHT
BEGIN:STANDARD
TZOFFSETFROM:+0100
TZOFFSETTO:+0000
TZNAME:GMT
DTSTART:20201025T010000
END:STANDARD
BEGIN:DAYLIGHT
TZOFFSETFROM:+0000
TZOFFSETTO:+0100
TZNAME:BST
DTSTART:20210328T010000
END:DAYLIGHT
BEGIN:STANDARD
TZOFFSETFROM:+0100
TZOFFSETTO:+0000
TZNAME:GMT
DTSTART:20211031T010000
END:STANDARD
BEGIN:DAYLIGHT
TZOFFSETFROM:+0000
TZOFFSETTO:+0100
TZNAME:BST
DTSTART:20220327T010000
END:DAYLIGHT
BEGIN:STANDARD
TZOFFSETFROM:+0100
TZOFFSETTO:+0000
TZNAME:GMT
DTSTART:20221030T010000
END:STANDARD
BEGIN:DAYLIGHT
TZOFFSETFROM:+0000
TZOFFSETTO:+0100
TZNAME:BST
DTSTART:20230326T010000
END:DAYLIGHT
BEGIN:STANDARD
TZOFFSETFROM:+0100
TZOFFSETTO:+0000
TZNAME:GMT
DTSTART:20231029T010000
END:STANDARD
BEGIN:DAYLIGHT
TZOFFSETFROM:+0000
TZOFFSETTO:+0100
TZNAME:BST
DTSTART:20240331T010000
END:DAYLIGHT
BEGIN:STANDARD
TZOFFSETFROM:+0100
TZOFFSETTO:+0000
TZNAME:GMT
DTSTART:20241027T010000
END:STANDARD
BEGIN:DAYLIGHT
TZOFFSETFROM:+0000
TZOFFSETTO:+0100
TZNAME:BST
DTSTART:20250330T010000
END:DAYLIGHT
BEGIN:STANDARD
TZOFFSETFROM:+0100
TZOFFSETTO:+0000
TZNAME:GMT
DTSTART:20251026T010000
END:STANDARD
BEGIN:DAYLIGHT
TZOFFSETFROM:+0000
TZOFFSETTO:+0100
TZNAME:BST
DTSTART:20260329T010000
END:DAYLIGHT
BEGIN:STANDARD
TZOFFSETFROM:+0100
TZOFFSETTO:+0000
TZNAME:GMT
DTSTART:20261025T010000
END:STANDARD
END:VTIMEZONE
BEGIN:VEVENT
DTSTART;VALUE=DATE:20260309
DTEND;VALUE=DATE:20260314
DTSTAMP:20260419T235750
CREATED:20260127T152514Z
LAST-MODIFIED:20260127T152514Z
UID:90063-1773014400-1773446399@www.sbid.org
SUMMARY:London Design Week 2026
DESCRIPTION:Stay competitive and connected with a curated programme that includes the acclaimed Conversations in Design main stage talks series and Grow Your Business sessions!\nDiscover new-season launches from 135+ showrooms and 30+ pop-up House Guests\, and immerse yourself in inspiration\, knowledge and creativity via an outstanding programme of events. \nBe inspired by new collection launches from names you won’t find anywhere else\, with big international brands sharing the limelight with boutique ateliers. Showrooms pull out all the stops to connect and engage with thousands of visitors via a huge programme of free events\, from panel discussions to hands-on making. Pop-up House Guests add another layer of creativity to London Design Week 2026. These interior design brands have been carefully curated to complement the showroom offering. \nSBID Members earn 2 x CPD points for attending! \nRegister to attend
URL:https://www.sbid.org/event/london-design-week-2026/
LOCATION:Design Centre Chelsea Harbour\, Lots Road\, Fulham\, London\, SW10 0XE\, United Kingdom
CATEGORIES:Interior Design,Trade
ATTACH;FMTTYPE=image/jpeg:https://www.sbid.org/wp-content/uploads/2026/01/Landscape-17.jpg
GEO:51.4758933;-0.1830719
X-APPLE-STRUCTURED-LOCATION;VALUE=URI;X-ADDRESS=Design Centre Chelsea Harbour Lots Road Fulham London SW10 0XE United Kingdom;X-APPLE-RADIUS=500;X-TITLE=Lots Road\, Fulham:geo:-0.1830719,51.4758933
END:VEVENT
BEGIN:VEVENT
DTSTART;VALUE=DATE:20250915
DTEND;VALUE=DATE:20250920
DTSTAMP:20260419T235750
CREATED:20250805T074053Z
LAST-MODIFIED:20250819T123140Z
UID:87363-1757894400-1758326399@www.sbid.org
SUMMARY:Focus/25
DESCRIPTION:Focus/25 on Design is the place to discover the latest launches from a raft of leading brands that do not exhibit anywhere else in the UK!\nWith 135+ showrooms\, including new arrivals\, alongside 35+ pop-up House Guests\, the show brings together an outstanding collective. Nowhere else will you see them all under one roof. \nSharing knowledge\, making connections and viewing world-class talent ensures designers\, architects\, specifiers and enthusiasts are kept one step ahead. \nWith an unparalleled programme of inspiring events\, talks\, tours and masterclasses\, visitors can hear from the brightest minds in the business including Maria Speake\, Rachel Chudley\, Luke Edward-Hall\, Jacu Strauss and many more. \nSBID Members earn 2 x CPD points for attending! \nRegister to attend
URL:https://www.sbid.org/event/focus-25/
LOCATION:Design Centre Chelsea Harbour\, Lots Road\, Fulham\, London\, SW10 0XE\, United Kingdom
CATEGORIES:Design Industry,Interior Design,Trade
ATTACH;FMTTYPE=image/jpeg:https://www.sbid.org/wp-content/uploads/2025/08/Landscape-2.jpg
GEO:51.4758933;-0.1830719
X-APPLE-STRUCTURED-LOCATION;VALUE=URI;X-ADDRESS=Design Centre Chelsea Harbour Lots Road Fulham London SW10 0XE United Kingdom;X-APPLE-RADIUS=500;X-TITLE=Lots Road\, Fulham:geo:-0.1830719,51.4758933
END:VEVENT
BEGIN:VEVENT
DTSTART;TZID=Europe/London:20230918T160000
DTEND;TZID=Europe/London:20230918T180000
DTSTAMP:20260419T235750
CREATED:20230913T114155Z
LAST-MODIFIED:20230913T125944Z
UID:74118-1695052800-1695060000@www.sbid.org
SUMMARY:From Shells to Surfaces: An Exclusive Siminetti Event
DESCRIPTION:Discover the world of Mother of Pearl with Siminetti’s founder\, Simon Powell\nExperience a unique journey into the world of mother of pearl with Siminetti\, a new showroom at Design Centre\, Chelsea Harbour on floor four. Guided by Siminetti’s founder Simon Powell\, get an exclusive look at the stunning natural mother of pearl shells\, and understand their journey to become one of the most luxurious and sustainable surface finishes. \nSBID Members earn 2 x CPD Points for attending! \nRegister to attend
URL:https://www.sbid.org/event/from-shells-to-surfaces-an-exclusive-siminetti-event/
LOCATION:Design Centre Chelsea Harbour\, Lots Road\, Fulham\, London\, SW10 0XE\, United Kingdom
CATEGORIES:CPD Events,Interior Design,Surfaces
ATTACH;FMTTYPE=image/jpeg:https://www.sbid.org/wp-content/uploads/2023/09/siminetti-event.jpg
GEO:51.4758933;-0.1830719
X-APPLE-STRUCTURED-LOCATION;VALUE=URI;X-ADDRESS=Design Centre Chelsea Harbour Lots Road Fulham London SW10 0XE United Kingdom;X-APPLE-RADIUS=500;X-TITLE=Lots Road\, Fulham:geo:-0.1830719,51.4758933
END:VEVENT
BEGIN:VEVENT
DTSTART;TZID=Europe/London:20230517T100000
DTEND;TZID=Europe/London:20230517T120000
DTSTAMP:20260419T235750
CREATED:20230427T101551Z
LAST-MODIFIED:20230526T174339Z
UID:70986-1684317600-1684324800@www.sbid.org
SUMMARY:CPD Breakfast Meeting: Understanding Traditional Craftsmanship & Materials
DESCRIPTION:Davidson London is hosting a networking breakfast in the Design Centre\, Chelsea Harbour with an insightful CPD session that explores the traditional craftsmanship\, materials and techniques used in veneering\, lacquering\, gilding and marquetry to create high-end contemporary furniture for luxurious interiors! \nOn completion\, designers will thoroughly understand the processes behind crafting fine furniture\, as well as the benefits for clients investing in these pieces. \nThe CPD presentation begins at 11am. Click here to learn more about this CPD activity. \nSBID Members earn 4 x CPD Points for attending!  \nRegister to attend
URL:https://www.sbid.org/event/cpd-breakfast-meeting-understanding-traditional-craftsmanship-materials/
LOCATION:Design Centre Chelsea Harbour\, Lots Road\, Fulham\, London\, SW10 0XE\, United Kingdom
CATEGORIES:CPD Events,Furniture
ATTACH;FMTTYPE=image/jpeg:https://www.sbid.org/wp-content/uploads/2023/04/0-4.jpg
GEO:51.4758933;-0.1830719
X-APPLE-STRUCTURED-LOCATION;VALUE=URI;X-ADDRESS=Design Centre Chelsea Harbour Lots Road Fulham London SW10 0XE United Kingdom;X-APPLE-RADIUS=500;X-TITLE=Lots Road\, Fulham:geo:-0.1830719,51.4758933
END:VEVENT
BEGIN:VEVENT
DTSTART;TZID=Europe/London:20230314T120000
DTEND;TZID=Europe/London:20230314T140000
DTSTAMP:20260419T235750
CREATED:20230213T121406Z
LAST-MODIFIED:20230313T174706Z
UID:69497-1678795200-1678802400@www.sbid.org
SUMMARY:Design Week Networking Brunch with House of Rohl
DESCRIPTION:Networking Brunch for Designers\, previewing new bathroom collections from the House of Rohl. \nLondon Design Week is always a source of inspiration\, with 600 international brands showcasing new products\, patterns\, palettes and textures. A unique opportunity to share ideas and make new connections. \nOn Tuesday 14th March\, House of Rohl will be hosting a networking event for design professionals\, in partnership with the Society of British & International Interior Design. Drinks and a light brunch will be served at the House of Rohl showroom at the Design Centre\, Chelsea Harbour. \nIt is an informal occasion that offers designers a chance to see new bathroom collections from Perrin & Rowe and Victoria + Albert\, shown for the first time at Design Week. Shaws of Darwen will also be launching a new fireclay kitchen sink. The stunning House of Rohl showroom will provide a relaxed venue to meet peers and exchange ideas. \nLondon Design Week is the biggest design event of the season. The House of Rohl London showroom brings together a collection of luxury kitchen and bathroom brands that are recognised for their artistry and heritage. The finest products from Perrin & Rowe\, Victoria + Albert\, Shaws of Darwen and Riobel are showcased in a stylish\, contemporary space on the third floor of the North Dome. \nA Design Week event in partnership with SBID. Members earn 2 x CPD Points for attending! \nAttendance is open to all design professionals (not strictly limited to members of the SBID). \nRegistration is not essential\, but will help manage catering! \nRegister to attend
URL:https://www.sbid.org/event/design-week-networking-brunch/
LOCATION:Design Centre Chelsea Harbour\, Lots Road\, Fulham\, London\, SW10 0XE\, United Kingdom
CATEGORIES:KBB
ATTACH;FMTTYPE=image/jpeg:https://www.sbid.org/wp-content/uploads/2023/02/0.jpg
GEO:51.4758933;-0.1830719
X-APPLE-STRUCTURED-LOCATION;VALUE=URI;X-ADDRESS=Design Centre Chelsea Harbour Lots Road Fulham London SW10 0XE United Kingdom;X-APPLE-RADIUS=500;X-TITLE=Lots Road\, Fulham:geo:-0.1830719,51.4758933
END:VEVENT
BEGIN:VEVENT
DTSTART;VALUE=DATE:20230313
DTEND;VALUE=DATE:20230318
DTSTAMP:20260419T235750
CREATED:20230127T175322Z
LAST-MODIFIED:20230131T144845Z
UID:69021-1678665600-1679097599@www.sbid.org
SUMMARY:London Design Week 2023
DESCRIPTION:London Design Week 2023 is where connections are created and ideas are shared. Spring’s interiors design event will be brimming with creative ideas\, expertise and inspiration. Over five days\, this fusion of new launches and design encounters is a must on the design calendar. \nFrom meet-the-designer sessions to demonstrations and discovery tours\, 100+ events will spark your imagination and curiosity. Conversations in Design\, the renowned talks series\, offers in-depth interviews and panel discussions with star names. \nRegister to attend
URL:https://www.sbid.org/event/london-design-week-2023/
LOCATION:Design Centre Chelsea Harbour\, Lots Road\, Fulham\, London\, SW10 0XE\, United Kingdom
CATEGORIES:Interior Design
ATTACH;FMTTYPE=image/jpeg:https://www.sbid.org/wp-content/uploads/2023/01/1-6.jpg
GEO:51.4758933;-0.1830719
X-APPLE-STRUCTURED-LOCATION;VALUE=URI;X-ADDRESS=Design Centre Chelsea Harbour Lots Road Fulham London SW10 0XE United Kingdom;X-APPLE-RADIUS=500;X-TITLE=Lots Road\, Fulham:geo:-0.1830719,51.4758933
END:VEVENT
BEGIN:VEVENT
DTSTART;TZID=Europe/London:20230222T090000
DTEND;TZID=Europe/London:20230222T113000
DTSTAMP:20260419T235750
CREATED:20230110T172032Z
LAST-MODIFIED:20230202T112011Z
UID:68916-1677056400-1677065400@www.sbid.org
SUMMARY:Arteriors Breakfast Meeting: CPD Showroom Tour & 2023 Trend Preview
DESCRIPTION:Attend an exclusive Breakfast Meeting at Arteriors’ showroom in Chelsea Harbour’s Design Centre. As a global leader in furniture\, lighting\, wall décor and accessories\, Arteriors has led the way for over 35 years\, providing luxury products for residential\, commercial and hospitality projects from New York to Shanghai. \nJoin us for a tour of the showroom and speak with the team to discover new and innovative product design\, including a preview of the S23 collection. Join us and SBID members on Wednesdary\, 22 February. \nRSVP to attend
URL:https://www.sbid.org/event/arteriors-breakfast-meeting-showroom-tour-2023-trend-preview/
LOCATION:Design Centre Chelsea Harbour\, Lots Road\, Fulham\, London\, SW10 0XE\, United Kingdom
CATEGORIES:CPD Events,Furniture,Lighting
ATTACH;FMTTYPE=image/jpeg:https://www.sbid.org/wp-content/uploads/2023/01/Arteriors-Redford-Dining-Table-£6215-Sacramento-Chandelier-£3.263_low-res.jpg
GEO:51.4758933;-0.1830719
X-APPLE-STRUCTURED-LOCATION;VALUE=URI;X-ADDRESS=Design Centre Chelsea Harbour Lots Road Fulham London SW10 0XE United Kingdom;X-APPLE-RADIUS=500;X-TITLE=Lots Road\, Fulham:geo:-0.1830719,51.4758933
END:VEVENT
BEGIN:VEVENT
DTSTART;VALUE=DATE:20190310
DTEND;VALUE=DATE:20190316
DTSTAMP:20260419T235750
CREATED:20181218T154531Z
LAST-MODIFIED:20181218T154531Z
UID:37267-1552176000-1552694399@www.sbid.org
SUMMARY:London Design Week 2019
DESCRIPTION:For one week in March\, London becomes the design capital of the world as interior designers\, architects\, taste makers and magpies from across the globe flock to the capital for London Design Week 2019. \nWhether you’re an architect\, designer\, or a style-seeker with a passion for ingenuity\, you’ll love exploring the various booths and stands housed under the famous glass dome of the Design Centre\, Chelsea Harbour. \nLondon Design Week prides itself on showcasing collection launches from the best in stylish innovation\, with products ranging from fabric and furniture\, to carpet and kitchens. While the centre permanently showcases more than 500 of the design world’s most esteemed brands\, it truly comes alive during London Design Week.
URL:https://www.sbid.org/event/london-design-week-2019/
LOCATION:Design Centre Chelsea Harbour\, Lots Road\, Fulham\, London\, SW10 0XE\, United Kingdom
CATEGORIES:Design Industry,Interior Design
ATTACH;FMTTYPE=image/jpeg:https://www.sbid.org/wp-content/uploads/2018/12/2.jpg
GEO:51.4758933;-0.1830719
X-APPLE-STRUCTURED-LOCATION;VALUE=URI;X-ADDRESS=Design Centre Chelsea Harbour Lots Road Fulham London SW10 0XE United Kingdom;X-APPLE-RADIUS=500;X-TITLE=Lots Road\, Fulham:geo:-0.1830719,51.4758933
END:VEVENT
END:VCALENDAR