BEGIN:VCALENDAR
VERSION:2.0
PRODID:-//Society of British &amp; International Interior Design - ECPv6.9.0//NONSGML v1.0//EN
CALSCALE:GREGORIAN
METHOD:PUBLISH
X-ORIGINAL-URL:https://www.sbid.org
X-WR-CALDESC:Events for Society of British &amp; International Interior Design
REFRESH-INTERVAL;VALUE=DURATION:PT1H
X-Robots-Tag:noindex
X-PUBLISHED-TTL:PT1H
BEGIN:VTIMEZONE
TZID:Europe/London
BEGIN:DAYLIGHT
TZOFFSETFROM:+0000
TZOFFSETTO:+0100
TZNAME:BST
DTSTART:20180325T010000
END:DAYLIGHT
BEGIN:STANDARD
TZOFFSETFROM:+0100
TZOFFSETTO:+0000
TZNAME:GMT
DTSTART:20181028T010000
END:STANDARD
BEGIN:DAYLIGHT
TZOFFSETFROM:+0000
TZOFFSETTO:+0100
TZNAME:BST
DTSTART:20190331T010000
END:DAYLIGHT
BEGIN:STANDARD
TZOFFSETFROM:+0100
TZOFFSETTO:+0000
TZNAME:GMT
DTSTART:20191027T010000
END:STANDARD
BEGIN:DAYLIGHT
TZOFFSETFROM:+0000
TZOFFSETTO:+0100
TZNAME:BST
DTSTART:20200329T010000
END:DAYLIGHT
BEGIN:STANDARD
TZOFFSETFROM:+0100
TZOFFSETTO:+0000
TZNAME:GMT
DTSTART:20201025T010000
END:STANDARD
BEGIN:DAYLIGHT
TZOFFSETFROM:+0000
TZOFFSETTO:+0100
TZNAME:BST
DTSTART:20210328T010000
END:DAYLIGHT
BEGIN:STANDARD
TZOFFSETFROM:+0100
TZOFFSETTO:+0000
TZNAME:GMT
DTSTART:20211031T010000
END:STANDARD
BEGIN:DAYLIGHT
TZOFFSETFROM:+0000
TZOFFSETTO:+0100
TZNAME:BST
DTSTART:20220327T010000
END:DAYLIGHT
BEGIN:STANDARD
TZOFFSETFROM:+0100
TZOFFSETTO:+0000
TZNAME:GMT
DTSTART:20221030T010000
END:STANDARD
BEGIN:DAYLIGHT
TZOFFSETFROM:+0000
TZOFFSETTO:+0100
TZNAME:BST
DTSTART:20230326T010000
END:DAYLIGHT
BEGIN:STANDARD
TZOFFSETFROM:+0100
TZOFFSETTO:+0000
TZNAME:GMT
DTSTART:20231029T010000
END:STANDARD
END:VTIMEZONE
BEGIN:VEVENT
DTSTART;VALUE=DATE:20231116
DTEND;VALUE=DATE:20231118
DTSTAMP:20260419T222437
CREATED:20230131T163003Z
LAST-MODIFIED:20231005T153859Z
UID:69058-1700092800-1700265599@www.sbid.org
SUMMARY:HIX (Hotel Interiors Experience) 2023
DESCRIPTION:Hotel Interiors Experience (HIX) celebrates everything that makes hotels great!\n16 & 17 November 2023 | Business Design Centre\, London \nHIX is an annual exhibition for the hotel and hospitality supply chain. The event brings together the entire design and interiors supply chain\, including bathroom\, fabrics\, FF&E\, furniture\, lighting\, objects\, outdoor\, wellness\, surfaces\, technology and more\, with the interior designers\, architects\, specifiers\, hotel operators\, procurement and developers involved in bringing the guest experience to life. \nRegister to attend
URL:https://www.sbid.org/event/hix-hotel-interiors-experience-2023/
LOCATION:Business Design Centre\, 52 Upper Street\, London\, N1 0QH\, United Kingdom
CATEGORIES:Hospitality,Interior Design
ATTACH;FMTTYPE=image/jpeg:https://www.sbid.org/wp-content/uploads/2023/01/idWtmVnwSt90AAAAAAAAAAeQ_w480h320_c0.jpeg
GEO:51.5356255;-0.1058398
X-APPLE-STRUCTURED-LOCATION;VALUE=URI;X-ADDRESS=Business Design Centre 52 Upper Street London N1 0QH United Kingdom;X-APPLE-RADIUS=500;X-TITLE=52 Upper Street:geo:-0.1058398,51.5356255
END:VEVENT
BEGIN:VEVENT
DTSTART;VALUE=DATE:20230227
DTEND;VALUE=DATE:20230301
DTSTAMP:20260419T222437
CREATED:20210401T172811Z
LAST-MODIFIED:20230201T125635Z
UID:53952-1677456000-1677628799@www.sbid.org
SUMMARY:Workspace Design Show 2023
DESCRIPTION:Workspace Design Show brings together the entire commercial interiors community to discover and discuss tomorrow’s workspaces. Featuring an exhibition\, a strategic conference as well as numerous networking functions\, Workspace Show offers attendees the chance to explore the latest products & innovations that have been developed on the back of the disruption caused by the pandemic. \nBritish and international manufacturers of furniture\, lighting\, storage\, surfaces\, acoustics & hardware will display their new products to an audience of architects\, designers\, retailers\, contractors\, developers\, dealers\, facilities management and specifiers from corporates. \nThe conference will deliver strategic thought leadership from the key stakeholders in the Workspace industry such as Gensler\, tp bennett\, Perkins & Will\, Unispace\, Aecom\, Areen Design. \nRegister to attend
URL:https://www.sbid.org/event/workspace-show/
LOCATION:Business Design Centre\, 52 Upper Street\, London\, N1 0QH\, United Kingdom
CATEGORIES:CPD Events,Interior Design,Office
ATTACH;FMTTYPE=image/jpeg:https://www.sbid.org/wp-content/uploads/2021/04/WDS-London-22-3-768x576.jpeg
GEO:51.5356255;-0.1058398
X-APPLE-STRUCTURED-LOCATION;VALUE=URI;X-ADDRESS=Business Design Centre 52 Upper Street London N1 0QH United Kingdom;X-APPLE-RADIUS=500;X-TITLE=52 Upper Street:geo:-0.1058398,51.5356255
END:VEVENT
BEGIN:VEVENT
DTSTART;VALUE=DATE:20230207
DTEND;VALUE=DATE:20230210
DTSTAMP:20260419T222437
CREATED:20230127T120538Z
LAST-MODIFIED:20230127T120908Z
UID:69018-1675728000-1675987199@www.sbid.org
SUMMARY:Surface Design Show 2023
DESCRIPTION:For architects and designers the Surface Design Show has become an essential date in the calendar. The only event in the UK that focuses solely on interior and exterior surfaces\, the Surface Design Show is an opportunity to meet suppliers and experience innovative and exciting materials. \nThe event programme consists of main stage presentations\, new talents’ debuts\, showcase of new innovative materials and more. \nRegister to attend
URL:https://www.sbid.org/event/surface-design-show-2023/
LOCATION:Business Design Centre\, 52 Upper Street\, London\, N1 0QH\, United Kingdom
CATEGORIES:Interior Design,Surfaces
ATTACH;FMTTYPE=image/jpeg:https://www.sbid.org/wp-content/uploads/2023/01/0-1.jpg
GEO:51.5356255;-0.1058398
X-APPLE-STRUCTURED-LOCATION;VALUE=URI;X-ADDRESS=Business Design Centre 52 Upper Street London N1 0QH United Kingdom;X-APPLE-RADIUS=500;X-TITLE=52 Upper Street:geo:-0.1058398,51.5356255
END:VEVENT
BEGIN:VEVENT
DTSTART;VALUE=DATE:20220208
DTEND;VALUE=DATE:20220211
DTSTAMP:20260419T222437
CREATED:20191127T155448Z
LAST-MODIFIED:20220201T151940Z
UID:44279-1644278400-1644537599@www.sbid.org
SUMMARY:Surface Design Show 2022
DESCRIPTION:For architects and designers the Surface Design Show has become an essential date in the calendar. The only event in the UK that focuses solely on interior and exterior surfaces\, the Surface Design Show is an opportunity to meet suppliers and experience innovative and exciting materials. \nRegister here
URL:https://www.sbid.org/event/surface-design-show/
LOCATION:Business Design Centre\, 52 Upper Street\, London\, N1 0QH\, United Kingdom
CATEGORIES:Design Industry,Interior Design
ATTACH;FMTTYPE=image/jpeg:https://www.sbid.org/wp-content/uploads/2018/12/SDS-Image.jpg
GEO:51.5356255;-0.1058398
X-APPLE-STRUCTURED-LOCATION;VALUE=URI;X-ADDRESS=Business Design Centre 52 Upper Street London N1 0QH United Kingdom;X-APPLE-RADIUS=500;X-TITLE=52 Upper Street:geo:-0.1058398,51.5356255
END:VEVENT
BEGIN:VEVENT
DTSTART;VALUE=DATE:20190205
DTEND;VALUE=DATE:20190208
DTSTAMP:20260419T222437
CREATED:20181214T165542Z
LAST-MODIFIED:20181214T165841Z
UID:37221-1549324800-1549583999@www.sbid.org
SUMMARY:Surface Design Show 2019
DESCRIPTION:For architects and designers the Surface Design Show has become an essential date in the calendar. Billed as the only event in the UK that focuses solely on interior and exterior surfaces\, the Surface Design Show is an opportunity to meet suppliers and experience innovative and exciting materials. \nFor this years exhibition\, Porcelain Tiles Ltd will be showcasing their TAILOR-MADE Collection and demonstrating the versatility of porcelain as an exciting and practical surface material. \nStand 300 in the main hall\, will be outfitted with bespoke creations designed and fabricated using the latest Italian Porcelain. Developed through collaboration with some of our most respected designers\, each piece has been chosen to demonstrate the creative opportunities that our clients now enjoy.
URL:https://www.sbid.org/event/surface-design-show-2019/
LOCATION:Business Design Centre\, 52 Upper Street\, London\, N1 0QH\, United Kingdom
CATEGORIES:Design Industry,Interior Design
ATTACH;FMTTYPE=image/jpeg:https://www.sbid.org/wp-content/uploads/2018/12/SDS-Image.jpg
GEO:51.5356255;-0.1058398
X-APPLE-STRUCTURED-LOCATION;VALUE=URI;X-ADDRESS=Business Design Centre 52 Upper Street London N1 0QH United Kingdom;X-APPLE-RADIUS=500;X-TITLE=52 Upper Street:geo:-0.1058398,51.5356255
END:VEVENT
BEGIN:VEVENT
DTSTART;VALUE=DATE:20180206
DTEND;VALUE=DATE:20180209
DTSTAMP:20260419T222437
CREATED:20161014T153237Z
LAST-MODIFIED:20180103T152507Z
UID:28459-1517875200-1518134399@www.sbid.org
SUMMARY:Surface Design Show
DESCRIPTION:Located in the centre of London’s design district in Islington from 6-8 February\, Surface Design Show is a great event for architects\, interior architects\, lighting designers and designers. Over 150 exhibitors and 45 different seminars and presentations which highlight the most innovative upcoming materials for surface design. Light School and Stone Gallery are two specific product areas of the show\, whilst the Surface Design Awards recognise excellence in projects for all over the world.
URL:https://www.sbid.org/event/surfacedesignshow/
LOCATION:Business Design Centre\, 52 Upper Street\, London\, N1 0QH\, United Kingdom
CATEGORIES:Interior Design
ATTACH;FMTTYPE=image/png:https://www.sbid.org/wp-content/uploads/2016/10/Surface-Design-Show-2018.png
GEO:51.5356255;-0.1058398
X-APPLE-STRUCTURED-LOCATION;VALUE=URI;X-ADDRESS=Business Design Centre 52 Upper Street London N1 0QH United Kingdom;X-APPLE-RADIUS=500;X-TITLE=52 Upper Street:geo:-0.1058398,51.5356255
END:VEVENT
END:VCALENDAR