BEGIN:VCALENDAR
VERSION:2.0
PRODID:-//Society of British &amp; International Interior Design - ECPv6.9.0//NONSGML v1.0//EN
CALSCALE:GREGORIAN
METHOD:PUBLISH
X-ORIGINAL-URL:https://www.sbid.org
X-WR-CALDESC:Events for Society of British &amp; International Interior Design
REFRESH-INTERVAL;VALUE=DURATION:PT1H
X-Robots-Tag:noindex
X-PUBLISHED-TTL:PT1H
BEGIN:VTIMEZONE
TZID:Europe/London
BEGIN:DAYLIGHT
TZOFFSETFROM:+0000
TZOFFSETTO:+0100
TZNAME:BST
DTSTART:20240331T010000
END:DAYLIGHT
BEGIN:STANDARD
TZOFFSETFROM:+0100
TZOFFSETTO:+0000
TZNAME:GMT
DTSTART:20241027T010000
END:STANDARD
END:VTIMEZONE
BEGIN:VEVENT
DTSTART;TZID=Europe/London:20240131T120000
DTEND;TZID=Europe/London:20240131T124500
DTSTAMP:20260419T233507
CREATED:20240109T115038Z
LAST-MODIFIED:20240109T153212Z
UID:76900-1706702400-1706705100@www.sbid.org
SUMMARY:CPD Webinar: Continuous Improvement: Certifications and Sustainability
DESCRIPTION:Pedrali are committed to making contributions to the environment by continuously improving its environmental performances\nThis CPD by Pedrali presents the different ways that a system of certifications and manufacturing processes can be implemented to make contributions to the environment and sustainability. The session discusses the importance of investing in remarkable resources when it comes to the production of products for the interior industry. Click here to learn more about this CPD activity. \nSBID Members earn 4 x CPD Points for attending! \nRegister to attend
URL:https://www.sbid.org/event/continuous-improvement-certifications-and-sustainability/
LOCATION:United Kingdom
CATEGORIES:CPD Events,Sustainability
ATTACH;FMTTYPE=image/jpeg:https://www.sbid.org/wp-content/uploads/2023/12/pedrali-image.jpg
END:VEVENT
END:VCALENDAR