BEGIN:VCALENDAR
VERSION:2.0
PRODID:-//Society of British &amp; International Interior Design - ECPv6.9.0//NONSGML v1.0//EN
CALSCALE:GREGORIAN
METHOD:PUBLISH
X-ORIGINAL-URL:https://www.sbid.org
X-WR-CALDESC:Events for Society of British &amp; International Interior Design
REFRESH-INTERVAL;VALUE=DURATION:PT1H
X-Robots-Tag:noindex
X-PUBLISHED-TTL:PT1H
BEGIN:VTIMEZONE
TZID:Europe/London
BEGIN:DAYLIGHT
TZOFFSETFROM:+0000
TZOFFSETTO:+0100
TZNAME:BST
DTSTART:20230326T010000
END:DAYLIGHT
BEGIN:STANDARD
TZOFFSETFROM:+0100
TZOFFSETTO:+0000
TZNAME:GMT
DTSTART:20231029T010000
END:STANDARD
END:VTIMEZONE
BEGIN:VEVENT
DTSTART;TZID=Europe/London:20231018T100000
DTEND;TZID=Europe/London:20231018T150000
DTSTAMP:20260420T092741
CREATED:20230925T125912Z
LAST-MODIFIED:20231004T104754Z
UID:74447-1697623200-1697641200@www.sbid.org
SUMMARY:CPD Event: Bathroom Project Specifications and Sustainability
DESCRIPTION:Join GRAFF for an exciting CPD event focused on bathroom project specifications and sustainability\nDiscover the latest trends\, innovations\, and eco-friendly solutions in the world of bathroom design. Whether you’re an architect or interior designer\, this event is perfect for you if you are interested in creating sustainable and stylish bathrooms. \nLearn from industry experts\, explore cutting-edge products\, and gain valuable insights into sustainable practices that can be applied to your own projects. From water-saving fixtures to eco-friendly materials\, we’ll cover it all. \nDon’t miss out on this opportunity to network with like-minded professionals\, exchange ideas\, and stay ahead of the curve in the ever-evolving world of bathroom design. \nGRAFF invites you to join them at The Royal Institute of British Architects (RIBA). In partnership with Ripples\, they will present our “Water\, Wellness\, and Sustainability” CPD and event partner\, Geberit follow with their “Collaborative Project Specifications Fit for the Future” CPD presentation. \nAgenda:\n10am: Arrival and Introduction\n10.30am: Coffee/Tea & Biscuits\n11.00am: CPD “Collaborative Project Specifications Fit for the Future” – Presented by Lynne Clapham-Carter (Geberit)\n12.00pm: CPD “Water\, Wellness\, and Sustainability” – Presented by Delia Lakwera (GRAFF)\n12.45pm: Lunch\n1.30pm: Networking & Teas/Coffees and biscuits + thank you gift!\n3.00pm: End of event \nSBID members earn 8 x CPD points for attending! \nRegister to attend
URL:https://www.sbid.org/event/cpd-event-bathroom-project-specifications-and-sustainability/
LOCATION:The Royal Institute of British Architects\, 66 Portland Place\, London\, W1B 1NR\, United Kingdom
CATEGORIES:CPD Events,KBB,Sustainability
ATTACH;FMTTYPE=image/jpeg:https://www.sbid.org/wp-content/uploads/2023/09/graff-landscape.jpg
END:VEVENT
END:VCALENDAR