BEGIN:VCALENDAR
VERSION:2.0
PRODID:-//Society of British &amp; International Interior Design - ECPv6.9.0//NONSGML v1.0//EN
CALSCALE:GREGORIAN
METHOD:PUBLISH
X-ORIGINAL-URL:https://www.sbid.org
X-WR-CALDESC:Events for Society of British &amp; International Interior Design
REFRESH-INTERVAL;VALUE=DURATION:PT1H
X-Robots-Tag:noindex
X-PUBLISHED-TTL:PT1H
BEGIN:VTIMEZONE
TZID:Europe/London
BEGIN:DAYLIGHT
TZOFFSETFROM:+0000
TZOFFSETTO:+0100
TZNAME:BST
DTSTART:20180325T010000
END:DAYLIGHT
BEGIN:STANDARD
TZOFFSETFROM:+0100
TZOFFSETTO:+0000
TZNAME:GMT
DTSTART:20181028T010000
END:STANDARD
BEGIN:DAYLIGHT
TZOFFSETFROM:+0000
TZOFFSETTO:+0100
TZNAME:BST
DTSTART:20190331T010000
END:DAYLIGHT
BEGIN:STANDARD
TZOFFSETFROM:+0100
TZOFFSETTO:+0000
TZNAME:GMT
DTSTART:20191027T010000
END:STANDARD
BEGIN:DAYLIGHT
TZOFFSETFROM:+0000
TZOFFSETTO:+0100
TZNAME:BST
DTSTART:20200329T010000
END:DAYLIGHT
BEGIN:STANDARD
TZOFFSETFROM:+0100
TZOFFSETTO:+0000
TZNAME:GMT
DTSTART:20201025T010000
END:STANDARD
BEGIN:DAYLIGHT
TZOFFSETFROM:+0000
TZOFFSETTO:+0100
TZNAME:BST
DTSTART:20210328T010000
END:DAYLIGHT
BEGIN:STANDARD
TZOFFSETFROM:+0100
TZOFFSETTO:+0000
TZNAME:GMT
DTSTART:20211031T010000
END:STANDARD
BEGIN:DAYLIGHT
TZOFFSETFROM:+0000
TZOFFSETTO:+0100
TZNAME:BST
DTSTART:20220327T010000
END:DAYLIGHT
BEGIN:STANDARD
TZOFFSETFROM:+0100
TZOFFSETTO:+0000
TZNAME:GMT
DTSTART:20221030T010000
END:STANDARD
BEGIN:DAYLIGHT
TZOFFSETFROM:+0000
TZOFFSETTO:+0100
TZNAME:BST
DTSTART:20230326T010000
END:DAYLIGHT
BEGIN:STANDARD
TZOFFSETFROM:+0100
TZOFFSETTO:+0000
TZNAME:GMT
DTSTART:20231029T010000
END:STANDARD
BEGIN:DAYLIGHT
TZOFFSETFROM:+0000
TZOFFSETTO:+0100
TZNAME:BST
DTSTART:20240331T010000
END:DAYLIGHT
BEGIN:STANDARD
TZOFFSETFROM:+0100
TZOFFSETTO:+0000
TZNAME:GMT
DTSTART:20241027T010000
END:STANDARD
BEGIN:DAYLIGHT
TZOFFSETFROM:+0000
TZOFFSETTO:+0100
TZNAME:BST
DTSTART:20250330T010000
END:DAYLIGHT
BEGIN:STANDARD
TZOFFSETFROM:+0100
TZOFFSETTO:+0000
TZNAME:GMT
DTSTART:20251026T010000
END:STANDARD
END:VTIMEZONE
BEGIN:VEVENT
DTSTART;VALUE=DATE:20250913
DTEND;VALUE=DATE:20250922
DTSTAMP:20260420T071849
CREATED:20250804T124955Z
LAST-MODIFIED:20250804T125100Z
UID:87354-1757721600-1758499199@www.sbid.org
SUMMARY:London Design Festival 2025
DESCRIPTION:London Design Festival continues its tradition of celebrating creativity\, innovation and the power of design to shape our world!\nAs one of the world’s premier design events\, the Festival showcases the diversity and dynamism of the global design community while highlighting London’s pivotal role as a hub of creativity. This year’s Festival reinforces London’s position as the global design capital while exploring the transformative power of design in addressing our most pressing contemporary challenges. \nLearn more
URL:https://www.sbid.org/event/london-design-festival-2025/
LOCATION:London Design Festival\, London\, United Kingdom
CATEGORIES:Design Industry,Interior Design
ATTACH;FMTTYPE=image/jpeg:https://www.sbid.org/wp-content/uploads/2024/08/SBID-Landscape-4.jpg
GEO:51.5073509;-0.1277583
END:VEVENT
BEGIN:VEVENT
DTSTART;VALUE=DATE:20240914
DTEND;VALUE=DATE:20240923
DTSTAMP:20260420T071849
CREATED:20240812T135601Z
LAST-MODIFIED:20240812T135954Z
UID:80881-1726272000-1727049599@www.sbid.org
SUMMARY:London Design Festival 2024
DESCRIPTION:London Design Festival continues its tradition of celebrating creativity\, innovation and the power of design to shape our world!\nAs one of the world’s premier design events\, the Festival showcases the diversity and dynamism of the global design community while highlighting London’s pivotal role as a hub of creativity. This year’s Festival promises to be a beacon of inspiration\, bringing together leading designers\, architects\, brands and innovators to explore the transformative potential of design in addressing societal challenges and enriching our everyday lives. \nLearn more
URL:https://www.sbid.org/event/london-design-festival-2024/
LOCATION:London Design Festival\, London\, United Kingdom
CATEGORIES:Design Industry,Interior Design
ATTACH;FMTTYPE=image/jpeg:https://www.sbid.org/wp-content/uploads/2024/08/SBID-Landscape-4.jpg
GEO:51.5073509;-0.1277583
END:VEVENT
BEGIN:VEVENT
DTSTART;VALUE=DATE:20230916
DTEND;VALUE=DATE:20230925
DTSTAMP:20260420T071849
CREATED:20230131T161326Z
LAST-MODIFIED:20230131T161333Z
UID:69043-1694822400-1695599999@www.sbid.org
SUMMARY:London Design Festival 2023
DESCRIPTION:London Design Festival is an annual event held to celebrate and promote London as the design capital of the world and as the gateway to the international creative community. \nLondon Design Festival Director\, Ben Evans CBE says “London and Design go hand in hand. It is part of our story. London Design Festival is a platform for hundreds of design stories to be told. Each of them talks to an expanding audience hungry for design ideas and enjoying the quality and diversity of what’s on offer. It all confirms London’s status as the global centre of design.” \nRegister to attend
URL:https://www.sbid.org/event/london-design-festival-2023/
LOCATION:London Design Festival\, London\, United Kingdom
CATEGORIES:Design Industry,Interior Design
ATTACH;FMTTYPE=image/jpeg:https://www.sbid.org/wp-content/uploads/2023/01/Web-capture_17-1-2023_155216_londondesignfestival.com_.jpeg
GEO:51.5073509;-0.1277583
END:VEVENT
BEGIN:VEVENT
DTSTART;VALUE=DATE:20220917
DTEND;VALUE=DATE:20220926
DTSTAMP:20260420T071849
CREATED:20220504T171248Z
LAST-MODIFIED:20220816T111653Z
UID:62100-1663372800-1664150399@www.sbid.org
SUMMARY:London Design Festival 2022
DESCRIPTION:London Design Festival is an annual event held to celebrate and promote London as the design capital of the world and as the gateway to the international creative community. \nLondon Design Festival Director\, Ben Evans CBE says “London and Design go hand in hand. It is part of our story. London Design Festival is a platform for hundreds of design stories to be told. Each of them talks to an expanding audience hungry for design ideas and enjoying the quality and diversity of what’s on offer. It all confirms London’s status as the global centre of design.” \nRegister to attend
URL:https://www.sbid.org/event/london-design-festival/
LOCATION:London Design Festival\, London\, United Kingdom
CATEGORIES:Design Industry,Interior Design
ATTACH;FMTTYPE=image/jpeg:https://www.sbid.org/wp-content/uploads/2022/04/LDF.jpg
GEO:51.5073509;-0.1277583
END:VEVENT
BEGIN:VEVENT
DTSTART;VALUE=DATE:20180915
DTEND;VALUE=DATE:20180924
DTSTAMP:20260420T071849
CREATED:20160803T084353Z
LAST-MODIFIED:20220504T171236Z
UID:23382-1536969600-1537747199@www.sbid.org
SUMMARY:London Design Festival
DESCRIPTION:The London Design Festival\, which runs from 15 – 23 September\, is one of the world’s most important annual design events\, held to celebrate and promote London as the design capital of the world. The Festival programme is made up of over 400 events and exhibitions staged by Partner organisations across the design spectrum and from all over the world\, which will be taking place across key London destinations.
URL:https://www.sbid.org/event/london-design-festival-2018/
LOCATION:London Design Festival\, London\, United Kingdom
CATEGORIES:Interior Design
ATTACH;FMTTYPE=image/jpeg:https://www.sbid.org/wp-content/uploads/2016/08/london-design-festival-2.jpg
GEO:51.5073509;-0.1277583
END:VEVENT
END:VCALENDAR