BEGIN:VCALENDAR
VERSION:2.0
PRODID:-//Society of British &amp; International Interior Design - ECPv6.9.0//NONSGML v1.0//EN
CALSCALE:GREGORIAN
METHOD:PUBLISH
X-WR-CALNAME:Society of British &amp; International Interior Design
X-ORIGINAL-URL:https://www.sbid.org
X-WR-CALDESC:Events for Society of British &amp; International Interior Design
REFRESH-INTERVAL;VALUE=DURATION:PT1H
X-Robots-Tag:noindex
X-PUBLISHED-TTL:PT1H
BEGIN:VTIMEZONE
TZID:Europe/London
BEGIN:DAYLIGHT
TZOFFSETFROM:+0000
TZOFFSETTO:+0100
TZNAME:BST
DTSTART:20230326T010000
END:DAYLIGHT
BEGIN:STANDARD
TZOFFSETFROM:+0100
TZOFFSETTO:+0000
TZNAME:GMT
DTSTART:20231029T010000
END:STANDARD
BEGIN:DAYLIGHT
TZOFFSETFROM:+0000
TZOFFSETTO:+0100
TZNAME:BST
DTSTART:20240331T010000
END:DAYLIGHT
BEGIN:STANDARD
TZOFFSETFROM:+0100
TZOFFSETTO:+0000
TZNAME:GMT
DTSTART:20241027T010000
END:STANDARD
BEGIN:DAYLIGHT
TZOFFSETFROM:+0000
TZOFFSETTO:+0100
TZNAME:BST
DTSTART:20250330T010000
END:DAYLIGHT
BEGIN:STANDARD
TZOFFSETFROM:+0100
TZOFFSETTO:+0000
TZNAME:GMT
DTSTART:20251026T010000
END:STANDARD
END:VTIMEZONE
BEGIN:VEVENT
DTSTART;TZID=Europe/London:20251113T173000
DTEND;TZID=Europe/London:20251113T203000
DTSTAMP:20260422T094942
CREATED:20251029T150944Z
LAST-MODIFIED:20251029T151116Z
UID:88558-1763055000-1763065800@www.sbid.org
SUMMARY:Grand Opening of West One Bathrooms Cobham Showroom
DESCRIPTION:West One Bathrooms invites you to attend the grand opening of their new Cobham Showroom!\nJoin for a lively evening of Italian Sparkling Wine\, Gin & Tonics\, and delicious fresh pasta from the renowned restaurant\, Grappelli. \nSBID Members earn 2 x CPD points for attending! \nRSVP to attend
URL:https://www.sbid.org/event/grand-opening-of-west-one-bathrooms-cobham-showroom/
LOCATION:West One Bathrooms Cobham\, 37 High Street\, Cobham\, KT11 3DP\, United Kingdom
CATEGORIES:KBB
ATTACH;FMTTYPE=image/jpeg:https://www.sbid.org/wp-content/uploads/2025/10/Landscape-6.jpg
END:VEVENT
BEGIN:VEVENT
DTSTART;TZID=Europe/London:20250311T123000
DTEND;TZID=Europe/London:20250311T131500
DTSTAMP:20260422T094942
CREATED:20250228T101423Z
LAST-MODIFIED:20250228T153522Z
UID:84156-1741696200-1741698900@www.sbid.org
SUMMARY:Introducing AQUABOUT Wet System™: The New Era of Waterproof Wallpaper
DESCRIPTION:Join Gianluca\, Wall&Deco\, and Louise\, West One Bathrooms\, for an exclusive discussion on the UK launch of AQUABOUT!\nDiscover how this innovative wallpaper transforms bathroom design\, redefining wallcoverings with water-resistant technology. Gain insights into the fusion of style and functionality\, pushing the boundaries of interior design. \nSBID Members earn 2 x CPD points for attending! \nRSVP to attend
URL:https://www.sbid.org/event/introducing-aquabout-wet-system-the-new-era-of-waterproof-wallpaper/
LOCATION:West One Bathrooms\, 201 Design Centre East\, Chelsea Harbour\, London\, SW10 0XF\, United Kingdom
CATEGORIES:CPD Events,Design Industry,KBB
ATTACH;FMTTYPE=image/jpeg:https://www.sbid.org/wp-content/uploads/2025/02/5-11.jpg
END:VEVENT
BEGIN:VEVENT
DTSTART;TZID=Europe/London:20240522T190000
DTEND;TZID=Europe/London:20240522T190000
DTSTAMP:20260422T094942
CREATED:20240418T101202Z
LAST-MODIFIED:20240507T112631Z
UID:78919-1716404400-1716404400@www.sbid.org
SUMMARY:Dornbracht x West One Bathrooms CDW Social Takeover
DESCRIPTION:Dornbracht & West One Bathrooms host the CDW Social Takeover\nJoin us for a great evening with food\, drink\, and music during Clerkenwell Design Week on Wednesday 22 May! Network with your fellow design industry professionals\, discover exciting insights into Dornbracht’s newest products and preview their latest innovations. \nSBID Members earn 2 x CPD points for attending! \nRSVP to attend
URL:https://www.sbid.org/event/dornbracht-x-west-one-bathrooms-cdw-social-takeover/
LOCATION:Clerkenwell & Social\, 2-5 St John’s Square (first floor)\, London\, EC1M 4DE\, United Kingdom
CATEGORIES:CPD Events
ATTACH;FMTTYPE=image/jpeg:https://www.sbid.org/wp-content/uploads/2024/04/dornbracht-cdw.jpg
END:VEVENT
BEGIN:VEVENT
DTSTART;TZID=Europe/London:20240423T180000
DTEND;TZID=Europe/London:20240423T200000
DTSTAMP:20260422T094942
CREATED:20240403T151151Z
LAST-MODIFIED:20240411T091646Z
UID:78692-1713895200-1713902400@www.sbid.org
SUMMARY:Product Launch Event: Follow Your Bliss
DESCRIPTION:Exclusive Dornbracht Launch at West One Bathrooms \nJoin Dornbracht at West One Bathrooms’ Battersea showroom for an evening of champagne and canapés (other drinks will be available) to experience the unveiling of Dornbracht’s newest shower innovation which is launching for the first time in the UK! Enjoy this exclusive product preview and network with professional peers in the design community! \nSBID Members earn 2 x CPD points for attending! \nRSVP now
URL:https://www.sbid.org/event/product-launch-event-follow-your-bliss/
LOCATION:West One Bathrooms Battersea\, 41 Queenstown Road\, London\, SW8 3RE\, United Kingdom
CATEGORIES:CPD Events,KBB
ATTACH;FMTTYPE=image/jpeg:https://www.sbid.org/wp-content/uploads/2024/04/dornbracht-event.jpg
END:VEVENT
BEGIN:VEVENT
DTSTART;TZID=Europe/London:20230919T123000
DTEND;TZID=Europe/London:20230919T143000
DTSTAMP:20260422T094942
CREATED:20230913T093911Z
LAST-MODIFIED:20230914T130927Z
UID:74103-1695126600-1695133800@www.sbid.org
SUMMARY:How to Encourage Clients to Make the Right Choices for a Greener Home
DESCRIPTION:Join West One Bathrooms for an exclusive panel discussion\nAs an interior designer\, influencing clients to make more conscious choices doesn’t have to mean a compromise in style. Focusing on both aesthetic and function\, subliminal changes can encourage positive lifestyle shifts. And\, these inherent design selections are being made easier thanks to new innovation and technology from brands within the sector. In this conversation we discuss some of the solutions which are readily available and how small changes can add up to make a bigger difference. \nPanellists:\n• Roddy Clarke\, Journalist (Chair)\n• Jules Haines\, Founder and Director of Haines Collection\n• Simone Suss\, Founder and Director of Studio Suss\n• Roberto Martinez\, Member of the Executive Board at Kaldewei \nSBID Members earn 1 x CPD Point for attending! \nRSVP to attend
URL:https://www.sbid.org/event/how-to-encourage-clients-to-make-the-right-choices-for-a-greener-home/
LOCATION:West One Bathrooms\, 201 Design Centre East\, Chelsea Harbour\, London\, SW10 0XF\, United Kingdom
CATEGORIES:CPD Events,Interior Design,Sustainability
ATTACH;FMTTYPE=image/jpeg:https://www.sbid.org/wp-content/uploads/2023/09/West-One-Bathrooms-1-e1694697040485.jpg
END:VEVENT
END:VCALENDAR