BEGIN:VCALENDAR
VERSION:2.0
PRODID:-//Society of British &amp; International Interior Design - ECPv6.9.0//NONSGML v1.0//EN
CALSCALE:GREGORIAN
METHOD:PUBLISH
X-WR-CALNAME:Society of British &amp; International Interior Design
X-ORIGINAL-URL:https://www.sbid.org
X-WR-CALDESC:Events for Society of British &amp; International Interior Design
REFRESH-INTERVAL;VALUE=DURATION:PT1H
X-Robots-Tag:noindex
X-PUBLISHED-TTL:PT1H
BEGIN:VTIMEZONE
TZID:Europe/London
BEGIN:DAYLIGHT
TZOFFSETFROM:+0000
TZOFFSETTO:+0100
TZNAME:BST
DTSTART:20240331T010000
END:DAYLIGHT
BEGIN:STANDARD
TZOFFSETFROM:+0100
TZOFFSETTO:+0000
TZNAME:GMT
DTSTART:20241027T010000
END:STANDARD
BEGIN:DAYLIGHT
TZOFFSETFROM:+0000
TZOFFSETTO:+0100
TZNAME:BST
DTSTART:20250330T010000
END:DAYLIGHT
BEGIN:STANDARD
TZOFFSETFROM:+0100
TZOFFSETTO:+0000
TZNAME:GMT
DTSTART:20251026T010000
END:STANDARD
END:VTIMEZONE
BEGIN:VEVENT
DTSTART;VALUE=DATE:20250910
DTEND;VALUE=DATE:20250919
DTSTAMP:20260420T015231
CREATED:20250827T120118Z
LAST-MODIFIED:20250901T082344Z
UID:87707-1757462400-1758239999@www.sbid.org
SUMMARY:Wellness Meets Design: Preview of Technogym's Artis Luxury Line & Personal Tools
DESCRIPTION:As part of London Design Festival\, Technogym presents an exclusive showcase where high-performance wellness meets contemporary design!\nVisit the Technogym London Boutique in Mayfair to discover the new Artis Luxury Line and Personal Tools — crafted for those who demand exceptional performance\, sustainable innovation\, and timeless style. \nThe Artis Luxury Line reimagines Technogym’s most advanced cardio\, strength\, and Biostrength equipment in a refined Sandstone finish inspired by the beauty of nature. Paired with the Personal Tools Luxury Kit — sleek dumbbells\, kettlebells\, racks\, and storage made from FSC-certified wood and recycled components — this collection proves that sports equipment can be both high-performing and a statement piece in luxury homes\, yachts\, and hospitality spaces. \nVisit Technogym London Boutique during London Design Festival week to explore the collection in person. \nOpening Times:\n– 10 Sept: 10am – 7pm\n– 11 Sept: 10am – 7pm\n– 12 Sept: 10am – 7pm\n– 13 Sept: 10am – 7pm\n– 14 Sept: 12pm – 5pm\n– 15 Sept: 10am – 7pm\n– 16 Sept: 10am – 7pm\n– 17 Sept: 10am – 7pm\n– 18 Sept: 10am – 7pm \nSBID Members earn 2 x CPD points for attending! \nRegister Your Interest
URL:https://www.sbid.org/event/wellness-meets-design-preview-of-technogyms-artis-luxury-line-personal-tools/
LOCATION:Technogym\, 71 Piccadilly\, Mayfair\, London\, W1J 8HS\, United Kingdom
CATEGORIES:Design Industry,Interior Design,Trade,Wellbeing
ATTACH;FMTTYPE=image/jpeg:https://www.sbid.org/wp-content/uploads/2025/08/Landscape-11.jpg
END:VEVENT
BEGIN:VEVENT
DTSTART;TZID=Europe/London:20250605T100000
DTEND;TZID=Europe/London:20250605T120000
DTSTAMP:20260420T015231
CREATED:20250527T105344Z
LAST-MODIFIED:20250527T105344Z
UID:86436-1749117600-1749124800@www.sbid.org
SUMMARY:Designing for Wellbeing: Creating Home Gyms that Inspire Health and Harmony
DESCRIPTION:Join for a conversation on designing home gyms that promote balance and wellbeing with interior design and wellness experts!\nThe wellness-at-home movement has reshaped how interior designers create the spaces we live in\, particularly with the rise of the home gym — not just a space for fitness\, but a carefully considered environment that nurtures both body and mind. \nCome to Louise Bradley Showroom for a panel discussion in collaboration with Technogym\, where they’ll explore how to design home gyms that go beyond fitness — creating spaces that inspire\, calm\, and promote balance and wellbeing. \nTheir expert panel will delve into the evolving language of wellness-led design — exploring how spatial planning\, flow\, lighting\, acoustics\, materials\, technology\, and sensory elements can be thoughtfully integrated to create environments that support both physical health and mental wellbeing\, fostering a sense of balance\, motivation\, and tranquility within the home. \nPanelists:\n– Louise Bradley – Louise Bradley\n– Helen Bygraves – Hill House Interiors\n– Rebecca Lazar – Technogym\n– Moderated by Travel & Interiors consultant and writer Noni Ware \nSBID Members earn 2 x CPD points for attending! \nRegister to attend
URL:https://www.sbid.org/event/designing-for-wellbeing-creating-home-gyms-that-inspire-health-and-harmony/
LOCATION:Louise Bradley\, Kimbolton Court\, 117b Fulham Road\, London\, SW3 6RL\, United Kingdom
CATEGORIES:Design Industry,Interior Design,Wellbeing
ATTACH;FMTTYPE=image/jpeg:https://www.sbid.org/wp-content/uploads/2025/05/Landscape-4.jpg
END:VEVENT
BEGIN:VEVENT
DTSTART;TZID=Europe/London:20250310T130000
DTEND;TZID=Europe/London:20250310T140000
DTSTAMP:20260420T015231
CREATED:20250304T152519Z
LAST-MODIFIED:20250305T080837Z
UID:84248-1741611600-1741615200@www.sbid.org
SUMMARY:The Future of Wellness: The Importance of Wellness at Home
DESCRIPTION:Join Hill House Interiors and Technogym for an inspiring discussion that explores the evolving landscape of wellness at home!\nFeaturing Helen Bygraves and Jenny Weiss\, visionary co-founders of Hill House Interiors\, Rebecca Lazar\, Wellness Design Expert at Technogym\, and special guest Dr Federica Amati —best-selling author of Every Body Should Know This and Head Nutritionist at Zoe. Moderated by esteemed designer and lecturer Simon Hamilton. \nFrom integrating thoughtful design to the science behind well-being\, our industry leaders will share candid insights\, expert knowledge\, and inspiring personal stories. This exclusive event is free to attend\, but registration is essential. \nSBID Members earn 1 x CPD point for attending! \nRegister to attend
URL:https://www.sbid.org/event/the-future-of-wellness-the-importance-of-wellness-at-home/
LOCATION:Hill House Lifestyle Showroom\, First Floor\, South Dome\, Design Centre Chelsea Harbour\, Lots Road\, London\, SW10 0XE\, United Kingdom
CATEGORIES:CPD Events,Design Industry,Interior Design
ATTACH;FMTTYPE=image/jpeg:https://www.sbid.org/wp-content/uploads/2025/03/SBID-Landscape-3.jpg
END:VEVENT
BEGIN:VEVENT
DTSTART;TZID=Europe/London:20240918T183000
DTEND;TZID=Europe/London:20240918T210000
DTSTAMP:20260420T015231
CREATED:20240903T134037Z
LAST-MODIFIED:20240910T140638Z
UID:81116-1726684200-1726693200@www.sbid.org
SUMMARY:Technogym Design to Move - Design Talk with Kelly Hoppen and Myles Igwebuike
DESCRIPTION:Technogym invites you to a Design Talk featuring renowned British interior designer Kelly Hoppen CBE and Nigerian artist\, designer\, and Royal College of Art Student Trustee Myles Igwebuike!\nThe conversation curated by Cristian Brugnoli\, Technogym Architecture and Interior Design Director\, will discuss Kelly and Myles’ design inspirations\, trends and how the world of design and wellness meet to great inspiring spaces as well as an opportunity for an interactive Q&A and networking. The Design Talk will be an intimate event with places limited so register now. \nThe “Design to Move” exhibition\, from Saturday 14th to Thursday 19th September\, explores the special and deep relation between design and wellness\, style and functionality\, emotional and tangible\, that has always represented a key element of Technogym since its inception. \nSBID Members earn 1 x CPD point for attending! \nRegister now
URL:https://www.sbid.org/event/technogym-design-to-move-design-talk-with-kelly-hoppen-and-myles-igwebuike/
LOCATION:Technogym\, 71 Piccadilly\, Mayfair\, London\, W1J 8HS\, United Kingdom
CATEGORIES:CPD Events,Design Industry,Interior Design
ATTACH;FMTTYPE=image/jpeg:https://www.sbid.org/wp-content/uploads/2024/09/1-22.jpg
END:VEVENT
BEGIN:VEVENT
DTSTART;TZID=Europe/London:20240321T183000
DTEND;TZID=Europe/London:20240321T203000
DTSTAMP:20260420T015231
CREATED:20240319T130904Z
LAST-MODIFIED:20240321T104835Z
UID:78450-1711045800-1711053000@www.sbid.org
SUMMARY:Wellness Meets Design with Technogym
DESCRIPTION:Technogym invites you to join for an evening of Wellness Meets Design at the Moroso showroom in Clerkenwell!\nThe event will feature an introduction to the latest trends in Wellness Design with Technogym’s director for Architecture and Interiors\, Cristian Brugnoli and a live product experience with a Technogym Master Trainer\, followed by drinks\, nibbles\, and networking. \nSBID Members earn 2 x CPD points for attending! \nRSVP to attend
URL:https://www.sbid.org/event/wellness-meets-design/
LOCATION:Moroso Showroom\, 7-15 Rosebery Ave\, London\, EC1R 4SP\, United Kingdom
CATEGORIES:CPD Events,Wellbeing
ATTACH;FMTTYPE=image/jpeg:https://www.sbid.org/wp-content/uploads/2024/03/technogym.jpg
END:VEVENT
END:VCALENDAR