BEGIN:VCALENDAR
VERSION:2.0
PRODID:-//Society of British &amp; International Interior Design - ECPv6.9.0//NONSGML v1.0//EN
CALSCALE:GREGORIAN
METHOD:PUBLISH
X-WR-CALNAME:Society of British &amp; International Interior Design
X-ORIGINAL-URL:https://www.sbid.org
X-WR-CALDESC:Events for Society of British &amp; International Interior Design
REFRESH-INTERVAL;VALUE=DURATION:PT1H
X-Robots-Tag:noindex
X-PUBLISHED-TTL:PT1H
BEGIN:VTIMEZONE
TZID:Europe/London
BEGIN:DAYLIGHT
TZOFFSETFROM:+0000
TZOFFSETTO:+0100
TZNAME:BST
DTSTART:20230326T010000
END:DAYLIGHT
BEGIN:STANDARD
TZOFFSETFROM:+0100
TZOFFSETTO:+0000
TZNAME:GMT
DTSTART:20231029T010000
END:STANDARD
BEGIN:DAYLIGHT
TZOFFSETFROM:+0000
TZOFFSETTO:+0100
TZNAME:BST
DTSTART:20240331T010000
END:DAYLIGHT
BEGIN:STANDARD
TZOFFSETFROM:+0100
TZOFFSETTO:+0000
TZNAME:GMT
DTSTART:20241027T010000
END:STANDARD
END:VTIMEZONE
BEGIN:VEVENT
DTSTART;TZID=Europe/London:20240918T183000
DTEND;TZID=Europe/London:20240918T203000
DTSTAMP:20260420T071009
CREATED:20240809T142543Z
LAST-MODIFIED:20240809T142610Z
UID:80871-1726684200-1726691400@www.sbid.org
SUMMARY:Exhibition Event | Back to Nature: bringing the outside in
DESCRIPTION:Join for a fast-paced series of presentations\, brands whose products and materials help bring nature indoors and designers who create those natural spaces\, will each explain how they do it and why!\nMore and more interior designers\, architects\, planners and developers\, as well those at the top of industry\, are recognising the value in creating spaces where nature can thrive indoors\, be it at home or in the workplace. And with a move towards more regenerative\, natural materials creating more circular processes\, our ‘Meet the Makers’ night\, as part of the Bio-Spaces exhibition\, curated by Planted and Oliver Heath Design\, will highlight some of the brands leading this conversation. \nSpeakers include: TySyml – Adam Davies (Founder)\, GENCORK – Brimet Silva (Creative Director)\, Sofia Hagen – Sofia Hagen (Founder)\, Paul Crofts Studio – Paul Crofts (Founder)\, Cecoceco – Henry Schmidt (Creative Director)\, Blast Studio – Paola Garnousset and Pierre de Pingon (Co-Founders). Host: Sam Peters\, Planted Community. \nSBID Members earn 2 x CPD points for attending! \nRegister now
URL:https://www.sbid.org/event/exhibition-event-back-to-nature-bringing-the-outside-in/
LOCATION:Roca London Gallery\, Station Court\, Townmead Road\, London\, SW6 2PY\, United Kingdom
CATEGORIES:CPD Events,Interior Design
ATTACH;FMTTYPE=image/jpeg:https://www.sbid.org/wp-content/uploads/2024/08/1-23.jpg
GEO:51.474626120437;-0.18331276052304
X-APPLE-STRUCTURED-LOCATION;VALUE=URI;X-ADDRESS=Roca London Gallery Station Court Townmead Road London SW6 2PY United Kingdom;X-APPLE-RADIUS=500;X-TITLE=Station Court\, Townmead Road:geo:-0.18331276052304,51.474626120437
END:VEVENT
BEGIN:VEVENT
DTSTART;TZID=Europe/London:20240711T183000
DTEND;TZID=Europe/London:20240711T203000
DTSTAMP:20260420T071009
CREATED:20240620T092548Z
LAST-MODIFIED:20240620T092548Z
UID:79959-1720722600-1720729800@www.sbid.org
SUMMARY:Guided Tour of Roca London Gallery with Zaha Hadid Architects
DESCRIPTION:Join us on 11th July for a guided architectural tour of our award-winning Roca London Gallery!\nThe tour will be led by Margarita Valova from Zaha Hadid Design and Head of Marketing at Roca Group (UK) David Bromell. The speakers will discuss the conceptual and technical aspects of the gallery design\, and will reveal the fascinating story of how the architecture took shape\, from Hadid’s initial design concept through to the practical installation. The 90-minute tour will examin the challenges presented by the existing building\, the design concept and spatial strategies\, and will give an in-depth look at the innovative processes and materials used to achieve the iconic double curvature of the interior. \nSBID Members earn 2 x CPD points for attending! \nRegister now
URL:https://www.sbid.org/event/guided-tour-of-roca-london-gallery-with-zaha-hadid-architects/
LOCATION:Roca London Gallery\, Station Court\, Townmead Road\, London\, SW6 2PY\, United Kingdom
CATEGORIES:Architecture,CPD Events
ATTACH;FMTTYPE=image/jpeg:https://www.sbid.org/wp-content/uploads/2024/06/roca-tour.jpg
GEO:51.474626120437;-0.18331276052304
X-APPLE-STRUCTURED-LOCATION;VALUE=URI;X-ADDRESS=Roca London Gallery Station Court Townmead Road London SW6 2PY United Kingdom;X-APPLE-RADIUS=500;X-TITLE=Station Court\, Townmead Road:geo:-0.18331276052304,51.474626120437
END:VEVENT
BEGIN:VEVENT
DTSTART;TZID=Europe/London:20240625T183000
DTEND;TZID=Europe/London:20240625T183000
DTSTAMP:20260420T071009
CREATED:20240605T142556Z
LAST-MODIFIED:20240605T142556Z
UID:79749-1719340200-1719340200@www.sbid.org
SUMMARY:Talk: Navigating Material Choices in a Climate Emergency
DESCRIPTION:The Right amount of the Right material in the Right place!\nAJ sustainability editor Hattie Hartman and FCBStudios partner Joe Jack Williams will discuss how to use their new book\, MATERIALS: An Environmental Primer\, to help make responsible material choices and reduce the environmental impacts of construction: what to consider\, what questions to ask\, how to read an EPD – and more. They will highlight current trends and innovations related to conventional materials and the increasing use of bio-based materials. Bring your questions! \nSBID Members earn 1 x CPD point for attending! \nRegister now
URL:https://www.sbid.org/event/talk-navigating-material-choices-in-a-climate-emergency/
LOCATION:Roca London Gallery\, Station Court\, Townmead Road\, London\, SW6 2PY\, United Kingdom
CATEGORIES:CPD Events,Sustainability
ATTACH;FMTTYPE=image/jpeg:https://www.sbid.org/wp-content/uploads/2024/06/1-17.jpg
GEO:51.474626120437;-0.18331276052304
X-APPLE-STRUCTURED-LOCATION;VALUE=URI;X-ADDRESS=Roca London Gallery Station Court Townmead Road London SW6 2PY United Kingdom;X-APPLE-RADIUS=500;X-TITLE=Station Court\, Townmead Road:geo:-0.18331276052304,51.474626120437
END:VEVENT
BEGIN:VEVENT
DTSTART;TZID=Europe/London:20240606T183000
DTEND;TZID=Europe/London:20240606T183000
DTSTAMP:20260420T071009
CREATED:20240523T132220Z
LAST-MODIFIED:20240604T155627Z
UID:79564-1717698600-1717698600@www.sbid.org
SUMMARY:Talk | Re-imagining Architecture: What if Nature Designed our Cities?
DESCRIPTION:Panel discussion hosted by Oliver Heath with guest speakers from Grimshaw Architects\, Henning Larsen Architects\, and biophilic design strategist Victoria Jackson of Oliver Heath Design!\nOn 6th June\, the Roca London Gallery will host a panel discussion as part of the new Bio-spaces: Regenerative Resilient Futures exhibition\, curated by Planted and Oliver Heath Design. \nGlobal biophilic design specialist Oliver Heath will be joined by a panel of experts to discuss how we can transform our buildings if we recalibrate our relationship with nature. The discussion will explore how our urban environments would look and feel if nature was part of the architectural design process. Asking the questions: How can we start to collaborate with nature as a member of the project team rather than a service provider? Can we really advocate for nature in the design of our buildings and cities without a human-centric bias? \nThis talk will bring together some of the leading voices who are helping architects to design with nature rather than against it. To conclude the discussion a Q&A will provide the audience to engage with our expert panel. \nSBID Members earn 1 x CPD point for attending! \nRegister now
URL:https://www.sbid.org/event/talk-re-imagining-architecture-what-if-nature-designed-our-cities/
LOCATION:Roca London Gallery\, Station Court\, Townmead Road\, London\, SW6 2PY\, United Kingdom
CATEGORIES:Architecture,CPD Events,Interior Design,Sustainability
ATTACH;FMTTYPE=image/jpeg:https://www.sbid.org/wp-content/uploads/2024/05/1-41.jpg
GEO:51.474626120437;-0.18331276052304
X-APPLE-STRUCTURED-LOCATION;VALUE=URI;X-ADDRESS=Roca London Gallery Station Court Townmead Road London SW6 2PY United Kingdom;X-APPLE-RADIUS=500;X-TITLE=Station Court\, Townmead Road:geo:-0.18331276052304,51.474626120437
END:VEVENT
BEGIN:VEVENT
DTSTART;TZID=Europe/London:20240516T183000
DTEND;TZID=Europe/London:20240516T183000
DTSTAMP:20260420T071009
CREATED:20240508T152250Z
LAST-MODIFIED:20240604T155640Z
UID:79193-1715884200-1715884200@www.sbid.org
SUMMARY:Biophilic Design vs Climate Change Talk
DESCRIPTION:What is Biophilic Design and how can this nature-based design approach be applied to help mitigate the effects of climate change?\nRoca London Gallery’s panel of experts will explore how allowing nature to flourish in all spaces can support biodiversity\, make cities more resilient to the effects of the climate crisis\, whilst also more comfortable and equitable to live in. \nThis talk will draw on some of the leading authorities on biophilic design and explore why nature should be at the heart of every design process\, whatever the scale. To conclude the discussion a Q&A will provide the audience to engage with our expert panel. \nSpeakers: \n– Oliver Heath\, Oliver Heath Design \n– Paul de Zwart\, Another Country \n– Adrian Byne\, Benholm \n– Dr Vanessa Champion\, Journal of Biophilic Design \nSBID Members earn 1 x CPD point for attending! \nRegister to attend
URL:https://www.sbid.org/event/biophilic-design-vs-climate-change/
LOCATION:Roca London Gallery\, Station Court\, Townmead Road\, London\, SW6 2PY\, United Kingdom
CATEGORIES:Architecture,CPD Events,Interior Design
ATTACH;FMTTYPE=image/jpeg:https://www.sbid.org/wp-content/uploads/2024/05/roca-ldn.jpg
GEO:51.474626120437;-0.18331276052304
X-APPLE-STRUCTURED-LOCATION;VALUE=URI;X-ADDRESS=Roca London Gallery Station Court Townmead Road London SW6 2PY United Kingdom;X-APPLE-RADIUS=500;X-TITLE=Station Court\, Townmead Road:geo:-0.18331276052304,51.474626120437
END:VEVENT
BEGIN:VEVENT
DTSTART;TZID=Europe/London:20240425T183000
DTEND;TZID=Europe/London:20240425T203000
DTSTAMP:20260420T071009
CREATED:20240320T100117Z
LAST-MODIFIED:20240320T100117Z
UID:78466-1714069800-1714077000@www.sbid.org
SUMMARY:Bio Spaces Exhibition Opening Event
DESCRIPTION:Look into the world of biophilic design\, exploring biodiversity and biomimicry in design!\nOn 25th April\, the Roca London Gallery will host a launch event of the new exhibition Bio-Spaces: Regenerative\, Resilient Futures\, in the company of curators Planted and Oliver Heath Design Studio. \nBio-Spaces runs until 30th September 2024 and looks into biomorphic design\, bio-based materials and bioregenerative design. \nGuests will journey through a series of modular gridded ‘islands’\, each exploring a theme pertinent to the concept of nature-informed design and each populated with exemplary case studies and products that derive inspiration and materials from nature and the environment. A multi-sensory approach alongside touches of greenery will enhance the experience\, bringing the water-inspired spaces of the Zaha Hadid Architects-designed Roca London Gallery into direct dialogue with like-minded projects and products that aim to reconnect people and spaces with nature. \nClick here for more information about the exhibition. \nSBID Members earn 2 x CPD points for attending! \nRegister to attend
URL:https://www.sbid.org/event/bio-spaces-exhibition-opening-event/
LOCATION:Roca London Gallery\, Station Court\, Townmead Road\, London\, SW6 2PY\, United Kingdom
CATEGORIES:Architecture,CPD Events,Interior Design
ATTACH;FMTTYPE=image/jpeg:https://www.sbid.org/wp-content/uploads/2024/03/roca-launch.jpg
GEO:51.474626120437;-0.18331276052304
X-APPLE-STRUCTURED-LOCATION;VALUE=URI;X-ADDRESS=Roca London Gallery Station Court Townmead Road London SW6 2PY United Kingdom;X-APPLE-RADIUS=500;X-TITLE=Station Court\, Townmead Road:geo:-0.18331276052304,51.474626120437
END:VEVENT
BEGIN:VEVENT
DTSTART;VALUE=DATE:20240419
DTEND;VALUE=DATE:20241001
DTSTAMP:20260420T071009
CREATED:20240320T101523Z
LAST-MODIFIED:20240509T104001Z
UID:78471-1713484800-1727740799@www.sbid.org
SUMMARY:Bio-Spaces Exhibition: Regenerative\, Resilient Futures
DESCRIPTION:An experiential\, multi-sensory exhibition\, aimed at encouraging a more nature-based approach to design!\nCurated by environmentally-focused media and events platform Planted\, in collaboration with Oliver Heath Design Studio\, Bio-Spaces will plunge the visitor into the world of biophilic design\, exploring biodiversity and biomimicry in design\, as well as biomorphic design\, bio-based materials and bioregenerative design. \nVisitors will journey through a series of modular gridded ‘islands’\, each exploring a theme pertinent to the concept of nature-informed design and each populated with exemplary case studies and products that derive inspiration and materials from nature and the environment. A multi-sensory approach alongside touches of greenery will enhance the experience\, bringing the water-inspired spaces of the Zaha Hadid Architects-designed Roca London Gallery into direct dialogue with like-minded projects and products that aim to reconnect people and spaces with nature. \nSBID Members earn 2 x CPD points for attending! \nRegister now
URL:https://www.sbid.org/event/bio-spaces-exhibition-regenerative-resilient-futures/
LOCATION:Roca London Gallery\, Station Court\, Townmead Road\, London\, SW6 2PY\, United Kingdom
CATEGORIES:Architecture,CPD Events,Interior Design
ATTACH;FMTTYPE=image/jpeg:https://www.sbid.org/wp-content/uploads/2024/03/roca-exhibition.jpg
GEO:51.474626120437;-0.18331276052304
X-APPLE-STRUCTURED-LOCATION;VALUE=URI;X-ADDRESS=Roca London Gallery Station Court Townmead Road London SW6 2PY United Kingdom;X-APPLE-RADIUS=500;X-TITLE=Station Court\, Townmead Road:geo:-0.18331276052304,51.474626120437
END:VEVENT
BEGIN:VEVENT
DTSTART;TZID=Europe/London:20230920T183000
DTEND;TZID=Europe/London:20230920T203000
DTSTAMP:20260420T071009
CREATED:20230913T160501Z
LAST-MODIFIED:20230914T104341Z
UID:74151-1695234600-1695241800@www.sbid.org
SUMMARY:From Doll's House to My House: Exploring Health and Wellbeing in Small Spaces
DESCRIPTION:This first interdisciplinary talk event for the exhibition ‘Small Spaces in the City: Rethinking inside the Box‘ at Roca London Gallery\nCurated by Clare Farrow Studio\, the talks panel will focus on the vitally important theme of health and wellbeing in small urban living-work spaces\, from a designer and user point of view. \nFeaturing William Bracewell\, Principal Dancer of the Royal Ballet\, whose new film explores movement and wellbeing in small spaces; Tokyo architect Toshiki Hirano and his Rika-chan doll’s house; Proctor & Shaw; and Richard Beckett from the Bartlett who is doing a live probiotic workspace experiment. \nOther participants in this inspiring event will be Tokyo adviser and architectural designer Toshiki Hirano from the Kuma Lab at The University of Tokyo\, who has taken the Rika-chan dolls house as a playful but also very serious model for future small space design\, investigating its light\, compact and foldable thinking with a view to future micro transforming designs; architect Mike Shaw of Proctor & Shaw\, whose award-winning Shoji Apartment plays with the idea of translucency\, vertical stacking and an opening and closing cocoon that enhances the psychological and physical experience of a tiny home; and Richard Beckett\, Associate Professor at The Bartlett School of Architecture\, who has collaborated with an immunologist from UCL to conduct a live experiment entitled ‘Imagining a probiotic microbial workspace’\, which visitors will also be able to interact with and experience for periods of time. \nHealth in tiny spaces is not just about the dimensions of rooms and flexibility of furniture\, or about bringing green plants in for pleasure and detoxing the air. It is about recognising that over-sanitised spaces disrupt the balance of microbes in our living and work environments\, especially since the pandemic\, resulting in autoimmune diseases that are on the rise. Beckett’s groundbreaking exhibition and experiment that blends architecture with science and medicine\, brings the forest floor and ‘forest bathing’ concept out of nature and into the smallest of spaces. The results of his experiment will be revealed at the close of the exhibition in January 2024. \nSBID Members earn 1 x CPD Point for attending!  \nRegister to attend\n  \nExhibition: Takeshi Hosaka\, Love2 House\, Tokyo\, © Takeshi Hosaka \nEvent: Richard Beckett (UCL)\, Living in a probiotic microbial space\, Live experiment in the exhibition
URL:https://www.sbid.org/event/from-dolls-house-to-my-house-exploring-health-and-wellbeing-in-small-spaces/
LOCATION:Roca London Gallery\, Station Court\, Townmead Road\, London\, SW6 2PY\, United Kingdom
CATEGORIES:CPD Events,Interior Design,Wellbeing
ATTACH;FMTTYPE=image/jpeg:https://www.sbid.org/wp-content/uploads/2023/09/roca.jpg
GEO:51.474626120437;-0.18331276052304
X-APPLE-STRUCTURED-LOCATION;VALUE=URI;X-ADDRESS=Roca London Gallery Station Court Townmead Road London SW6 2PY United Kingdom;X-APPLE-RADIUS=500;X-TITLE=Station Court\, Townmead Road:geo:-0.18331276052304,51.474626120437
END:VEVENT
END:VCALENDAR