BEGIN:VCALENDAR
VERSION:2.0
PRODID:-//Society of British &amp; International Interior Design - ECPv6.9.0//NONSGML v1.0//EN
CALSCALE:GREGORIAN
METHOD:PUBLISH
X-WR-CALNAME:Society of British &amp; International Interior Design
X-ORIGINAL-URL:https://www.sbid.org
X-WR-CALDESC:Events for Society of British &amp; International Interior Design
REFRESH-INTERVAL;VALUE=DURATION:PT1H
X-Robots-Tag:noindex
X-PUBLISHED-TTL:PT1H
BEGIN:VTIMEZONE
TZID:Europe/London
BEGIN:DAYLIGHT
TZOFFSETFROM:+0000
TZOFFSETTO:+0100
TZNAME:BST
DTSTART:20250330T010000
END:DAYLIGHT
BEGIN:STANDARD
TZOFFSETFROM:+0100
TZOFFSETTO:+0000
TZNAME:GMT
DTSTART:20251026T010000
END:STANDARD
BEGIN:DAYLIGHT
TZOFFSETFROM:+0000
TZOFFSETTO:+0100
TZNAME:BST
DTSTART:20260329T010000
END:DAYLIGHT
BEGIN:STANDARD
TZOFFSETFROM:+0100
TZOFFSETTO:+0000
TZNAME:GMT
DTSTART:20261025T010000
END:STANDARD
TZID:America/Chicago
BEGIN:DAYLIGHT
TZOFFSETFROM:-0600
TZOFFSETTO:-0500
TZNAME:CDT
DTSTART:20220313T080000
END:DAYLIGHT
BEGIN:STANDARD
TZOFFSETFROM:-0500
TZOFFSETTO:-0600
TZNAME:CST
DTSTART:20221106T070000
END:STANDARD
TZID:Asia/Riyadh
BEGIN:STANDARD
TZOFFSETFROM:+0300
TZOFFSETTO:+0300
TZNAME:+03
DTSTART:20220101T000000
END:STANDARD
END:VTIMEZONE
BEGIN:VEVENT
DTSTART;VALUE=DATE:20260120
DTEND;VALUE=DATE:20260124
DTSTAMP:20260422T094906
CREATED:20260115T154837Z
LAST-MODIFIED:20260115T154837Z
UID:89835-1768867200-1769212799@www.sbid.org
SUMMARY:imm cologne 2026
DESCRIPTION:Reconceived\, consistently oriented to the market: imm cologne starts 2026 with a dynamic new format!\nThe focus is on strongly-in-demand interiors solutions that are market-ready for the international furniture trade – from furniture trade chains through purchasing associations to the online mail order trade. As a modern business platform\, imm cologne efficiently brings together the consumer-oriented interiors industry and decision makers of the international furniture industry on four days – compact\, cost-efficient and focused on the essential. The annual date in January remains: perfect for a successful start to the interiors year. Be part of it from 20 to 23 January 2026 in Cologne! \nSBID Members earn 2 x CPD points for attending! \nRegister to attend
URL:https://www.sbid.org/event/imm-cologne-2026/
LOCATION:Koelnmesse\, Messeplatz 1\, Cologne\, 50679\, Germany
CATEGORIES:Design Industry,Furniture,Trade
ATTACH;FMTTYPE=image/jpeg:https://www.sbid.org/wp-content/uploads/2026/01/Landscape-6.jpg
GEO:50.9475956;6.9813625
X-APPLE-STRUCTURED-LOCATION;VALUE=URI;X-ADDRESS=Koelnmesse Messeplatz 1 Cologne 50679 Germany;X-APPLE-RADIUS=500;X-TITLE=Messeplatz 1:geo:6.9813625,50.9475956
END:VEVENT
BEGIN:VEVENT
DTSTART;VALUE=DATE:20260118
DTEND;VALUE=DATE:20260122
DTSTAMP:20260422T094906
CREATED:20260115T150424Z
LAST-MODIFIED:20260115T150424Z
UID:89823-1768694400-1769039999@www.sbid.org
SUMMARY:January Furniture Show
DESCRIPTION:For 36 years\, January Furniture Show (JFS) has been the essential destination in the UK for those defining the future of furniture!\nAs the premier destination for premium furniture and innovative design\, JFS is perfectly placed in the retail calendar\, giving visitors the opportunity to be the very first to see the launch of new-season styles and trends. \nCrafted with visitors needs in mind JFS welcomes the highest calibre of brands and buyers to NEC Birmingham\, where more than 50\,000 products are showcased across the event’s 4 curated sectors. Alongside sourcing\, JFS is the meeting place for the industry with trade buyers and brands flocking from across the UK and beyond to connect\, buy\, sell\, learn\, and network. \nSBID Members earn 2 x CPD points for attending! \nRegister to attend
URL:https://www.sbid.org/event/january-furniture-show/
LOCATION:The National Exhibition Centre (NEC)\, Marston Green\, Birmingham\, B40 1NT\, United Kingdom
CATEGORIES:Design Industry,Furniture,Interior Design,Trade
ATTACH;FMTTYPE=image/jpeg:https://www.sbid.org/wp-content/uploads/2026/01/Landscape-4.jpg
END:VEVENT
BEGIN:VEVENT
DTSTART;VALUE=DATE:20250930
DTEND;VALUE=DATE:20251002
DTSTAMP:20260422T094906
CREATED:20250818T103348Z
LAST-MODIFIED:20250919T072739Z
UID:87583-1759190400-1759363199@www.sbid.org
SUMMARY:Duresta In-Store Workshop
DESCRIPTION:Duresta invites interior designers to an exclusive workshop during London Design Week!\nDuresta\, the iconic British furniture brand known for handcrafted luxury\, timeless comfort\, and expressive design\, is delighted to announce an exclusive in-store workshop event for interior designers at its elegant Islington showroom\, taking place during London Design Week and beyond. \nThis engaging and inspiring mid-morning event offers design professionals a unique opportunity to connect\, discover\, and indulge in the world of Duresta. \nSessions:\n– Tuesday 30th September\, 10:30am – 12pm\n– Wednesday 1st October\, 10:30am – 12pm \nSBID Members earn 2 x CPD points (per session) for attending! \nRSVP
URL:https://www.sbid.org/event/duresta-in-store-workshop/
LOCATION:Duresta Showroom\, 116G Upper Street\, Islington Square\, London\, N1 1QP\, United Kingdom
CATEGORIES:Furniture,Interior Design
ATTACH;FMTTYPE=image/jpeg:https://www.sbid.org/wp-content/uploads/2025/08/Landscape-6.jpg
END:VEVENT
BEGIN:VEVENT
DTSTART;VALUE=DATE:20220912
DTEND;VALUE=DATE:20220915
DTSTAMP:20260422T094906
CREATED:20220615T130652Z
LAST-MODIFIED:20220801T150953Z
UID:63385-1662940800-1663199999@www.sbid.org
SUMMARY:Middle East Design & Build Week 2022
DESCRIPTION:Middle East Design & Build Week is a new networking and sourcing platform for the construction and design industries. The event is co-located with Middle East Manufacturing & Technology Expo\, providing opportunities for the construction and design professionals to explore solutions in the manufacturing and technology sector. The event is expected to attract over 200 exhibiting companies and 3000 visitors from the UAE and across the world in the first edition and around 10 international pavilions. It covers a number of key areas in a region which continues to invest heavily in new infrastructure development offering huge potential to key UK creative supply chain sub-sectors. \nMiddle East Design & Build Week will be an event offering opportunities for companies across the construction (architecture)\, interior design\, hospitality\, and commercial industries to showcase their expertise and products to influencers\, key decision-makers and buyers from across the region. The show is organised in partnership with Abu Dhabi Chamber of Commerce & Industry. Key themes include: building envelope & specialist construction; building interiors & finishes; interior design & interior furnishings and fittings. \nRegister to attend \nThe UK Tradeshow Programme offers the industry support towards costs of affiliated events\, available for both exhibitors and attendees. 
URL:https://www.sbid.org/event/middle-east-design-build-week/
LOCATION:Abu Dhabi National Exhibition Centre\, Al Khaleej Al Arabi St - Al Rawdah - Capital Centre\, Abu Dhabi\, United Arab Emirates
CATEGORIES:Architecture,Design Industry,Interior Design
ATTACH;FMTTYPE=image/jpeg:https://www.sbid.org/wp-content/uploads/2022/06/Abu-Dhabi.jpg
END:VEVENT
BEGIN:VEVENT
DTSTART;TZID=Asia/Riyadh:20220906T160000
DTEND;TZID=Asia/Riyadh:20220908T220000
DTSTAMP:20260422T094906
CREATED:20220617T092541Z
LAST-MODIFIED:20220617T092541Z
UID:63428-1662480000-1662674400@www.sbid.org
SUMMARY:Hotel Show Saudi Arabia 2022
DESCRIPTION:The Hotel Show Saudi Arabia\, is the Kingdom’s largest and most established trade exhibition for the hotel and hospitality sector. The event was launched in Saudi Arabia in 2012 and is a must attend event for anyone buying products and services for Hotels\, Restaurants\, and Sports & Leisure Facilities. \nThe Show spans interior\, F&B areas\, hygiene\, operating equipment & supplies\, technology & security among other services. \nThe Hotel Show Saudi Arabia is committed to attracting the Kingdom’s leading buyers through a programme of events that educate\, inspire and entertain. The 2022 event will include more educational content than ever before. \nRegister to attend
URL:https://www.sbid.org/event/hotel-show-saudi-arabia/
LOCATION:Riyadh International Convention & Exhibition Center\, King Abdullah Rd\, King Abdullah Dt.\, Riyadh\, 11564\, Saudi Arabia
CATEGORIES:Design Industry,Hospitality,Interior Design,Trade
ATTACH;FMTTYPE=image/jpeg:https://www.sbid.org/wp-content/uploads/2022/06/Hotel-Show-Saudi-Arabia.jpg
END:VEVENT
END:VCALENDAR