BEGIN:VCALENDAR
VERSION:2.0
PRODID:-//Society of British &amp; International Interior Design - ECPv6.9.0//NONSGML v1.0//EN
CALSCALE:GREGORIAN
METHOD:PUBLISH
X-WR-CALNAME:Society of British &amp; International Interior Design
X-ORIGINAL-URL:https://www.sbid.org
X-WR-CALDESC:Events for Society of British &amp; International Interior Design
REFRESH-INTERVAL;VALUE=DURATION:PT1H
X-Robots-Tag:noindex
X-PUBLISHED-TTL:PT1H
BEGIN:VTIMEZONE
TZID:Europe/London
BEGIN:DAYLIGHT
TZOFFSETFROM:+0000
TZOFFSETTO:+0100
TZNAME:BST
DTSTART:20240331T010000
END:DAYLIGHT
BEGIN:STANDARD
TZOFFSETFROM:+0100
TZOFFSETTO:+0000
TZNAME:GMT
DTSTART:20241027T010000
END:STANDARD
END:VTIMEZONE
BEGIN:VEVENT
DTSTART;TZID=Europe/London:20240917T110000
DTEND;TZID=Europe/London:20240917T110000
DTSTAMP:20260422T161059
CREATED:20240902T141922Z
LAST-MODIFIED:20240912T134551Z
UID:81102-1726570800-1726570800@www.sbid.org
SUMMARY:Forbes & Lomax x Little Greene: Colour Talk & Painting Demonstration
DESCRIPTION:Forbes & Lomax invites you to our Access All Areas event: A Talk on Colour with Live Painting Demonstration in collaboration with Little Greene® at Focus/24\nJoin us for a talk on colour by Little Greene® ’s Colour Specialist\, Simon Hutchinson. Artist\, Melissa Wickham will be demonstrating how to integrate Forbes & Lomax’s range of Painted switches and sockets into a decorative scheme using Little Greene® colours. \nSBID Members earn 2 x CPD points for attending! \nLearn more\nImage credit: Little Greene’s Bird & Bluebell Wallpaper
URL:https://www.sbid.org/event/forbes-lomax-x-little-greene-colour-talk-painting-demonstration/
LOCATION:Forbes & Lomax\, First Floor\, Design Centre East\, Chelsea Harbour\, London\, SW10 0XF\, United Kingdom
CATEGORIES:CPD Events
ATTACH;FMTTYPE=image/jpeg:https://www.sbid.org/wp-content/uploads/2024/09/1-21.jpg
END:VEVENT
END:VCALENDAR