BEGIN:VCALENDAR
VERSION:2.0
PRODID:-//Society of British &amp; International Interior Design - ECPv6.9.0//NONSGML v1.0//EN
CALSCALE:GREGORIAN
METHOD:PUBLISH
X-WR-CALNAME:Society of British &amp; International Interior Design
X-ORIGINAL-URL:https://www.sbid.org
X-WR-CALDESC:Events for Society of British &amp; International Interior Design
REFRESH-INTERVAL;VALUE=DURATION:PT1H
X-Robots-Tag:noindex
X-PUBLISHED-TTL:PT1H
BEGIN:VTIMEZONE
TZID:America/Chicago
BEGIN:DAYLIGHT
TZOFFSETFROM:-0600
TZOFFSETTO:-0500
TZNAME:CDT
DTSTART:20220313T080000
END:DAYLIGHT
BEGIN:STANDARD
TZOFFSETFROM:-0500
TZOFFSETTO:-0600
TZNAME:CST
DTSTART:20221106T070000
END:STANDARD
TZID:Asia/Riyadh
BEGIN:STANDARD
TZOFFSETFROM:+0300
TZOFFSETTO:+0300
TZNAME:+03
DTSTART:20220101T000000
END:STANDARD
TZID:Europe/London
BEGIN:DAYLIGHT
TZOFFSETFROM:+0000
TZOFFSETTO:+0100
TZNAME:BST
DTSTART:20210328T010000
END:DAYLIGHT
BEGIN:STANDARD
TZOFFSETFROM:+0100
TZOFFSETTO:+0000
TZNAME:GMT
DTSTART:20211031T010000
END:STANDARD
BEGIN:DAYLIGHT
TZOFFSETFROM:+0000
TZOFFSETTO:+0100
TZNAME:BST
DTSTART:20220327T010000
END:DAYLIGHT
BEGIN:STANDARD
TZOFFSETFROM:+0100
TZOFFSETTO:+0000
TZNAME:GMT
DTSTART:20221030T010000
END:STANDARD
END:VTIMEZONE
BEGIN:VEVENT
DTSTART;VALUE=DATE:20220912
DTEND;VALUE=DATE:20220915
DTSTAMP:20260420T091427
CREATED:20220615T130652Z
LAST-MODIFIED:20220801T150953Z
UID:63385-1662940800-1663199999@www.sbid.org
SUMMARY:Middle East Design & Build Week 2022
DESCRIPTION:Middle East Design & Build Week is a new networking and sourcing platform for the construction and design industries. The event is co-located with Middle East Manufacturing & Technology Expo\, providing opportunities for the construction and design professionals to explore solutions in the manufacturing and technology sector. The event is expected to attract over 200 exhibiting companies and 3000 visitors from the UAE and across the world in the first edition and around 10 international pavilions. It covers a number of key areas in a region which continues to invest heavily in new infrastructure development offering huge potential to key UK creative supply chain sub-sectors. \nMiddle East Design & Build Week will be an event offering opportunities for companies across the construction (architecture)\, interior design\, hospitality\, and commercial industries to showcase their expertise and products to influencers\, key decision-makers and buyers from across the region. The show is organised in partnership with Abu Dhabi Chamber of Commerce & Industry. Key themes include: building envelope & specialist construction; building interiors & finishes; interior design & interior furnishings and fittings. \nRegister to attend \nThe UK Tradeshow Programme offers the industry support towards costs of affiliated events\, available for both exhibitors and attendees. 
URL:https://www.sbid.org/event/middle-east-design-build-week/
LOCATION:Abu Dhabi National Exhibition Centre\, Al Khaleej Al Arabi St - Al Rawdah - Capital Centre\, Abu Dhabi\, United Arab Emirates
CATEGORIES:Architecture,Design Industry,Interior Design
ATTACH;FMTTYPE=image/jpeg:https://www.sbid.org/wp-content/uploads/2022/06/Abu-Dhabi.jpg
END:VEVENT
BEGIN:VEVENT
DTSTART;TZID=Asia/Riyadh:20220906T160000
DTEND;TZID=Asia/Riyadh:20220908T220000
DTSTAMP:20260420T091427
CREATED:20220617T092541Z
LAST-MODIFIED:20220617T092541Z
UID:63428-1662480000-1662674400@www.sbid.org
SUMMARY:Hotel Show Saudi Arabia 2022
DESCRIPTION:The Hotel Show Saudi Arabia\, is the Kingdom’s largest and most established trade exhibition for the hotel and hospitality sector. The event was launched in Saudi Arabia in 2012 and is a must attend event for anyone buying products and services for Hotels\, Restaurants\, and Sports & Leisure Facilities. \nThe Show spans interior\, F&B areas\, hygiene\, operating equipment & supplies\, technology & security among other services. \nThe Hotel Show Saudi Arabia is committed to attracting the Kingdom’s leading buyers through a programme of events that educate\, inspire and entertain. The 2022 event will include more educational content than ever before. \nRegister to attend
URL:https://www.sbid.org/event/hotel-show-saudi-arabia/
LOCATION:Riyadh International Convention & Exhibition Center\, King Abdullah Rd\, King Abdullah Dt.\, Riyadh\, 11564\, Saudi Arabia
CATEGORIES:Design Industry,Hospitality,Interior Design,Trade
ATTACH;FMTTYPE=image/jpeg:https://www.sbid.org/wp-content/uploads/2022/06/Hotel-Show-Saudi-Arabia.jpg
END:VEVENT
BEGIN:VEVENT
DTSTART;TZID=Europe/London:20220420T090000
DTEND;TZID=Europe/London:20220421T170000
DTSTAMP:20260420T091427
CREATED:20220324T120157Z
LAST-MODIFIED:20220329T122857Z
UID:61481-1650445200-1650560400@www.sbid.org
SUMMARY:NEC3: Preparing and Managing the ECC
DESCRIPTION:There are limited spaces available on our NEC3: Preparing and Managing the ECC course in April 2022. This practical two-day training course introduces delegates to the philosophy of the NEC family of contracts and focuses on the provisions of the NEC3 Engineering and Construction Contract (ECC). \nThe programme includes interactive workshops using a number of case studies to assist delegates’ understanding of pre- and post-contract aspects of ECC. \n  \nWho should enrol? \nIt is ideal for anyone working with\, or intending to work with\, the NEC3 ECC including: project managers\, contract managers\, quantity surveyors\, planners\, clients\, consultants\, contractors and their supply chain. \n  \nAt the end of the course participants should be able to:  \n\nEnrich their knowledge of the NEC philosophy\nDevelop skills to advise on the development of an appropriate contract strategy\nAppreciate the use of Contract Data\, Works Information and Site Information\nBe able to prepare tender documents and appraise tenders\nBe clear on the roles and responsibilities of key parties and how to solve problems\nUnderstand the important ECC clauses\, particularly Early Warnings\, The Programme\, Risk Register\, Communications and Compensation Events\nConfidently apply their NEC3 ECC knowledge in practice\n\nBook now
URL:https://www.sbid.org/event/nec3-preparing-and-managing-the-ecc/
LOCATION:Virtual\, United Kingdom
CATEGORIES:Business,Design Industry
ATTACH;FMTTYPE=image/jpeg:https://www.sbid.org/wp-content/uploads/2022/03/NEC3.jpg
GEO:27.6648274;-81.5157535
END:VEVENT
BEGIN:VEVENT
DTSTART;VALUE=DATE:20211116
DTEND;VALUE=DATE:20211120
DTSTAMP:20260420T091427
CREATED:20210924T120834Z
LAST-MODIFIED:20210924T120834Z
UID:58303-1637020800-1637366399@www.sbid.org
SUMMARY:Department for International Trade at IAAPA Expo 2021
DESCRIPTION:Join the UK’s Department for International Trade (DIT) on their UK stand at the IAAPA Attractions Expo 2021\, the leading global conference and trade show for the attractions industry. \nAttend the IAAPA Attractions Expo 2021 and discover future trends\, learn what’s new\, and hear what’s working from peers and leaders from around the globe. The Expo consistently has 1\,000 exhibitors\, an estimated 21\,000 buyers and 32\,000 industry professionals from over 100 countries in attendance. It is the perfect audience for you to demonstrate your company’s creativity\, expertise and innovation in the sector. \nFind out more
URL:https://www.sbid.org/event/dit-at-iaapa-expo-2021/
CATEGORIES:Business,Design Industry,Trade
ATTACH;FMTTYPE=image/jpeg:https://www.sbid.org/wp-content/uploads/2021/09/Expo.jpg
END:VEVENT
BEGIN:VEVENT
DTSTART;VALUE=DATE:20211011
DTEND;VALUE=DATE:20211016
DTSTAMP:20260420T091427
CREATED:20211007T130353Z
LAST-MODIFIED:20211007T130353Z
UID:58513-1633910400-1634342399@www.sbid.org
SUMMARY:A Star is Born: Welcoming Hyperborea Series
DESCRIPTION:Lorenzo Tondelli Collection is delighted to invite you to the official launch of Hyperborea: a contemporary and intuitive family of decorative pieces. \nFrom 11 to 15 October\, you will have the opportunity to preview the latest products\, enjoy a private digital tour of the showroom and satisfy your curiosity: the event will be exclusively dedicated to you! \nTo ensure everyone who will join the event the best possible experience\, allow an exchange\, and give you the opportunity to ask specific questions\, Lorenzo Tondelli Collection has decided to host individual meetings\, a moment dedicated to you and your team. For this reason\, places are limited. \nBooking your appointment is very easy: just go to the link below and choose your preferred date and time according to availability. You will receive an email with all the information you need to access the presentation. \nFor any enquiry: info@tondelliarredamenti.com \nBook your place
URL:https://www.sbid.org/event/hyperborea-series/
CATEGORIES:Business,Design Industry
ATTACH;FMTTYPE=image/jpeg:https://www.sbid.org/wp-content/uploads/2021/10/xsKMH4Qg.jpg
END:VEVENT
END:VCALENDAR