BEGIN:VCALENDAR
VERSION:2.0
PRODID:-//Society of British &amp; International Interior Design - ECPv6.9.0//NONSGML v1.0//EN
CALSCALE:GREGORIAN
METHOD:PUBLISH
X-WR-CALNAME:Society of British &amp; International Interior Design
X-ORIGINAL-URL:https://www.sbid.org
X-WR-CALDESC:Events for Society of British &amp; International Interior Design
REFRESH-INTERVAL;VALUE=DURATION:PT1H
X-Robots-Tag:noindex
X-PUBLISHED-TTL:PT1H
BEGIN:VTIMEZONE
TZID:Europe/London
BEGIN:DAYLIGHT
TZOFFSETFROM:+0000
TZOFFSETTO:+0100
TZNAME:BST
DTSTART:20240331T010000
END:DAYLIGHT
BEGIN:STANDARD
TZOFFSETFROM:+0100
TZOFFSETTO:+0000
TZNAME:GMT
DTSTART:20241027T010000
END:STANDARD
BEGIN:DAYLIGHT
TZOFFSETFROM:+0000
TZOFFSETTO:+0100
TZNAME:BST
DTSTART:20250330T010000
END:DAYLIGHT
BEGIN:STANDARD
TZOFFSETFROM:+0100
TZOFFSETTO:+0000
TZNAME:GMT
DTSTART:20251026T010000
END:STANDARD
BEGIN:DAYLIGHT
TZOFFSETFROM:+0000
TZOFFSETTO:+0100
TZNAME:BST
DTSTART:20260329T010000
END:DAYLIGHT
BEGIN:STANDARD
TZOFFSETFROM:+0100
TZOFFSETTO:+0000
TZNAME:GMT
DTSTART:20261025T010000
END:STANDARD
END:VTIMEZONE
BEGIN:VEVENT
DTSTART;TZID=Europe/London:20260326T093000
DTEND;TZID=Europe/London:20260326T160000
DTSTAMP:20260420T091825
CREATED:20250116T154607Z
LAST-MODIFIED:20260319T152458Z
UID:82853-1774517400-1774540800@www.sbid.org
SUMMARY:Design School Feng Shui Course
DESCRIPTION:NSI Design Ltd is introducing its one day Interior Design Master Class focussing on Feng Shui as a system unique to Interior Design and Architecture!\nRecent inclusions on the course bridge Feng Shui and Neuroscience for overall wellbeing and Harmony. The Feng Shui Studio teaches\, advises\, surveys and guides\, whatever you need\, the Studio can provide. \nAs a leading expert in Feng Shui for over 36 years and an award winning interior designer\, Nicholas will teach the fundamentals of The Design School Feng Shui without its complexity\, myths\, superstition\, and mystery to enable designers to incorporate it into their own particular style and methods. \nSessions:\n– 26 March 2026\, arrive at 9:30am for 10am – 4pm\, with 1 hour for lunch \nSBID Members earn 4 x CPD Points for attending + receive 10% discount! Email pr@sbid.org to redeem! \nRegister to attend
URL:https://www.sbid.org/event/design-school-feng-shui-course/
LOCATION:Rimadesio\, 85 Wigmore St\, London\, W1U 1DL
CATEGORIES:CPD Events,Interior Design
ATTACH;FMTTYPE=image/jpeg:https://www.sbid.org/wp-content/uploads/2024/04/ns-interiors.jpg
END:VEVENT
BEGIN:VEVENT
DTSTART;TZID=Europe/London:20250620T093000
DTEND;TZID=Europe/London:20250620T170000
DTSTAMP:20260420T091825
CREATED:20250214T124658Z
LAST-MODIFIED:20250214T124658Z
UID:86709-1750411800-1750438800@www.sbid.org
SUMMARY:Design School Feng Shui Course by NS Interiors
DESCRIPTION:NS Interiors have created this one-day intermediate CPD course to break down all the myths and superstitions that cloud the real core of Feng Shui Interior Design!\nThe one-day course teaches you the methods you need to incorporate Feng Shui into your Interior design project\, architectural planning and even how to design specific pieces of furniture to enhance other designer’s projects. \nSBID Members earn 4 x CPD Points for attending + receive 10% discount! Email pr@sbid.org to redeem! \nRegister to attend
URL:https://www.sbid.org/event/design-school-feng-shui-course-by-ns-interiors/2025-06-20/
LOCATION:Rimadesio\, 85 Wigmore St\, London\, W1U 1DL
CATEGORIES:CPD Events,Interior Design
ATTACH;FMTTYPE=image/jpeg:https://www.sbid.org/wp-content/uploads/2024/04/ns-interiors.jpg
END:VEVENT
BEGIN:VEVENT
DTSTART;TZID=Europe/London:20250516T093000
DTEND;TZID=Europe/London:20250516T170000
DTSTAMP:20260420T091825
CREATED:20250214T124658Z
LAST-MODIFIED:20250611T120536Z
UID:86150-1747387800-1747414800@www.sbid.org
SUMMARY:Design School Feng Shui Course by NS Interiors
DESCRIPTION:NS Interiors have created this one-day intermediate CPD course to break down all the myths and superstitions that cloud the real core of Feng Shui Interior Design!\nThe one-day course teaches you the methods you need to incorporate Feng Shui into your Interior design project\, architectural planning and even how to design specific pieces of furniture to enhance other designer’s projects. \nSBID Members earn 4 x CPD Points for attending + receive 10% discount! Email pr@sbid.org to redeem! \nRegister to attend
URL:https://www.sbid.org/event/design-school-feng-shui-course-by-ns-interiors/2025-05-16/
LOCATION:Rimadesio\, 85 Wigmore St\, London\, W1U 1DL
CATEGORIES:CPD Events,Interior Design
ATTACH;FMTTYPE=image/jpeg:https://www.sbid.org/wp-content/uploads/2024/04/ns-interiors.jpg
END:VEVENT
BEGIN:VEVENT
DTSTART;TZID=Europe/London:20250424T080000
DTEND;TZID=Europe/London:20250424T100000
DTSTAMP:20260420T091825
CREATED:20250417T080958Z
LAST-MODIFIED:20250417T080958Z
UID:86013-1745481600-1745488800@www.sbid.org
SUMMARY:Transforming Your Space with Light
DESCRIPTION:Join Poggenpohl UK to discover how lighting can elevate the atmosphere\, functionality\, and overall experience of any space in this engaging and informative course from Lutron!\n“Transforming Your Space with Light” is designed to give professionals a deeper understanding of the power of lighting design and control\, with a focus on human-centric solutions\, energy efficiency\, and aesthetic impact. \nWhether you’re working on high-end residential projects or commercial environments\, this course will explore how Lutron’s innovative lighting control technologies—like Ketra\, Palladiom\, and HomeWorks—can bring spaces to life. You’ll learn how to create scenes\, manage natural and artificial light\, and design environments that adapt to the needs and moods of their occupants. \nIdeal for integrators\, designers\, architects\, and consultants\, this course will inspire you to see lighting not just as illumination—but as an experience \nSBID Members earn 5 x CPD points for attending! \nRegister to attend
URL:https://www.sbid.org/event/transforming-your-space-with-light/
LOCATION:Poggenpohl\, Wigmore Kitchens\, 118 Wigmore Street\, London\, W1U 3RT\, United Kingdom
CATEGORIES:CPD Events,Lighting
ATTACH;FMTTYPE=image/jpeg:https://www.sbid.org/wp-content/uploads/2025/04/SBID-Landscape-6.jpg
GEO:51.515844;-0.152899
X-APPLE-STRUCTURED-LOCATION;VALUE=URI;X-ADDRESS=Poggenpohl Wigmore Kitchens 118 Wigmore Street London W1U 3RT United Kingdom;X-APPLE-RADIUS=500;X-TITLE=Wigmore Kitchens\, 118 Wigmore Street:geo:-0.152899,51.515844
END:VEVENT
BEGIN:VEVENT
DTSTART;TZID=Europe/London:20250304T093000
DTEND;TZID=Europe/London:20250304T170000
DTSTAMP:20260420T091825
CREATED:20250214T124658Z
LAST-MODIFIED:20250611T120536Z
UID:83474-1741080600-1741107600@www.sbid.org
SUMMARY:Design School Feng Shui Course by NS Interiors
DESCRIPTION:NS Interiors have created this one-day intermediate CPD course to break down all the myths and superstitions that cloud the real core of Feng Shui Interior Design!\nThe one-day course teaches you the methods you need to incorporate Feng Shui into your Interior design project\, architectural planning and even how to design specific pieces of furniture to enhance other designer’s projects. \nSBID Members earn 4 x CPD Points for attending + receive 10% discount! Email pr@sbid.org to redeem! \nRegister to attend
URL:https://www.sbid.org/event/design-school-feng-shui-course-by-ns-interiors/2025-03-04/
LOCATION:Rimadesio\, 85 Wigmore St\, London\, W1U 1DL
CATEGORIES:CPD Events,Interior Design
ATTACH;FMTTYPE=image/jpeg:https://www.sbid.org/wp-content/uploads/2024/04/ns-interiors.jpg
END:VEVENT
BEGIN:VEVENT
DTSTART;TZID=Europe/London:20241108T093000
DTEND;TZID=Europe/London:20241108T170000
DTSTAMP:20260420T091825
CREATED:20241002T123120Z
LAST-MODIFIED:20241011T125959Z
UID:81526-1731058200-1731085200@www.sbid.org
SUMMARY:NS Interiors: Design School Feng Shui Course
DESCRIPTION:NS Interiors introduces Interior Design courses focussing on Feng Shui as a system unique to Interior Design and Architecture!\nAttend the upcoming one day class at Parklex Prodema showroom in Clerkenwell on Friday 8th November! \nAs a leading expert in Feng Shui for over 32 years and an award winning interior designer\, Nicholas Sunderland will teach the fundamentals of The Design School Feng Shui without its complexity\, myths\, superstition\, and mystery to enable designers to incorporate it into their own particular style and methods. \nUnlike traditional Feng Shui courses – which usually take weeks\, even years – the course is filtered into a system that is easy to understand and uniquely focused on Interior Designers and Architects. \nSBID Members earn 4 x CPD Points for attending + receive 10% discount! Email pr@sbid.org to redeem! \nRegister to attend
URL:https://www.sbid.org/event/ns-interiors-design-school-feng-shui-course/
LOCATION:Parklex Prodema\, Second floor\, Berry House\, 4 Berry St\, London\, EC1V 0AA\, United Kingdom
CATEGORIES:CPD Events,Interior Design
ATTACH;FMTTYPE=image/jpeg:https://www.sbid.org/wp-content/uploads/2024/04/ns-interiors.jpg
END:VEVENT
BEGIN:VEVENT
DTSTART;TZID=Europe/London:20240719T093000
DTEND;TZID=Europe/London:20240719T170000
DTSTAMP:20260420T091825
CREATED:20240709T105859Z
LAST-MODIFIED:20240709T105859Z
UID:80161-1721381400-1721408400@www.sbid.org
SUMMARY:Design School Feng Shui Course with NS Interiors
DESCRIPTION:NS Interiors’ one day Interior Design course focus on Feng Shui as a system unique to Interior Design and Architecture\nAs a leading expert in Feng Shui for over 32 years and an award winning interior designer\, Nicholas Sunderland\, founder of NS Interiors will teach the fundamentals of The Design School Feng Shui without its complexity\, myths\, superstition\, and mystery to enable designers to incorporate it into their own particular style and methods. \nUnlike traditional Feng Shui courses – which usually take weeks\, even years – the course is filtered into a system that is easy to understand and uniquely focused on Interior Designers and Architects. \nSBID Members earn 4 x CPD Points \n+ receive exclusive 25% discount with a reduced rate of £150 (usually £199) + VAT. Email pr@sbid.org to redeem! \nRegister to attend
URL:https://www.sbid.org/event/design-school-feng-shui-course-with-ns-interiors-2/
LOCATION:Parklex Prodema\, Second floor\, Berry House\, 4 Berry St\, London\, EC1V 0AA\, United Kingdom
CATEGORIES:CPD Events,Interior Design
ATTACH;FMTTYPE=image/jpeg:https://www.sbid.org/wp-content/uploads/2024/04/ns-interiors.jpg
END:VEVENT
BEGIN:VEVENT
DTSTART;VALUE=DATE:20240531
DTEND;VALUE=DATE:20240720
DTSTAMP:20260420T091825
CREATED:20240514T101336Z
LAST-MODIFIED:20240514T101336Z
UID:79340-1717113600-1721433599@www.sbid.org
SUMMARY:Design School Feng Shui Course with NS Interiors
DESCRIPTION:NS Interiors’ one day Interior Design courses focus on Feng Shui as a system unique to Interior Design and Architecture\nAs a leading expert in Feng Shui for over 32 years and an award winning interior designer\, Nicholas Sunderland\, founder of NS Interiors will teach the fundamentals of The Design School Feng Shui without its complexity\, myths\, superstition\, and mystery to enable designers to incorporate it into their own particular style and methods. \nUnlike traditional Feng Shui courses – which usually take weeks\, even years – the course is filtered into a system that is easy to understand and uniquely focused on Interior Designers and Architects. \nSBID Members earn 4 x CPD Points per event \n+ receive exclusive 25% discount with a reduced rate of £150 (usually £199) + VAT. Email pr@sbid.org to redeem! \nRegister to attend
URL:https://www.sbid.org/event/design-school-feng-shui-course-with-ns-interiors/
LOCATION:Parklex Prodema\, Second floor\, Berry House\, 4 Berry St\, London\, EC1V 0AA\, United Kingdom
CATEGORIES:CPD Events,Interior Design
ATTACH;FMTTYPE=image/jpeg:https://www.sbid.org/wp-content/uploads/2024/04/ns-interiors.jpg
END:VEVENT
BEGIN:VEVENT
DTSTART;TZID=Europe/London:20240419T093000
DTEND;TZID=Europe/London:20240419T170000
DTSTAMP:20260420T091825
CREATED:20240411T085533Z
LAST-MODIFIED:20240510T095358Z
UID:78795-1713519000-1713546000@www.sbid.org
SUMMARY:Design School Feng Shui Course with NS Interiors
DESCRIPTION:NS Interiors introduces one & two day Interior Design courses focussing on Feng Shui as a system unique to Interior Design and Architecture!\nAttend the upcoming one day class at Parklex Prodema showroom in Clerkenwell on Friday 19th April! \nAs a leading expert in Feng Shui for over 32 years and an award winning interior designer\, Nicholas Sunderland will teach the fundamentals of The Design School Feng Shui without its complexity\, myths\, superstition\, and mystery to enable designers to incorporate it into their own particular style and methods. \nUnlike traditional Feng Shui courses – which usually take weeks\, even years – the course is filtered into a system that is easy to understand and uniquely focused on Interior Designers and Architects. \nSBID Members earn 4 x CPD Points for attending \n+ receive discounted rates (usually £266) at £75 per person\, or £50 for 2 bookings! Email pr@sbid.org to redeem! \nRegister to attend
URL:https://www.sbid.org/event/design-school-feng-shui/
LOCATION:Parklex Prodema\, Second floor\, Berry House\, 4 Berry St\, London\, EC1V 0AA\, United Kingdom
CATEGORIES:CPD Events,Interior Design
ATTACH;FMTTYPE=image/jpeg:https://www.sbid.org/wp-content/uploads/2024/04/ns-interiors.jpg
END:VEVENT
END:VCALENDAR