BEGIN:VCALENDAR
VERSION:2.0
PRODID:-//Society of British &amp; International Interior Design - ECPv6.9.0//NONSGML v1.0//EN
CALSCALE:GREGORIAN
METHOD:PUBLISH
X-WR-CALNAME:Society of British &amp; International Interior Design
X-ORIGINAL-URL:https://www.sbid.org
X-WR-CALDESC:Events for Society of British &amp; International Interior Design
REFRESH-INTERVAL;VALUE=DURATION:PT1H
X-Robots-Tag:noindex
X-PUBLISHED-TTL:PT1H
BEGIN:VTIMEZONE
TZID:Europe/London
BEGIN:DAYLIGHT
TZOFFSETFROM:+0000
TZOFFSETTO:+0100
TZNAME:BST
DTSTART:20230326T010000
END:DAYLIGHT
BEGIN:STANDARD
TZOFFSETFROM:+0100
TZOFFSETTO:+0000
TZNAME:GMT
DTSTART:20231029T010000
END:STANDARD
BEGIN:DAYLIGHT
TZOFFSETFROM:+0000
TZOFFSETTO:+0100
TZNAME:BST
DTSTART:20240331T010000
END:DAYLIGHT
BEGIN:STANDARD
TZOFFSETFROM:+0100
TZOFFSETTO:+0000
TZNAME:GMT
DTSTART:20241027T010000
END:STANDARD
BEGIN:DAYLIGHT
TZOFFSETFROM:+0000
TZOFFSETTO:+0100
TZNAME:BST
DTSTART:20250330T010000
END:DAYLIGHT
BEGIN:STANDARD
TZOFFSETFROM:+0100
TZOFFSETTO:+0000
TZNAME:GMT
DTSTART:20251026T010000
END:STANDARD
END:VTIMEZONE
BEGIN:VEVENT
DTSTART;VALUE=DATE:20251024
DTEND;VALUE=DATE:20251025
DTSTAMP:20260422T222055
CREATED:20250731T100644Z
LAST-MODIFIED:20250731T100644Z
UID:87320-1761264000-1761350399@www.sbid.org
SUMMARY:SBID International Design Awards 2025
DESCRIPTION:The SBID International Design Awards is one of the most prestigious recognitions of excellence in the interior design industry\nChampioning the exceptional interior designs\, fit-out works and innovative interior products that the industry has to offer\, the awards serve to recognise\, reward and celebrate design talent from a broad range of categories across Interior Design\, Product Design and Fit Out. The SBID Awards culminates with a dazzling ceremony\, brimming with the A&D industry’s most outstanding design professionals to announce the SBID Global Category Award winners. \nSBID Members receive exclusive benefits including: \n– 1 x free annual submission into the Awards programme and reduced entry fees. \n– 5% discount on tickets to attend the SBID Awards ceremony. \nClick here to find out more about the member benefits. \nBook your tickets
URL:https://www.sbid.org/event/sbid-international-design-awards-2025/
LOCATION:Royal Lancaster Hotel\, Lancaster Terrace\, London\, W2 2TY\, United Kingdom
CATEGORIES:Interior Design
ATTACH;FMTTYPE=image/jpeg:https://www.sbid.org/wp-content/uploads/2025/07/SBID-Awards_0432.jpg
END:VEVENT
BEGIN:VEVENT
DTSTART;VALUE=DATE:20241101
DTEND;VALUE=DATE:20241102
DTSTAMP:20260422T222055
CREATED:20240919T162543Z
LAST-MODIFIED:20240919T163617Z
UID:81371-1730419200-1730505599@www.sbid.org
SUMMARY:SBID International Design Awards 2024
DESCRIPTION:The SBID International Design Awards is one of the most prestigious recognitions of excellence in the interior design industry\nChampioning the exceptional interior designs\, fit-out works and innovative interior products that the industry has to offer\, the awards serve to recognise\, reward and celebrate design talent from a broad range of categories across Interior Design\, Product Design and Fit Out. The SBID Awards culminates with a dazzling ceremony\, brimming with the A&D industry’s most outstanding design professionals to announce the SBID Global Category Award winners. \nSBID Members receive exclusive benefits including: \n– 1 x free annual submission into the Awards programme and reduced entry fees. \n– 5% discount on tickets to attend the SBID Awards ceremony. \nClick here to find out more about the member benefits. \nBook your tickets
URL:https://www.sbid.org/event/sbid-international-design-awards-2024/
LOCATION:Royal Lancaster Hotel\, Lancaster Terrace\, London\, W2 2TY\, United Kingdom
CATEGORIES:Interior Design
ATTACH;FMTTYPE=image/jpeg:https://www.sbid.org/wp-content/uploads/2024/09/20231103-122855-TellingPhotography-thumb.jpg
END:VEVENT
BEGIN:VEVENT
DTSTART;TZID=Europe/London:20231103T120000
DTEND;TZID=Europe/London:20231103T170000
DTSTAMP:20260422T222055
CREATED:20230206T153903Z
LAST-MODIFIED:20230818T084836Z
UID:69418-1699012800-1699030800@www.sbid.org
SUMMARY:SBID International Design Awards 2023
DESCRIPTION:The SBID International Design Awards is one of the most prestigious recognitions of excellence in the interior design industry\nChampioning the exceptional interior designs\, fit-out works and innovative interior products that the industry has to offer\, the awards serve to recognise\, reward and celebrate design talent from a broad range of categories across Interior Design\, Product Design and Fit Out. The SBID Awards culminates with a dazzling ceremony\, brimming with the A&D industry’s most outstanding design professionals to announce the SBID Category Award winners. \nSBID Members receive exclusive benefits including:\n– 1 x free annual submission into the SBID Awards and reduced entry fees. \n– 5% discount on tickets to attend the annual SBID Awards ceremony. \nClick here to find out more about the member benefits. \nBook your tickets
URL:https://www.sbid.org/event/sbid-international-design-awards-2023/
LOCATION:The Landmark London\, 222 Marylebone Road\, London\, NW1 6JQ\, United Kingdom
CATEGORIES:Interior Design
ATTACH;FMTTYPE=image/jpeg:https://www.sbid.org/wp-content/uploads/2023/02/JBPhoto_221021_7082_L.jpg
END:VEVENT
END:VCALENDAR