BEGIN:VCALENDAR
VERSION:2.0
PRODID:-//Society of British &amp; International Interior Design - ECPv6.9.0//NONSGML v1.0//EN
CALSCALE:GREGORIAN
METHOD:PUBLISH
X-ORIGINAL-URL:https://www.sbid.org
X-WR-CALDESC:Events for Society of British &amp; International Interior Design
REFRESH-INTERVAL;VALUE=DURATION:PT1H
X-Robots-Tag:noindex
X-PUBLISHED-TTL:PT1H
BEGIN:VTIMEZONE
TZID:Europe/London
BEGIN:DAYLIGHT
TZOFFSETFROM:+0000
TZOFFSETTO:+0100
TZNAME:BST
DTSTART:20210328T010000
END:DAYLIGHT
BEGIN:STANDARD
TZOFFSETFROM:+0100
TZOFFSETTO:+0000
TZNAME:GMT
DTSTART:20211031T010000
END:STANDARD
BEGIN:DAYLIGHT
TZOFFSETFROM:+0000
TZOFFSETTO:+0100
TZNAME:BST
DTSTART:20220327T010000
END:DAYLIGHT
BEGIN:STANDARD
TZOFFSETFROM:+0100
TZOFFSETTO:+0000
TZNAME:GMT
DTSTART:20221030T010000
END:STANDARD
BEGIN:DAYLIGHT
TZOFFSETFROM:+0000
TZOFFSETTO:+0100
TZNAME:BST
DTSTART:20230326T010000
END:DAYLIGHT
BEGIN:STANDARD
TZOFFSETFROM:+0100
TZOFFSETTO:+0000
TZNAME:GMT
DTSTART:20231029T010000
END:STANDARD
BEGIN:DAYLIGHT
TZOFFSETFROM:+0000
TZOFFSETTO:+0100
TZNAME:BST
DTSTART:20240331T010000
END:DAYLIGHT
BEGIN:STANDARD
TZOFFSETFROM:+0100
TZOFFSETTO:+0000
TZNAME:GMT
DTSTART:20241027T010000
END:STANDARD
BEGIN:DAYLIGHT
TZOFFSETFROM:+0000
TZOFFSETTO:+0100
TZNAME:BST
DTSTART:20250330T010000
END:DAYLIGHT
BEGIN:STANDARD
TZOFFSETFROM:+0100
TZOFFSETTO:+0000
TZNAME:GMT
DTSTART:20251026T010000
END:STANDARD
BEGIN:DAYLIGHT
TZOFFSETFROM:+0000
TZOFFSETTO:+0100
TZNAME:BST
DTSTART:20260329T010000
END:DAYLIGHT
BEGIN:STANDARD
TZOFFSETFROM:+0100
TZOFFSETTO:+0000
TZNAME:GMT
DTSTART:20261025T010000
END:STANDARD
TZID:Europe/Rome
BEGIN:DAYLIGHT
TZOFFSETFROM:+0100
TZOFFSETTO:+0200
TZNAME:CEST
DTSTART:20230326T010000
END:DAYLIGHT
BEGIN:STANDARD
TZOFFSETFROM:+0200
TZOFFSETTO:+0100
TZNAME:CET
DTSTART:20231029T010000
END:STANDARD
END:VTIMEZONE
BEGIN:VEVENT
DTSTART;TZID=Europe/London:20260311T140000
DTEND;TZID=Europe/London:20260311T143000
DTSTAMP:20260419T165249
CREATED:20260218T140647Z
LAST-MODIFIED:20260310T132458Z
UID:90430-1773237600-1773239400@www.sbid.org
SUMMARY:How Invisible Lighting Control Transforms Interiors
DESCRIPTION:Lighting control is often seen as technical\, but for interior designers it is an aesthetic decision!\nThis talk with Harry Brown of Mode Lighting explores how scene setting shapes mood\, atmosphere and experience\, using invisible technology and timeless switch design to enhance interiors while preserving the visual language of a space. \nSBID Members earn 1 x CPD point for attending! \nRegister to attend
URL:https://www.sbid.org/event/how-invisible-lighting-control-transforms-interiors/
LOCATION:Forbes & Lomax\, First Floor\, Design Centre East\, Chelsea Harbour\, London\, SW10 0XF\, United Kingdom
CATEGORIES:Design Industry,Interior Design,Lighting
ATTACH;FMTTYPE=image/jpeg:https://www.sbid.org/wp-content/uploads/2026/02/Landscape-1-1.jpg
END:VEVENT
BEGIN:VEVENT
DTSTART;TZID=Europe/London:20260309T100000
DTEND;TZID=Europe/London:20260309T104500
DTSTAMP:20260419T165249
CREATED:20260218T135937Z
LAST-MODIFIED:20260218T135937Z
UID:90426-1773050400-1773053100@www.sbid.org
SUMMARY:Designing for Tomorrow: The Blend between Luxury and Sustainability
DESCRIPTION:This event introduces Positive Luxury and recaps its year-long collaboration with Forbes & Lomax\, culminating in the award of Butterfly Mark Certification!\nExplore how sustainability can complement luxury design from start to finish with a practical masterclass on how to insert sustainable thinking into future decision making. \nSBID Members earn 2 x CPD points for attending! \nRegister to attend
URL:https://www.sbid.org/event/designing-for-tomorrow-the-blend-between-luxury-and-sustainability/
LOCATION:Forbes & Lomax\, First Floor\, Design Centre East\, Chelsea Harbour\, London\, SW10 0XF\, United Kingdom
CATEGORIES:Design Industry,Interior Design,Lighting,Sustainability
ATTACH;FMTTYPE=image/jpeg:https://www.sbid.org/wp-content/uploads/2026/02/Landscape-4.jpg
END:VEVENT
BEGIN:VEVENT
DTSTART;VALUE=DATE:20251119
DTEND;VALUE=DATE:20251121
DTSTAMP:20260419T165249
CREATED:20250819T120445Z
LAST-MODIFIED:20251030T144127Z
UID:87609-1763510400-1763683199@www.sbid.org
SUMMARY:LiGHT25
DESCRIPTION:Where lighting and design unite: The UK’s only dedicated exhibition for lighting specification!\nLiGHT 25 returns to the Business Design Centre\, Islington\, London on the 19th and 20th of November 2025\, promising its biggest and most inspiring edition yet. \nFollowing a record-breaking 2024 event that welcomed over 5\,500 visitors\, this year’s show continues to evolve with a dynamic new addition to the layout. To reflect the scale and scope of the lighting industry today\, LiGHT 25 will be divided into three distinct zones\, helping visitors easily explore the vast range of brands\, technologies\, and innovations on display. \nVIP Design Tour available for SBID Members. Email pr@sbid.org to redeem! \nRegister to attend
URL:https://www.sbid.org/event/light25/
LOCATION:Business Design Centre\, 52 Upper Street\, London\, N1 0QH\, United Kingdom
CATEGORIES:CPD Events,Lighting,Trade
ATTACH;FMTTYPE=image/jpeg:https://www.sbid.org/wp-content/uploads/2025/08/Landscape-14.jpg
GEO:51.5356255;-0.1058398
X-APPLE-STRUCTURED-LOCATION;VALUE=URI;X-ADDRESS=Business Design Centre 52 Upper Street London N1 0QH United Kingdom;X-APPLE-RADIUS=500;X-TITLE=52 Upper Street:geo:-0.1058398,51.5356255
END:VEVENT
BEGIN:VEVENT
DTSTART;TZID=Europe/London:20250917T103000
DTEND;TZID=Europe/London:20250917T120000
DTSTAMP:20260419T165249
CREATED:20250902T132642Z
LAST-MODIFIED:20250902T132915Z
UID:87773-1758105000-1758110400@www.sbid.org
SUMMARY:Invisible Comfort
DESCRIPTION:Join four leading industry experts for an exclusive event that shines a spotlight on how light\, climate\, and control can elevate and transform design spaces!\nTailored specifically for interior designers and architects\, this session will explore the intersection of technology and design\, demonstrating how the seamless integration of environmental systems can create spaces that are not only beautiful\, but also more comfortable\, efficient\, and sustainable. \nFrom practical applications to inspiring case studies\, attendees will gain valuable insight into how invisible yet essential elements such as heating\, cooling\, lighting\, and automation can enhance the client experience while supporting design integrity. \nThis is a unique opportunity to deepen your knowledge of integrated environmental design and connect with peers who are pushing the boundaries of innovation in the built environment. \nAgenda:\n– 10:30am – 11am: Arrivals\, Coffee & Networking\n– 11am – 12pm: Presentation with John Cullen Lighting\, Polar Bear Design\, Homeplay\, and Forbes & Lomax \nSBID Members earn 2 x CPD points for attending! \nRegister to attend\nPlease note: The presentation will begin promptly at 11am. Due to the blackout conditions created as part of the experience\, late arrivals will not be admitted.
URL:https://www.sbid.org/event/invisible-comfort/
LOCATION:John Cullen Lighting\, 561-563 King's Road\, London\, SW6 2EB\, United Kingdom
CATEGORIES:Design Industry,Home Technology,Lighting
ATTACH;FMTTYPE=image/jpeg:https://www.sbid.org/wp-content/uploads/2025/09/Landscape-1.jpg
END:VEVENT
BEGIN:VEVENT
DTSTART;TZID=Europe/London:20250424T080000
DTEND;TZID=Europe/London:20250424T100000
DTSTAMP:20260419T165249
CREATED:20250417T080958Z
LAST-MODIFIED:20250417T080958Z
UID:86013-1745481600-1745488800@www.sbid.org
SUMMARY:Transforming Your Space with Light
DESCRIPTION:Join Poggenpohl UK to discover how lighting can elevate the atmosphere\, functionality\, and overall experience of any space in this engaging and informative course from Lutron!\n“Transforming Your Space with Light” is designed to give professionals a deeper understanding of the power of lighting design and control\, with a focus on human-centric solutions\, energy efficiency\, and aesthetic impact. \nWhether you’re working on high-end residential projects or commercial environments\, this course will explore how Lutron’s innovative lighting control technologies—like Ketra\, Palladiom\, and HomeWorks—can bring spaces to life. You’ll learn how to create scenes\, manage natural and artificial light\, and design environments that adapt to the needs and moods of their occupants. \nIdeal for integrators\, designers\, architects\, and consultants\, this course will inspire you to see lighting not just as illumination—but as an experience \nSBID Members earn 5 x CPD points for attending! \nRegister to attend
URL:https://www.sbid.org/event/transforming-your-space-with-light/
LOCATION:Poggenpohl\, Wigmore Kitchens\, 118 Wigmore Street\, London\, W1U 3RT\, United Kingdom
CATEGORIES:CPD Events,Lighting
ATTACH;FMTTYPE=image/jpeg:https://www.sbid.org/wp-content/uploads/2025/04/SBID-Landscape-6.jpg
GEO:51.515844;-0.152899
X-APPLE-STRUCTURED-LOCATION;VALUE=URI;X-ADDRESS=Poggenpohl Wigmore Kitchens 118 Wigmore Street London W1U 3RT United Kingdom;X-APPLE-RADIUS=500;X-TITLE=Wigmore Kitchens\, 118 Wigmore Street:geo:-0.152899,51.515844
END:VEVENT
BEGIN:VEVENT
DTSTART;VALUE=DATE:20241120
DTEND;VALUE=DATE:20241122
DTSTAMP:20260419T165249
CREATED:20241003T101556Z
LAST-MODIFIED:20241003T101556Z
UID:81533-1732060800-1732233599@www.sbid.org
SUMMARY:LiGHT24
DESCRIPTION:Where lighting and design unite: The UK’s only dedicated exhibition for lighting specification!\nArchitects\, interior designers\, lighting designers\, engineers\, and specifiers head to LiGHT in their thousands to see the very latest product innovations and launches from 100s of exhibiting architectural and decorative lighting brands. \nRun by [d]arc media – the leading media company in lighting design – the show also features the highly regarded [d]arc thoughts talks programme. Moderated by editors from the leading lighting design magazines arc and darc\, as well as guest moderators\, the talks delve deeper into the latest topics and trends affecting lighting and design – whether that’s looking at circular economy and sustainability\, designing for wellness\, or diversity in design. \nSBID Members earn 2 x CPD points for attending! \nRegister to attend
URL:https://www.sbid.org/event/light24/
LOCATION:Business Design Centre\, 52 Upper Street\, London\, N1 0QH\, United Kingdom
CATEGORIES:CPD Events,Lighting,Trade
ATTACH;FMTTYPE=image/jpeg:https://www.sbid.org/wp-content/uploads/2024/10/1-18.jpg
GEO:51.5356255;-0.1058398
X-APPLE-STRUCTURED-LOCATION;VALUE=URI;X-ADDRESS=Business Design Centre 52 Upper Street London N1 0QH United Kingdom;X-APPLE-RADIUS=500;X-TITLE=52 Upper Street:geo:-0.1058398,51.5356255
END:VEVENT
BEGIN:VEVENT
DTSTART;TZID=Europe/London:20240516T180000
DTEND;TZID=Europe/London:20240516T203000
DTSTAMP:20260419T165249
CREATED:20240507T090338Z
LAST-MODIFIED:20240508T182706Z
UID:79117-1715882400-1715891400@www.sbid.org
SUMMARY:Luxury Lighting Workshop
DESCRIPTION:Mastering Architectural & Decorative Lighting and the Technology behind it\nAn interactive workshop presenting a unique and valuable opportunity to learn creative lighting techniques and design ideas from our renowned panel of experts: \nHomeplay will be taking you on an experiential tour of our newly refurbished Experience Centre\, drawing attention to the wide range of architectural and decorative lighting techniques and products that we use to create world-class luxury interiors. \nSpeakers: \n– Luke Thomas\, Design Director\, John Cullen Lighting\n– Harriet Daniels\, Founder and Creative Director\, Tigermoth Lighting\n– James Ratcliffe\, Managing Director and Owner\, Homeplay \nDrinks and light bites will be provided. \nSBID Members earn 4 x CPD Points for attending! \nRegister to attend
URL:https://www.sbid.org/event/luxury-lighting-workshop/
LOCATION:Homeplay\, 117 Windmill Road\, Sunbury-on-Thames\, TW16 7EF\, United Kingdom
CATEGORIES:CPD Events,Lighting
ATTACH;FMTTYPE=image/jpeg:https://www.sbid.org/wp-content/uploads/2024/05/homeplay-event.jpg
END:VEVENT
BEGIN:VEVENT
DTSTART;TZID=Europe/London:20240229T173000
DTEND;TZID=Europe/London:20240229T200000
DTSTAMP:20260419T165249
CREATED:20240131T165254Z
LAST-MODIFIED:20240202T162918Z
UID:77454-1709227800-1709236800@www.sbid.org
SUMMARY:Homeplay X John Cullen Lighting Experience Centre Launch Party
DESCRIPTION:Join for the unveiling of the Homeplay X John Cullen Lighting Experience Centre in Surrey\nA unique destination showcasing a wide range of John Cullen’s exceptional products\, thoughtfully integrated within the context of a luxury living space. \nTailored for the Surrey design community and featuring a carefully curated mix of stunning lighting and the world’s finest home technology products\, it is a destination for you to experience how lighting and technology can transform your projects. \nMeet the Homeplay X John Cullen Team over drinks and canapés at our launch party ‘Leap Into Light’ on Thursday 29th February. \nSpaces are limited so RSVP now using the link below to avoid disappointment. We look forward to seeing you there! \nSBID Members earn 2 x CPD Points for attending! \nRegister to attend
URL:https://www.sbid.org/event/homeplay-x-john-cullen-lighting-experience-centre-launch-party/
LOCATION:Homeplay\, 117 Windmill Road\, Sunbury-on-Thames\, TW16 7EF\, United Kingdom
CATEGORIES:CPD Events,Home Technology,Lighting
ATTACH;FMTTYPE=image/jpeg:https://www.sbid.org/wp-content/uploads/2024/01/homeplay.jpg
END:VEVENT
BEGIN:VEVENT
DTSTART;VALUE=DATE:20231121
DTEND;VALUE=DATE:20231123
DTSTAMP:20260419T165249
CREATED:20230131T163657Z
LAST-MODIFIED:20230804T120244Z
UID:69061-1700524800-1700697599@www.sbid.org
SUMMARY:LiGHT23
DESCRIPTION:The UK’s leading exhibition for decorative lighting \nHeld over two days at the Business Design Centre\, the LiGHT exhibition is set to see more than 100 high-end international lighting brands present their latest product ranges for the decorative and architectural specification market. Show highlights include the [d]arc thoughts talks programme\, with a stream of guests across the two days\, keen to learn more about the hot topics from interior design\, architecture and lighting. New to the 2023 show is a bespoke decorative lighting hub of show showcasing a range of brands and an exclusive designers lounge. \nRegister to attend\n 
URL:https://www.sbid.org/event/light-23/
LOCATION:Business Design Centre\, 52 Upper Street\, London\, N1 0QH\, United Kingdom
CATEGORIES:Interior Design,Lighting
ATTACH;FMTTYPE=image/jpeg:https://www.sbid.org/wp-content/uploads/2023/01/22.11.22-Light22-evening-132-e1675187308308.jpg
GEO:51.5356255;-0.1058398
X-APPLE-STRUCTURED-LOCATION;VALUE=URI;X-ADDRESS=Business Design Centre 52 Upper Street London N1 0QH United Kingdom;X-APPLE-RADIUS=500;X-TITLE=52 Upper Street:geo:-0.1058398,51.5356255
END:VEVENT
BEGIN:VEVENT
DTSTART;TZID=Europe/London:20231004T100000
DTEND;TZID=Europe/London:20231008T170000
DTSTAMP:20260419T165249
CREATED:20230928T101052Z
LAST-MODIFIED:20230929T105013Z
UID:74591-1696413600-1696784400@www.sbid.org
SUMMARY:Contemporary Chandelier Co Showcases Bespoke Lighting at Grand Designs Live
DESCRIPTION:The Contemporary Chandelier Company invites you to experience new bespoke lighting designs and meet head designer\, Iestyn Davies\nIn the Interiors Section of Grand Designs Live on Stand L18\, you will get a sneak peak of the original prototype that inspired the breath-taking 12m long stairwell centrepiece in the Chancery Building of the British Embassy in Paris. You can explore the design\, discover the design process and discuss your own bespoke creations! \nAlso brand new and on show\, will be their incredibly decorative hand-patinated\, gilded wall and pendant lights\, offering a personalised colour palette to suit any interior design. More sculpture than light\, CCC champion a unique decorative aesthetic with an element of innovation to push the boundaries between form\, function\, longevity and economy. Like illuminated art pieces within your projects\, all designs are fully bespoke\, inviting you to take part in the design process\, from start to finish. \nContemporary Chandeliers offer a full design service\, manufactured for your space and installed by their expert team. \nThe Contemporary Chandelier Company recently had four designs shortlisted in the Lighting category of the upcoming SBID Awards; most of which will be showcased on the Grand Design stand! \nRegister to attend
URL:https://www.sbid.org/event/contemporary-chandelier-co-showcases-bespoke-lighting-at-grand-designs-live/
LOCATION:NEC Birmingham\, North Avenue\, Marston Green\, Birmingham\, B40 1NT\, United Kingdom
CATEGORIES:Lighting,Trade
ATTACH;FMTTYPE=image/jpeg:https://www.sbid.org/wp-content/uploads/2023/09/chandelier-co.jpg
GEO:52.486243;-1.890401
X-APPLE-STRUCTURED-LOCATION;VALUE=URI;X-ADDRESS=NEC Birmingham North Avenue Marston Green Birmingham B40 1NT United Kingdom;X-APPLE-RADIUS=500;X-TITLE=North Avenue\, Marston Green:geo:-1.890401,52.486243
END:VEVENT
BEGIN:VEVENT
DTSTART;VALUE=DATE:20230417
DTEND;VALUE=DATE:20230424
DTSTAMP:20260419T165249
CREATED:20230406T151329Z
LAST-MODIFIED:20230411T093959Z
UID:70536-1681689600-1682294399@www.sbid.org
SUMMARY:Sans Souci at Milano Design Week 2023
DESCRIPTION:Sans Souci invites you to join them at Milan Design Week 2023! \nThey will be holding specially curated events Fuorisalone and Euroluce\, offering to experience their 15 new collections\, including their immersive piece – HARK – and their special collaborations with Karim Rashid and William Sawaya. You can join an exclusive afternoon with William Sawaya on 19 April from 4-6pm to be introduced to his unique lighting design\, BRANCHY for the first time! \nFuorisalone: 17 to 23 April at Mimmo Scognamiglio Artecontemporanea\, Via Goito 7\, Milan. \nEuroluce: 18 to 23 April at Fiera Milano\, Hall 11\, Booth 205. \nFind out more
URL:https://www.sbid.org/event/sans-souci-at-milano-design-week-2023/
CATEGORIES:Design Industry,Lighting
ATTACH;FMTTYPE=image/jpeg:https://www.sbid.org/wp-content/uploads/2023/04/2.jpg
END:VEVENT
BEGIN:VEVENT
DTSTART;TZID=Europe/London:20230222T090000
DTEND;TZID=Europe/London:20230222T113000
DTSTAMP:20260419T165249
CREATED:20230110T172032Z
LAST-MODIFIED:20230202T112011Z
UID:68916-1677056400-1677065400@www.sbid.org
SUMMARY:Arteriors Breakfast Meeting: CPD Showroom Tour & 2023 Trend Preview
DESCRIPTION:Attend an exclusive Breakfast Meeting at Arteriors’ showroom in Chelsea Harbour’s Design Centre. As a global leader in furniture\, lighting\, wall décor and accessories\, Arteriors has led the way for over 35 years\, providing luxury products for residential\, commercial and hospitality projects from New York to Shanghai. \nJoin us for a tour of the showroom and speak with the team to discover new and innovative product design\, including a preview of the S23 collection. Join us and SBID members on Wednesdary\, 22 February. \nRSVP to attend
URL:https://www.sbid.org/event/arteriors-breakfast-meeting-showroom-tour-2023-trend-preview/
LOCATION:Design Centre Chelsea Harbour\, Lots Road\, Fulham\, London\, SW10 0XE\, United Kingdom
CATEGORIES:CPD Events,Furniture,Lighting
ATTACH;FMTTYPE=image/jpeg:https://www.sbid.org/wp-content/uploads/2023/01/Arteriors-Redford-Dining-Table-£6215-Sacramento-Chandelier-£3.263_low-res.jpg
GEO:51.4758933;-0.1830719
X-APPLE-STRUCTURED-LOCATION;VALUE=URI;X-ADDRESS=Design Centre Chelsea Harbour Lots Road Fulham London SW10 0XE United Kingdom;X-APPLE-RADIUS=500;X-TITLE=Lots Road\, Fulham:geo:-0.1830719,51.4758933
END:VEVENT
BEGIN:VEVENT
DTSTART;VALUE=DATE:20230207
DTEND;VALUE=DATE:20230212
DTSTAMP:20260419T165249
CREATED:20220504T171141Z
LAST-MODIFIED:20230131T145736Z
UID:61695-1675728000-1676159999@www.sbid.org
SUMMARY:Stockholm Furniture & Light Fair 2023
DESCRIPTION:Placing Scandinavian design in an international context\nStockholm Furniture & Light Fair is the world’s leading meeting place for Scandinavian design! Nowhere else in the world will you find as many Scandinavian design companies gathered under one roof. 80% of our 700 exhibitors represent companies from the Scandinavian countries. \nThe latest trends and new products are unveiled here. For a couple of days\, the halls are bursting with the best of Scandinavian furniture and lighting design for both public and home environments. They place Scandinavian design in an international context by drawing visitors from an impressive 100 countries! \nLearn more
URL:https://www.sbid.org/event/stockholm-furniture-light-fair/
CATEGORIES:Furniture,Lighting
ATTACH;FMTTYPE=image/jpeg:https://www.sbid.org/wp-content/uploads/2022/04/Web-general-low-res-1.jpg
END:VEVENT
BEGIN:VEVENT
DTSTART;VALUE=DATE:20221122
DTEND;VALUE=DATE:20221124
DTSTAMP:20260419T165249
CREATED:20220426T141341Z
LAST-MODIFIED:20221103T112459Z
UID:62053-1669075200-1669247999@www.sbid.org
SUMMARY:LiGHT 22
DESCRIPTION:The UK has the second largest design industry in the world and is the largest in Europe and lighting is a vital aspect of the design industry and the design process. \nTo cater for this sector\, LiGHT 22 is a curated\, boutique lighting exhibition for specifiers and designers brought to you [d]arc media\, publishers of arc and darc magazines\, and the team behind the incredibly popular [d]arc awards and [d]arc sessions\, with an in-depth knowledge of the lighting specification sector. \nHeld at the stunning Business Design Centre in Islington\, London\, LiGHT 22 will revive the lighting design and specification exhibition that has been lacking for too long. \nRegister here \n  \n 
URL:https://www.sbid.org/event/light-expo/
CATEGORIES:Interior Design,Lighting
ATTACH;FMTTYPE=image/jpeg:https://www.sbid.org/wp-content/uploads/2022/04/Light22-web-banner-e1650981825394.jpg
END:VEVENT
BEGIN:VEVENT
DTSTART;TZID=Europe/London:20221108T180000
DTEND;TZID=Europe/London:20221108T210000
DTSTAMP:20260419T165249
CREATED:20221103T094112Z
LAST-MODIFIED:20221103T094246Z
UID:67697-1667930400-1667941200@www.sbid.org
SUMMARY:Talk at VitrA London with Sanjit Bahra from Design Plus Light
DESCRIPTION:How does lighting design define the retail experience in an emerging world?\nHear from leading lighting designer\, Sanjit Bahra from Design Plus Light\, as he explores how lighting is instrumental in defining the new retail experience. \nThe world of retail was significantly changed as a result of the pandemic\, pushing it further into the online market. For physical retail spaces to compete successfully\, the focus needs to be on the shopping experience\, often more than the actual commodity. We live in very tumultuous times\, where people are very anxious about the space they are in and people around them. The new retail environment needs to make people feel calm and safe. People don’t walk into spaces and make intellectual judgements; they just make emotional snap-decisions. \nLighting is key in determining the human\, psychological response to a space – it is an important aspect in the ‘commerce’ of the retail experience. \nEvent Programme: \n– Arrival: 6pm \n– Talk starts: 6:30pm \n– Q&A: 7:15pm \n– Drinks & canapés: 7:30 – 8:30pm  \nRSVP to attend
URL:https://www.sbid.org/event/how-does-lighting-design-define-the-retail-experience-in-an-emerging-world-talk-with-sanjit-bahra-at-vitra/
LOCATION:VitrA London\, 64 Turnmill St\, London\, EC1M 5RR\, United Kingdom
CATEGORIES:Interior Design,Lighting
ATTACH;FMTTYPE=image/jpeg:https://www.sbid.org/wp-content/uploads/2022/11/Sanjit-Bahra.jpg
END:VEVENT
BEGIN:VEVENT
DTSTART;TZID=Europe/London:20210526T123000
DTEND;TZID=Europe/London:20210526T133000
DTSTAMP:20260419T165249
CREATED:20210510T135928Z
LAST-MODIFIED:20210603T101430Z
UID:55566-1622032200-1622035800@www.sbid.org
SUMMARY:Accredited CPD: Light and Colour
DESCRIPTION:Light and Colour \nAttend the upcoming CPD Webinar to discover everything you need to know about specifying lighting for your interior designs  – from the sources and measurements of light to how the eye responds to different types of lighting\, this CPD highlights the vital role that lighting plays in interior design\, be it functional or decorative\, for residential or commercial projects. There is more to lighting than meets the eye! \nPresented by Accredited CPD Provider Franklite\, the webinar enables specifiers to better understand how to effectively use and specify lighting in their interior environments. \nSBID Members can register to attend this event for free in SBIDPro. \nA registration fee of £10 is applicable to non-SBID Members. Email events@sbid.org to enquire about attending.
URL:https://www.sbid.org/event/cpd-webinar-light-and-colour/
CATEGORIES:Interior Design,Lighting
ATTACH;FMTTYPE=image/jpeg:https://www.sbid.org/wp-content/uploads/2021/05/about-us-462-370-876-2.jpg
END:VEVENT
END:VCALENDAR