BEGIN:VCALENDAR
VERSION:2.0
PRODID:-//Society of British &amp; International Interior Design - ECPv6.9.0//NONSGML v1.0//EN
CALSCALE:GREGORIAN
METHOD:PUBLISH
X-ORIGINAL-URL:https://www.sbid.org
X-WR-CALDESC:Events for Society of British &amp; International Interior Design
REFRESH-INTERVAL;VALUE=DURATION:PT1H
X-Robots-Tag:noindex
X-PUBLISHED-TTL:PT1H
BEGIN:VTIMEZONE
TZID:Europe/London
BEGIN:DAYLIGHT
TZOFFSETFROM:+0000
TZOFFSETTO:+0100
TZNAME:BST
DTSTART:20260329T010000
END:DAYLIGHT
BEGIN:STANDARD
TZOFFSETFROM:+0100
TZOFFSETTO:+0000
TZNAME:GMT
DTSTART:20261025T010000
END:STANDARD
END:VTIMEZONE
BEGIN:VEVENT
DTSTART;VALUE=DATE:20260417
DTEND;VALUE=DATE:20260509
DTSTAMP:20260419T132000
CREATED:20260128T133404Z
LAST-MODIFIED:20260416T114755Z
UID:90108-1776384000-1778284799@www.sbid.org
SUMMARY:Mark Taylor Design Breakfast Meetings 2026
DESCRIPTION:Join Mark Taylor Design at their Kitchen Home Showroom for an informal breakfast meeting to learn more about Mark Taylor Design!\nThis in person event is an informal opportunity to meet with Mark and the team at our home kitchen showroom in Cookham Dean. Come along and find out more about our portfolio including our Bespoke and MeThD kitchen ranges and how we collaborate with interior designers\, architects and project managers. \nSessions:\nFriday 17th April 2026\, 9:30am-11am GMT: \nRegister now\nFriday 24th April 2026\, 9:30am-11am GMT: \nRegister now\nFriday 8th May 2026\, 9:30am-11am GMT: \nRegister now\nSBID Members earn 2 x CPD points (per session) for attending!
URL:https://www.sbid.org/event/mark-taylor-design-breakfast-meetings-2026/
LOCATION:Mark Taylor Design Home Showroom\, Winter Hill\, Cookham\, Maidenhead\, SL6 9TT\, United Kingdom
CATEGORIES:Interior Design,KBB
ATTACH;FMTTYPE=image/jpeg:https://www.sbid.org/wp-content/uploads/2026/01/Landscape-18.jpg
END:VEVENT
BEGIN:VEVENT
DTSTART;VALUE=DATE:20260501
DTEND;VALUE=DATE:20260505
DTSTAMP:20260419T132000
CREATED:20260116T114826Z
LAST-MODIFIED:20260116T114826Z
UID:89848-1777593600-1777939199@www.sbid.org
SUMMARY:Grand Designs Live
DESCRIPTION:Grand Designs Live returns from 1-4 May\, offering inspiration\, products and expert guidance for every stage of your home project!\nAttend live talks and book one-to-one consultations across dedicated hubs\, explore the latest innovations from exhibitors\, and experience home products in a real-life setting inside The Grand House\, where you can speak to brands and buy featured items at the show. \nSBID Members earn 2 x CPD points for attending! \nRegister to attend
URL:https://www.sbid.org/event/grand-designs-live/
LOCATION:ExCel London\, Royal Victoria Dock\, 1 Western Gateway\, London\, E16 1XL\, United Kingdom
CATEGORIES:Design Industry,Interior Design,Trade
ATTACH;FMTTYPE=image/jpeg:https://www.sbid.org/wp-content/uploads/2026/01/Landscape-9.jpg
GEO:51.5083545;0.0198899
X-APPLE-STRUCTURED-LOCATION;VALUE=URI;X-ADDRESS=ExCel London Royal Victoria Dock 1 Western Gateway London E16 1XL United Kingdom;X-APPLE-RADIUS=500;X-TITLE=Royal Victoria Dock\, 1 Western Gateway:geo:0.0198899,51.5083545
END:VEVENT
BEGIN:VEVENT
DTSTART;VALUE=DATE:20260602
DTEND;VALUE=DATE:20260703
DTSTAMP:20260419T132000
CREATED:20260116T155458Z
LAST-MODIFIED:20260116T155458Z
UID:89865-1780358400-1783036799@www.sbid.org
SUMMARY:WOW!house
DESCRIPTION:Immerse yourself in the creativity of the greatest names in design and decoration across a single\, award-winning showhouse in London!\nWhether you’re an industry professional or a design enthusiast\, WOW!house is the place to find – and take home – some incredibly creative ideas. WOW!house is an immersive experience where you can see\, touch and feel what it’s like to inhabit amazing spaces created by a world-leading designers. Beyond the walls of WOW!house\, the Design Centre’s 135+ showrooms are just steps away: make a day of it with sourcing\, lunch\, a talk and a tour. \nSBID Members earn 2 x CPD points for attending! \nRegister to attend
URL:https://www.sbid.org/event/wowhouse/
LOCATION:Design Centre Chelsea Harbour\, Lots Road\, Fulham\, London\, SW10 0XE\, United Kingdom
CATEGORIES:Design Industry,Interior Design
ATTACH;FMTTYPE=image/jpeg:https://www.sbid.org/wp-content/uploads/2026/01/Landscape-12.jpg
GEO:51.4758933;-0.1830719
X-APPLE-STRUCTURED-LOCATION;VALUE=URI;X-ADDRESS=Design Centre Chelsea Harbour Lots Road Fulham London SW10 0XE United Kingdom;X-APPLE-RADIUS=500;X-TITLE=Lots Road\, Fulham:geo:-0.1830719,51.4758933
END:VEVENT
BEGIN:VEVENT
DTSTART;VALUE=DATE:20260608
DTEND;VALUE=DATE:20260611
DTSTAMP:20260419T132000
CREATED:20260116T152508Z
LAST-MODIFIED:20260116T152508Z
UID:89861-1780876800-1781135999@www.sbid.org
SUMMARY:NeoCon 2026
DESCRIPTION:A launch pad for innovation—NeoCon offers ideas and introductions that shape the built environment today and into the future!\nThe NeoCon exhibition is complemented by first-class educational and inspirational programming offering expertise and insight into the most relevant topics in the industry today. \nSBID Members earn 2 x CPD points for attending! \nRegister to attend
URL:https://www.sbid.org/event/neocon-2026/
LOCATION:The Mart\, 222 W Merchandise Mart Plaza \, Chicago\, IL\, IL 60654\, United States
CATEGORIES:Design Industry,Interior Design,Trade
ATTACH;FMTTYPE=image/jpeg:https://www.sbid.org/wp-content/uploads/2026/01/Landscape-11.jpg
GEO:41.8885198;-87.6354482
X-APPLE-STRUCTURED-LOCATION;VALUE=URI;X-ADDRESS=The Mart 222 W Merchandise Mart Plaza  Chicago IL IL 60654 United States;X-APPLE-RADIUS=500;X-TITLE=222 W Merchandise Mart Plaza:geo:-87.6354482,41.8885198
END:VEVENT
BEGIN:VEVENT
DTSTART;VALUE=DATE:20260701
DTEND;VALUE=DATE:20260705
DTSTAMP:20260419T132000
CREATED:20260120T131539Z
LAST-MODIFIED:20260120T131539Z
UID:89920-1782864000-1783209599@www.sbid.org
SUMMARY:New Designers
DESCRIPTION:New Designers is an annual London showcase of the UK’s most innovative emerging design talent!\nSince its inception 40 years ago\, New Designers has provided a platform for over 2\,500 graduates every year to present their visionary ideas to industry professionals and the public. In 2026 the event will take place in one week\, with all design disciplines presented side by side\, spanning fashion\, textiles\, furniture\, product design\, illustration and more\, to better represent the interdisciplinary nature of design today. \nSBID Members earn 2 x CPD points for attending! \nRegister to attend
URL:https://www.sbid.org/event/new-designers/
LOCATION:Business Design Centre\, 52 Upper Street\, London\, N1 0QH\, United Kingdom
CATEGORIES:Interior Design,Trade
ATTACH;FMTTYPE=image/jpeg:https://www.sbid.org/wp-content/uploads/2026/01/Landscape-14.jpg
GEO:51.5356255;-0.1058398
X-APPLE-STRUCTURED-LOCATION;VALUE=URI;X-ADDRESS=Business Design Centre 52 Upper Street London N1 0QH United Kingdom;X-APPLE-RADIUS=500;X-TITLE=52 Upper Street:geo:-0.1058398,51.5356255
END:VEVENT
BEGIN:VEVENT
DTSTART;VALUE=DATE:20260912
DTEND;VALUE=DATE:20260921
DTSTAMP:20260419T132000
CREATED:20260120T132850Z
LAST-MODIFIED:20260120T132850Z
UID:89925-1789171200-1789948799@www.sbid.org
SUMMARY:London Design Festival 2026
DESCRIPTION:London Design Festival celebrates and promotes our city as the design capital of the world!\nAs one of the world’s premier design events\, the Festival showcases the diversity and dynamism of the global design community while highlighting London’s pivotal role as a hub of creativity. \nLearn more
URL:https://www.sbid.org/event/london-design-festival-2026/
LOCATION:London Design Festival\, London\, United Kingdom
CATEGORIES:Design Industry,Interior Design
ATTACH;FMTTYPE=image/jpeg:https://www.sbid.org/wp-content/uploads/2024/08/SBID-Landscape-4.jpg
GEO:51.5073509;-0.1277583
END:VEVENT
BEGIN:VEVENT
DTSTART;VALUE=DATE:20260914
DTEND;VALUE=DATE:20260919
DTSTAMP:20260419T132000
CREATED:20260120T135429Z
LAST-MODIFIED:20260120T135429Z
UID:89928-1789344000-1789775999@www.sbid.org
SUMMARY:Focus/26
DESCRIPTION:Autumn’s unmissable interiors event – stay one step ahead at Focus/26 on Design!\nDiscover autumn launches from a raft of leading brands and enjoy an essential programme of events that aims to inspire every visitor. Focus/26 on Design features top design brands that do not exhibit anywhere else in the UK – and this is the first place you’ll be able to see their new launches. \nTaking place in the showrooms\, free Access All Areas events include meet-the-designer sessions and conversations with industry leaders. Expect more than 30 additional interior design brands to pop up in the Design Avenue\, complementing the showrooms and offering even more to see. \nSBID Members earn 2 x CPD points for attending! \nRegister to attend
URL:https://www.sbid.org/event/focus-26/
LOCATION:Design Centre Chelsea Harbour\, Lots Road\, Fulham\, London\, SW10 0XE\, United Kingdom
CATEGORIES:Design Industry,Interior Design,Trade
ATTACH;FMTTYPE=image/jpeg:https://www.sbid.org/wp-content/uploads/2026/01/Landscape-15.jpg
GEO:51.4758933;-0.1830719
X-APPLE-STRUCTURED-LOCATION;VALUE=URI;X-ADDRESS=Design Centre Chelsea Harbour Lots Road Fulham London SW10 0XE United Kingdom;X-APPLE-RADIUS=500;X-TITLE=Lots Road\, Fulham:geo:-0.1830719,51.4758933
END:VEVENT
BEGIN:VEVENT
DTSTART;VALUE=DATE:20260915
DTEND;VALUE=DATE:20260919
DTSTAMP:20260419T132000
CREATED:20260122T105900Z
LAST-MODIFIED:20260122T105900Z
UID:89966-1789430400-1789775999@www.sbid.org
SUMMARY:Downtown Design Riyadh 2026
DESCRIPTION:Downtown Design is the leading fair for contemporary & quality design in the Middle East!\nDowntown Design Riyadh returns for its second edition 15 – 18 September 2026 at JAX District\, a cultural hub set against the historic backdrop of Diriyah. As Saudi Arabia’s first high-quality design fair\, Downtown Design Riyadh continues to connect global design brands with the Kingdom’s creative community\, in strategic partnership with the Architecture and Design Commission of the Ministry of Culture. The fair showcases original\, high-quality design and limited-edition works from both international and regional studios. \nSBID Members earn 2 x CPD points for attending! \nLearn more
URL:https://www.sbid.org/event/downtown-design-riyadh-2026/
LOCATION:JAX District\, PGWP+34G\, Al Diriyah Al Jadidah\, Riyadh\, 13732\, Saudi Arabia
CATEGORIES:Design Industry,Interior Design,Trade
ATTACH;FMTTYPE=image/jpeg:https://www.sbid.org/wp-content/uploads/2025/08/Landscape-3.jpg
END:VEVENT
END:VCALENDAR