BEGIN:VCALENDAR
VERSION:2.0
PRODID:-//Society of British &amp; International Interior Design - ECPv6.9.0//NONSGML v1.0//EN
CALSCALE:GREGORIAN
METHOD:PUBLISH
X-WR-CALNAME:Society of British &amp; International Interior Design
X-ORIGINAL-URL:https://www.sbid.org
X-WR-CALDESC:Events for Society of British &amp; International Interior Design
REFRESH-INTERVAL;VALUE=DURATION:PT1H
X-Robots-Tag:noindex
X-PUBLISHED-TTL:PT1H
BEGIN:VTIMEZONE
TZID:Europe/London
BEGIN:DAYLIGHT
TZOFFSETFROM:+0000
TZOFFSETTO:+0100
TZNAME:BST
DTSTART:20180325T010000
END:DAYLIGHT
BEGIN:STANDARD
TZOFFSETFROM:+0100
TZOFFSETTO:+0000
TZNAME:GMT
DTSTART:20181028T010000
END:STANDARD
BEGIN:DAYLIGHT
TZOFFSETFROM:+0000
TZOFFSETTO:+0100
TZNAME:BST
DTSTART:20190331T010000
END:DAYLIGHT
BEGIN:STANDARD
TZOFFSETFROM:+0100
TZOFFSETTO:+0000
TZNAME:GMT
DTSTART:20191027T010000
END:STANDARD
END:VTIMEZONE
BEGIN:VEVENT
DTSTART;VALUE=DATE:20190205
DTEND;VALUE=DATE:20190210
DTSTAMP:20260423T013208
CREATED:20181214T174104Z
LAST-MODIFIED:20181221T153248Z
UID:37228-1549324800-1549756799@www.sbid.org
SUMMARY:Stockholm Furniture & Light Fair 2019
DESCRIPTION:Stockholm Furniture Fair is Sweden’s largest furniture exhibition specialist. On the last day of the fair private individuals are welcome to inform themselves about the latest products and trends in the furniture industry. The exhibition is rounded off by various seminars\, lectures and awards shows. At the same time as the Stockholm Furniture Fair the Northern Light Fair is held – a trade exhibition for lighting.
URL:https://www.sbid.org/event/stockholm-furniture-light-fair-2019/
LOCATION:Mässvägen 1 Älvsjö\, Mässvägen 1 Älvsjö\, Stockholm\, Sweden
CATEGORIES:Design Industry,Interior Design
ATTACH;FMTTYPE=image/jpeg:https://www.sbid.org/wp-content/uploads/2018/12/Stockholm-Furniture-and-Light-Fair-2019-image.jpg
GEO:59.2767025;18.0111034
X-APPLE-STRUCTURED-LOCATION;VALUE=URI;X-ADDRESS=Mässvägen 1 Älvsjö Mässvägen 1 Älvsjö Stockholm Sweden;X-APPLE-RADIUS=500;X-TITLE=Mässvägen 1 Älvsjö:geo:18.0111034,59.2767025
END:VEVENT
BEGIN:VEVENT
DTSTART;VALUE=DATE:20190205
DTEND;VALUE=DATE:20190208
DTSTAMP:20260423T013208
CREATED:20181214T165542Z
LAST-MODIFIED:20181214T165841Z
UID:37221-1549324800-1549583999@www.sbid.org
SUMMARY:Surface Design Show 2019
DESCRIPTION:For architects and designers the Surface Design Show has become an essential date in the calendar. Billed as the only event in the UK that focuses solely on interior and exterior surfaces\, the Surface Design Show is an opportunity to meet suppliers and experience innovative and exciting materials. \nFor this years exhibition\, Porcelain Tiles Ltd will be showcasing their TAILOR-MADE Collection and demonstrating the versatility of porcelain as an exciting and practical surface material. \nStand 300 in the main hall\, will be outfitted with bespoke creations designed and fabricated using the latest Italian Porcelain. Developed through collaboration with some of our most respected designers\, each piece has been chosen to demonstrate the creative opportunities that our clients now enjoy.
URL:https://www.sbid.org/event/surface-design-show-2019/
LOCATION:Business Design Centre\, 52 Upper Street\, London\, N1 0QH\, United Kingdom
CATEGORIES:Design Industry,Interior Design
ATTACH;FMTTYPE=image/jpeg:https://www.sbid.org/wp-content/uploads/2018/12/SDS-Image.jpg
GEO:51.5356255;-0.1058398
X-APPLE-STRUCTURED-LOCATION;VALUE=URI;X-ADDRESS=Business Design Centre 52 Upper Street London N1 0QH United Kingdom;X-APPLE-RADIUS=500;X-TITLE=52 Upper Street:geo:-0.1058398,51.5356255
END:VEVENT
BEGIN:VEVENT
DTSTART;VALUE=DATE:20190130
DTEND;VALUE=DATE:20190201
DTSTAMP:20260423T013208
CREATED:20181214T155704Z
LAST-MODIFIED:20181221T152828Z
UID:37217-1548806400-1548979199@www.sbid.org
SUMMARY:Architect @Work 2019
DESCRIPTION:Architect@Work host exclusive design events for architects\, interior designers and specifiers taking place at the Old Truman Brewery. The carefully curated trade show aimed at interior and design industry professionals will return to London for its 2019 edition from 30-31 January. Over 100 leading international architectural suppliers will showcase new products and offer the latest innovations in surface solutions\, lighting technology as well as interior and exterior fixtures and fittings.
URL:https://www.sbid.org/event/architect-work-2019/
LOCATION:The Old Truman Brewery\, 91 Brick Lane\, London\, E1 6QL\, United Kingdom
CATEGORIES:Design Industry,Interior Design
ATTACH;FMTTYPE=image/jpeg:https://www.sbid.org/wp-content/uploads/2018/12/Architect@Work-image.jpg
GEO:51.521245;-0.0718398
X-APPLE-STRUCTURED-LOCATION;VALUE=URI;X-ADDRESS=The Old Truman Brewery 91 Brick Lane London E1 6QL United Kingdom;X-APPLE-RADIUS=500;X-TITLE=91 Brick Lane:geo:-0.0718398,51.521245
END:VEVENT
BEGIN:VEVENT
DTSTART;VALUE=DATE:20190120
DTEND;VALUE=DATE:20190124
DTSTAMP:20260423T013208
CREATED:20181214T151639Z
LAST-MODIFIED:20181221T152724Z
UID:37208-1547942400-1548287999@www.sbid.org
SUMMARY:January Furniture Show 2019
DESCRIPTION:Perfectly timed at the start of the year to reveal the newest launches\, the biggest names and the freshest trends at the UK’s largest furniture event\, the January Furniture Show is back on 20-23 January 2019 at the National Exhibition Centre\, Birmingham. \nThe January Furniture Show design events year on year feature big brands and innovative names in everything interiors including lighting\, flooring\, fabrics\, decorative accessories and furniture. With over 450 UK and International exhibitors\, including A List and artisan manufacturers and suppliers\, it is a one stop shop for the newest styles and trends available from UK and international manufacturers and suppliers.
URL:https://www.sbid.org/event/january-furniture-show-2019/
LOCATION:NEC Birmingham\, North Ave\, Birmingham\, B40 1NT\, United Kingdom
CATEGORIES:Design Industry,Interior Design
ATTACH;FMTTYPE=image/jpeg:https://www.sbid.org/wp-content/uploads/2018/12/January-Furniture-Show-2019-Image.jpg
GEO:52.4555022;-1.7148139
X-APPLE-STRUCTURED-LOCATION;VALUE=URI;X-ADDRESS=NEC Birmingham North Ave Birmingham B40 1NT United Kingdom;X-APPLE-RADIUS=500;X-TITLE=North Ave:geo:-1.7148139,52.4555022
END:VEVENT
BEGIN:VEVENT
DTSTART;VALUE=DATE:20190118
DTEND;VALUE=DATE:20190123
DTSTAMP:20260423T013208
CREATED:20181214T135945Z
LAST-MODIFIED:20181214T152404Z
UID:37203-1547769600-1548201599@www.sbid.org
SUMMARY:Maison & Objet 2019
DESCRIPTION:Since 1995\, MAISON&OBJET has inspired generations of interior designers and retailers by maintaining a high level of creativity\, diversity and excellence throughout the years with their inspiring and trend-setting design events. With 2 newly launched and aptly named hubs\, Maison and Objet\, M&O showcase an excess of 3\,000 international brands to over 70\,000 interiors professionals twice a year in Paris.
URL:https://www.sbid.org/event/maison-objet-2019/
LOCATION:Paris Nord Villepinte Exhibition Centre\, CD 40 ZAC Paris Nord 2\, Paris\, 93420 Villepinte
CATEGORIES:Design Industry,Interior Design
ATTACH;FMTTYPE=image/jpeg:https://www.sbid.org/wp-content/uploads/2018/12/Maison-Object-2019-image.jpg
GEO:48.960226;2.542867
X-APPLE-STRUCTURED-LOCATION;VALUE=URI;X-ADDRESS=Paris Nord Villepinte Exhibition Centre CD 40 ZAC Paris Nord 2 Paris 93420 Villepinte;X-APPLE-RADIUS=500;X-TITLE=CD 40 ZAC Paris Nord 2:geo:2.542867,48.960226
END:VEVENT
BEGIN:VEVENT
DTSTART;VALUE=DATE:20190114
DTEND;VALUE=DATE:20190121
DTSTAMP:20260423T013208
CREATED:20181212T175320Z
LAST-MODIFIED:20181217T103251Z
UID:37175-1547424000-1548028799@www.sbid.org
SUMMARY:IMM Cologne  2019
DESCRIPTION:IMM cologne presents the trends that will be shaping the furniture and interiors sector – and the products that are good for business.   At the imm cologne design events you will find a unique variety of interior design ideas for every room\, every style and every requirement – from the basics all the way to designer items and luxury furnishings.
URL:https://www.sbid.org/event/imm-cologne-2019/
LOCATION:Anfahrt Messehochhaus\, Messeplatz 1\, Cologne\, 50679\, Germany
CATEGORIES:Design Industry,Interior Design
ATTACH;FMTTYPE=image/jpeg:https://www.sbid.org/wp-content/uploads/2018/12/IMM-Cologne-2019-image.jpg
GEO:50.9452712;6.9793283
X-APPLE-STRUCTURED-LOCATION;VALUE=URI;X-ADDRESS=Anfahrt Messehochhaus Messeplatz 1 Cologne 50679 Germany;X-APPLE-RADIUS=500;X-TITLE=Messeplatz 1:geo:6.9793283,50.9452712
END:VEVENT
BEGIN:VEVENT
DTSTART;VALUE=DATE:20190114
DTEND;VALUE=DATE:20190115
DTSTAMP:20260423T013208
CREATED:20181211T171713Z
LAST-MODIFIED:20190109T171232Z
UID:37134-1547424000-1547510399@www.sbid.org
SUMMARY:SBID Colour Council at Top Drawer
DESCRIPTION:Colour Trends: How experts interpret colour trends for 2019 \nCarolina Calzada-Oliveira\, Chairman for SBID Colour Council and Co-Founder of Calzada Fox\, invites a range of experts to talk about key colour trends for 2019 on Monday 14th January at 12:30pm – 1:15pm. \nFocusing on different areas such as textiles\, accessories\, home interiors and materials\, the panel will present individual ideas on the up and coming trends for interior design. Experts will include Marianne Shillingford\, Creative Director at Dulux UK; Jessica Green\, Senior Brand Manager at Craig & Rose Paints; Justine Fox\, Co-Founder of Calzada Fox and Sarah Arnett\, Modern Love Studio. \nThe talk will give inspiration on the use of different palettes\, textures and patterns\, as well as taking a closer look at how other industry professionals interpret trends and how colour information can work for designers. \nEmail pr@sbid.org to register your interest in attending. \nI hope you have a lovely Holidays\, I have made some changes on the panel as the lady from Dada couldn’t make it I have search for a person with a textile background and include a lady called Sarah Arnett who does work for companies in fashion like Escada but also doesn’t designs for Tektura which is an SBID member amazing designs her company is called Modern Love Studio\, you can check it online.
URL:https://www.sbid.org/event/sbid-colour-council-top-drawer/
LOCATION:Olympia London\, Hammersmith Road\, Kensington\, London\, W14 8UX\, United Kingdom
CATEGORIES:Design Industry,Interior Design
ATTACH;FMTTYPE=image/jpeg:https://www.sbid.org/wp-content/uploads/2018/12/Top-Drawer-event-2018.jpg
GEO:51.4949867;-0.2116317
X-APPLE-STRUCTURED-LOCATION;VALUE=URI;X-ADDRESS=Olympia London Hammersmith Road Kensington London W14 8UX United Kingdom;X-APPLE-RADIUS=500;X-TITLE=Hammersmith Road\, Kensington:geo:-0.2116317,51.4949867
END:VEVENT
BEGIN:VEVENT
DTSTART;VALUE=DATE:20190113
DTEND;VALUE=DATE:20190116
DTSTAMP:20260423T013208
CREATED:20181214T125832Z
LAST-MODIFIED:20181214T130840Z
UID:37149-1547337600-1547596799@www.sbid.org
SUMMARY:Top Drawer 2019
DESCRIPTION:Presenting thousands of leading and undiscovered UK and international brands\, expertly curated and chosen for their beautiful design\, exceptional quality\, originality and commercial appeal. Top Drawer one of the design events\, it encompasses the dynamic worlds of Home\, Gift\, Fashion and Craft\, providing unique access to this season’s hottest new products giving buyers the ultimate choice for a successful season.
URL:https://www.sbid.org/event/top-drawer-2019/
LOCATION:Olympia London\, Hammersmith Road\, Kensington\, London\, W14 8UX\, United Kingdom
CATEGORIES:Design Industry,Interior Design
ATTACH;FMTTYPE=image/jpeg:https://www.sbid.org/wp-content/uploads/2018/12/top-Drawer-2019-image.jpg
GEO:51.4949867;-0.2116317
X-APPLE-STRUCTURED-LOCATION;VALUE=URI;X-ADDRESS=Olympia London Hammersmith Road Kensington London W14 8UX United Kingdom;X-APPLE-RADIUS=500;X-TITLE=Hammersmith Road\, Kensington:geo:-0.2116317,51.4949867
END:VEVENT
BEGIN:VEVENT
DTSTART;VALUE=DATE:20190111
DTEND;VALUE=DATE:20190115
DTSTAMP:20260423T013208
CREATED:20181211T122121Z
LAST-MODIFIED:20181218T180929Z
UID:37111-1547164800-1547510399@www.sbid.org
SUMMARY:Domotex 2019
DESCRIPTION:The World of Flooring. As one of the top annual design events\, Domotex attracts more than 45\,000 visitors\, making it the leading trade fair for floor coverings. Visitors will find an array of products staged by 1\,350 exhibitors from more than 60 countries. All the market leaders will be there to showcase product developments\, trend-setting designs and the latest materials.
URL:https://www.sbid.org/event/domotex-2019/
LOCATION:Deutsche Messe\, Messegelände\, Hannover\, 30521\, Germany
CATEGORIES:Design Industry,Interior Design
ATTACH;FMTTYPE=image/jpeg:https://www.sbid.org/wp-content/uploads/2018/12/Domotex-for-blog.jpg
GEO:52.3185083;9.8057361
X-APPLE-STRUCTURED-LOCATION;VALUE=URI;X-ADDRESS=Deutsche Messe Messegelände Hannover 30521 Germany;X-APPLE-RADIUS=500;X-TITLE=Messegelände:geo:9.8057361,52.3185083
END:VEVENT
BEGIN:VEVENT
DTSTART;VALUE=DATE:20190108
DTEND;VALUE=DATE:20190112
DTSTAMP:20260423T013208
CREATED:20181211T114148Z
LAST-MODIFIED:20181211T115517Z
UID:37098-1546905600-1547251199@www.sbid.org
SUMMARY:Heimtextil 2019
DESCRIPTION:Heimtextil is one of the biggest and most important international trade fairs and design events for home and contract textiles\, acting as a climate and trend barometer for the whole business year. At this leading event for interior textiles\, design and trends\, international manufacturers\, dealers and designers present their products and innovations to a large audience of trade visitors. Heimtextil features over 2\,900 exhibitors showcasing the very latest textiles and textile designs\, attracting around 69\,000 trade visitors from across the world.
URL:https://www.sbid.org/event/heimtextil-2019/
LOCATION:Messe Frankfurt GmbH\, Ludwig-Erhard-Anlage 1\, Frankfurt\, 60327\, Germany
CATEGORIES:Design Industry,Interior Design
ATTACH;FMTTYPE=image/jpeg:https://www.sbid.org/wp-content/uploads/2018/12/Heimtextil-2019-Image.jpg
GEO:50.1119923;8.6522484
X-APPLE-STRUCTURED-LOCATION;VALUE=URI;X-ADDRESS=Messe Frankfurt GmbH Ludwig-Erhard-Anlage 1 Frankfurt 60327 Germany;X-APPLE-RADIUS=500;X-TITLE=Ludwig-Erhard-Anlage 1:geo:8.6522484,50.1119923
END:VEVENT
BEGIN:VEVENT
DTSTART;VALUE=DATE:20180906
DTEND;VALUE=DATE:20180917
DTSTAMP:20260423T013208
CREATED:20180809T161212Z
LAST-MODIFIED:20180809T161212Z
UID:34188-1536192000-1537142399@www.sbid.org
SUMMARY:Helsinki Design Week 2018
DESCRIPTION:Helsinki Design Week is a multidisciplinary design festival held annually in September\, that presents design from a number of fields as well as fashion\, architecture and urban culture. Helsinki Design Week 2018 is the largest design festival in the Nordic countries. \nHelsinki Design Week presents the new faces and phenomena of design\, promotes design internationally in collaboration with various partners and offers city citizens through design a forum to participate in developing and discussing the city and its culture. The festival programme contains around 200 events every year\, and includes both events targeted for professionals and the general public. In 2017\, the festival boasted about 161\,000 visitors. \nThe festival programme takes place in a variety of event spaces spread throughout the city: from museums to markets\, from seminar halls to secret shops. The festival also actively seeks new spaces and ways to explore the city. \n 
URL:https://www.sbid.org/event/helsinki-design-week-2018/
LOCATION:Helsinky\, Helsinki City Hall\, Helsinky\, Finland
CATEGORIES:Design Industry,Interior Design
ATTACH;FMTTYPE=image/jpeg:https://www.sbid.org/wp-content/uploads/2018/08/Helsinki-Design-Week-Logo.jpg
GEO:60.1680911;24.9529338
X-APPLE-STRUCTURED-LOCATION;VALUE=URI;X-ADDRESS=Helsinky Helsinki City Hall Helsinky Finland;X-APPLE-RADIUS=500;X-TITLE=Helsinki City Hall:geo:24.9529338,60.1680911
END:VEVENT
BEGIN:VEVENT
DTSTART;VALUE=DATE:20180704
DTEND;VALUE=DATE:20180707
DTSTAMP:20260423T013208
CREATED:20180719T154003Z
LAST-MODIFIED:20180719T154926Z
UID:33622-1530662400-1530921599@www.sbid.org
SUMMARY:Design Tokyo 2018 Design Products Fair
DESCRIPTION:Design Tokyo is one of Japan’s leading design events and trade show for “marketable” design products\, focusing on design products with a clear native market. All items showcased must pass a screening process by a panel of leading designers and stylists in order to be displayed at the fair; for this reason\, Design Tokyo has become a popular choice for key buyers looking for fresh Japanese trends. The show attracts key buyers coming in flocks to find new vendors and see what’s fresh in the design and lifestyle fields\, providing the opportunity for new products to enter the design conscious market of Japan.
URL:https://www.sbid.org/event/design-tokyo-2018/
LOCATION:Tokyo Big Sight Inc\, 3-11-1 Ariake\, Koto-ku\, Tokyo\, 135-0063\, Japan
CATEGORIES:Design Industry
ATTACH;FMTTYPE=image/jpeg:https://www.sbid.org/wp-content/uploads/2018/07/Design-Tokyo-thumbnail.jpg
GEO:35.6296259;139.7944847
X-APPLE-STRUCTURED-LOCATION;VALUE=URI;X-ADDRESS=Tokyo Big Sight Inc 3-11-1 Ariake Koto-ku Tokyo 135-0063 Japan;X-APPLE-RADIUS=500;X-TITLE=3-11-1 Ariake\, Koto-ku:geo:139.7944847,35.6296259
END:VEVENT
BEGIN:VEVENT
DTSTART;VALUE=DATE:20180704
DTEND;VALUE=DATE:20180708
DTSTAMP:20260423T013208
CREATED:20180718T163620Z
LAST-MODIFIED:20180719T142359Z
UID:33585-1530662400-1531007999@www.sbid.org
SUMMARY:New Designers 2018 Part 2
DESCRIPTION:New Designers is of the industry’s most integral design events which gathers more than 3\,000 of the brightest and most radical new creative minds under one roof to launch the next generation of thinkers\, makers and disruptors onto the UK design scene. The exhibition is a two-week celebration of visionary design that sees students of 200+ creative courses unveiling never-before-seen work to thousands of industry professionals and design lovers. \n \nNew Designers has been championing the work of young designers for 33 years now. Its long-standing reputation attracts a high-profile audience of nearly 20\,000\, all hoping to establish relationships with the next generation of leading graduate designers. There are two halves to the event\, with the first four days focused on Textiles & Fashion\, Costume Design\, Jewellery & Precious Metalwork\, Ceramics & Glass and Contemporary Design Crafts. The second four days look to Furniture\, Product & Industrial Design\, Spatial Design & Interiors\, Graphic Design\, Illustration & Animation and Motion & Digital Arts.
URL:https://www.sbid.org/event/new-designers-2018-part-2/
CATEGORIES:Design Industry
ATTACH;FMTTYPE=image/jpeg:https://www.sbid.org/wp-content/uploads/2018/07/New-Designers-thumbnail.jpg
END:VEVENT
BEGIN:VEVENT
DTSTART;TZID=Europe/London:20180627T080000
DTEND;TZID=Europe/London:20180630T170000
DTSTAMP:20260423T013208
CREATED:20180719T141331Z
LAST-MODIFIED:20180719T142341Z
UID:33607-1530086400-1530378000@www.sbid.org
SUMMARY:New Designers 2018 Part 1
DESCRIPTION:New Designers is of the industry’s most integral design events which gathers more than 3\,000 of the brightest and most radical new creative minds under one roof to launch the next generation of thinkers\, makers and disruptors onto the UK design scene. The exhibition is a two-week celebration of visionary design that sees students of 200+ creative courses unveiling never-before-seen work to thousands of industry professionals and design lovers. \n \nNew Designers has been championing the work of young designers for 33 years now. Its long-standing reputation attracts a high-profile audience of nearly 20\,000\, all hoping to establish relationships with the next generation of leading graduate designers. There are two halves to the event\, with the first four days focused on Textiles & Fashion\, Costume Design\, Jewellery & Precious Metalwork\, Ceramics & Glass and Contemporary Design Crafts. The second four days look to Furniture\, Product & Industrial Design\, Spatial Design & Interiors\, Graphic Design\, Illustration & Animation and Motion & Digital Arts.
URL:https://www.sbid.org/event/new-designers-2018-part-1/
CATEGORIES:Design Industry
ATTACH;FMTTYPE=image/jpeg:https://www.sbid.org/wp-content/uploads/2018/07/New-Designers-thumbnail.jpg
END:VEVENT
END:VCALENDAR